BEGIN:VCALENDAR
VERSION:2.0
PRODID:-//The Pines Times - ECPv6.15.20//NONSGML v1.0//EN
CALSCALE:GREGORIAN
METHOD:PUBLISH
X-ORIGINAL-URL:https://thepinestimes.com
X-WR-CALDESC:Events for The Pines Times
REFRESH-INTERVAL;VALUE=DURATION:PT1H
X-Robots-Tag:noindex
X-PUBLISHED-TTL:PT1H
BEGIN:VTIMEZONE
TZID:America/New_York
BEGIN:DAYLIGHT
TZOFFSETFROM:-0500
TZOFFSETTO:-0400
TZNAME:EDT
DTSTART:20240310T070000
END:DAYLIGHT
BEGIN:STANDARD
TZOFFSETFROM:-0400
TZOFFSETTO:-0500
TZNAME:EST
DTSTART:20241103T060000
END:STANDARD
BEGIN:DAYLIGHT
TZOFFSETFROM:-0500
TZOFFSETTO:-0400
TZNAME:EDT
DTSTART:20250309T070000
END:DAYLIGHT
BEGIN:STANDARD
TZOFFSETFROM:-0400
TZOFFSETTO:-0500
TZNAME:EST
DTSTART:20251102T060000
END:STANDARD
BEGIN:DAYLIGHT
TZOFFSETFROM:-0500
TZOFFSETTO:-0400
TZNAME:EDT
DTSTART:20260308T070000
END:DAYLIGHT
BEGIN:STANDARD
TZOFFSETFROM:-0400
TZOFFSETTO:-0500
TZNAME:EST
DTSTART:20261101T060000
END:STANDARD
BEGIN:DAYLIGHT
TZOFFSETFROM:-0500
TZOFFSETTO:-0400
TZNAME:EDT
DTSTART:20270314T070000
END:DAYLIGHT
BEGIN:STANDARD
TZOFFSETFROM:-0400
TZOFFSETTO:-0500
TZNAME:EST
DTSTART:20271107T060000
END:STANDARD
END:VTIMEZONE
BEGIN:VEVENT
DTSTART;TZID=America/New_York:20260418T193000
DTEND;TZID=America/New_York:20260418T210000
DTSTAMP:20260422T160334
CREATED:20260407T175838Z
LAST-MODIFIED:20260407T175838Z
UID:10086633-1776540600-1776546000@thepinestimes.com
SUMMARY:UNCP Musical Theatre Program: "Urinetown The Musical"
DESCRIPTION:The UNCP Musical Theatre Program presents “Urinetown The Musical” at the Givens Performing Arts Center with free admission for all attendees. This satirical production is set in a dystopian future where a severe water shortage allows a mega-corporation to monopolize public toilets and charge high fees until a rebellion led by Bobby Strong sparks a revolutionary showdown against corporate greed. The show features music and lyrics by Mark Hollmann\, book and lyrics by Greg Kotis\, and orchestration adapted and arranged by Ian Weingerger. For accessibility requests or alternative formats\, please contact the Accessibility Resource Center at 910-521-6695. \nApril 15th at 7:30PM\nApril 16th at Noon\nApril 17th at 7:30PM\nApril 18th at 2PM & 7:30PM
URL:https://thepinestimes.com/event/uncp-musical-theatre-program-urinetown-the-musical/2026-04-18/2/
LOCATION:Givens Performing Arts Center\, 1 University Rd\, Pembroke\, NC\, 28372\, United States
CATEGORIES:Adults,Family,Live Entertainment,Live Theater,Music,Out of Town,Pembroke
ATTACH;FMTTYPE=image/jpeg:https://thepinestimes.com/wp-content/uploads/Pembroke-Feature.jpg
END:VEVENT
BEGIN:VEVENT
DTSTART;TZID=America/New_York:20260418T140000
DTEND;TZID=America/New_York:20260418T163000
DTSTAMP:20260422T160334
CREATED:20260407T175838Z
LAST-MODIFIED:20260407T175838Z
UID:10086632-1776520800-1776529800@thepinestimes.com
SUMMARY:UNCP Musical Theatre Program: "Urinetown The Musical"
DESCRIPTION:The UNCP Musical Theatre Program presents “Urinetown The Musical” at the Givens Performing Arts Center with free admission for all attendees. This satirical production is set in a dystopian future where a severe water shortage allows a mega-corporation to monopolize public toilets and charge high fees until a rebellion led by Bobby Strong sparks a revolutionary showdown against corporate greed. The show features music and lyrics by Mark Hollmann\, book and lyrics by Greg Kotis\, and orchestration adapted and arranged by Ian Weingerger. For accessibility requests or alternative formats\, please contact the Accessibility Resource Center at 910-521-6695. \nApril 15th at 7:30PM\nApril 16th at Noon\nApril 17th at 7:30PM\nApril 18th at 2PM & 7:30PM
URL:https://thepinestimes.com/event/uncp-musical-theatre-program-urinetown-the-musical/2026-04-18/1/
LOCATION:Givens Performing Arts Center\, 1 University Rd\, Pembroke\, NC\, 28372\, United States
CATEGORIES:Adults,Family,Live Entertainment,Live Theater,Music,Out of Town,Pembroke
ATTACH;FMTTYPE=image/jpeg:https://thepinestimes.com/wp-content/uploads/Pembroke-Feature.jpg
END:VEVENT
BEGIN:VEVENT
DTSTART;TZID=America/New_York:20260417T193000
DTEND;TZID=America/New_York:20260417T210000
DTSTAMP:20260422T160334
CREATED:20260407T175838Z
LAST-MODIFIED:20260407T175838Z
UID:10086631-1776454200-1776459600@thepinestimes.com
SUMMARY:UNCP Musical Theatre Program: "Urinetown The Musical"
DESCRIPTION:The UNCP Musical Theatre Program presents “Urinetown The Musical” at the Givens Performing Arts Center with free admission for all attendees. This satirical production is set in a dystopian future where a severe water shortage allows a mega-corporation to monopolize public toilets and charge high fees until a rebellion led by Bobby Strong sparks a revolutionary showdown against corporate greed. The show features music and lyrics by Mark Hollmann\, book and lyrics by Greg Kotis\, and orchestration adapted and arranged by Ian Weingerger. For accessibility requests or alternative formats\, please contact the Accessibility Resource Center at 910-521-6695. \nApril 15th at 7:30PM\nApril 16th at Noon\nApril 17th at 7:30PM\nApril 18th at 2PM & 7:30PM
URL:https://thepinestimes.com/event/uncp-musical-theatre-program-urinetown-the-musical/2026-04-17/
LOCATION:Givens Performing Arts Center\, 1 University Rd\, Pembroke\, NC\, 28372\, United States
CATEGORIES:Adults,Family,Live Entertainment,Live Theater,Music,Out of Town,Pembroke
ATTACH;FMTTYPE=image/jpeg:https://thepinestimes.com/wp-content/uploads/Pembroke-Feature.jpg
END:VEVENT
BEGIN:VEVENT
DTSTART;TZID=America/New_York:20260416T120000
DTEND;TZID=America/New_York:20260416T140000
DTSTAMP:20260422T160334
CREATED:20260407T175838Z
LAST-MODIFIED:20260407T175838Z
UID:10086630-1776340800-1776348000@thepinestimes.com
SUMMARY:UNCP Musical Theatre Program: "Urinetown The Musical"
DESCRIPTION:The UNCP Musical Theatre Program presents “Urinetown The Musical” at the Givens Performing Arts Center with free admission for all attendees. This satirical production is set in a dystopian future where a severe water shortage allows a mega-corporation to monopolize public toilets and charge high fees until a rebellion led by Bobby Strong sparks a revolutionary showdown against corporate greed. The show features music and lyrics by Mark Hollmann\, book and lyrics by Greg Kotis\, and orchestration adapted and arranged by Ian Weingerger. For accessibility requests or alternative formats\, please contact the Accessibility Resource Center at 910-521-6695. \nApril 15th at 7:30PM\nApril 16th at Noon\nApril 17th at 7:30PM\nApril 18th at 2PM & 7:30PM
URL:https://thepinestimes.com/event/uncp-musical-theatre-program-urinetown-the-musical/2026-04-16/
LOCATION:Givens Performing Arts Center\, 1 University Rd\, Pembroke\, NC\, 28372\, United States
CATEGORIES:Adults,Family,Live Entertainment,Live Theater,Music,Out of Town,Pembroke
ATTACH;FMTTYPE=image/jpeg:https://thepinestimes.com/wp-content/uploads/Pembroke-Feature.jpg
END:VEVENT
BEGIN:VEVENT
DTSTART;TZID=America/New_York:20260415T193000
DTEND;TZID=America/New_York:20260415T210000
DTSTAMP:20260422T160334
CREATED:20260407T175838Z
LAST-MODIFIED:20260407T175838Z
UID:10086629-1776281400-1776286800@thepinestimes.com
SUMMARY:UNCP Musical Theatre Program: "Urinetown The Musical"
DESCRIPTION:The UNCP Musical Theatre Program presents “Urinetown The Musical” at the Givens Performing Arts Center with free admission for all attendees. This satirical production is set in a dystopian future where a severe water shortage allows a mega-corporation to monopolize public toilets and charge high fees until a rebellion led by Bobby Strong sparks a revolutionary showdown against corporate greed. The show features music and lyrics by Mark Hollmann\, book and lyrics by Greg Kotis\, and orchestration adapted and arranged by Ian Weingerger. For accessibility requests or alternative formats\, please contact the Accessibility Resource Center at 910-521-6695. \nApril 15th at 7:30PM\nApril 16th at Noon\nApril 17th at 7:30PM\nApril 18th at 2PM & 7:30PM
URL:https://thepinestimes.com/event/uncp-musical-theatre-program-urinetown-the-musical/2026-04-15/
LOCATION:Givens Performing Arts Center\, 1 University Rd\, Pembroke\, NC\, 28372\, United States
CATEGORIES:Adults,Family,Live Entertainment,Live Theater,Music,Out of Town,Pembroke
ATTACH;FMTTYPE=image/jpeg:https://thepinestimes.com/wp-content/uploads/Pembroke-Feature.jpg
END:VEVENT
BEGIN:VEVENT
DTSTART;TZID=America/New_York:20260328T163000
DTEND;TZID=America/New_York:20260328T163000
DTSTAMP:20260422T160334
CREATED:20260327T194741Z
LAST-MODIFIED:20260327T203213Z
UID:10085083-1774715400-1774715400@thepinestimes.com
SUMMARY:The 17th Annual UNCP Honor Jazz Festival
DESCRIPTION:The 17th Annual UNCP Honor Jazz Festival is Saturday\, March 28th at 4:30PM! Performing is trombone artists Jennifer Wharton and John Fedchock as the featured guest performers! Please join over 100 talented musicians from 20 regional high schools\, and the UNCP Jazz Ensemble for a performance at the Givens Performing Arts Center (GPAC)! Tickets are available by calling the GPAC Box Office at 910-521-6361.
URL:https://thepinestimes.com/event/the-17th-annual-uncp-honor-jazz-festival/
LOCATION:Givens Performing Arts Center\, 1 University Rd\, Pembroke\, NC\, 28372\, United States
CATEGORIES:Adults,Concert,Fair/Festival,Family,Music,Pembroke
ATTACH;FMTTYPE=image/jpeg:https://thepinestimes.com/wp-content/uploads/GPAC-Feature-1.jpg
ORGANIZER;CN="UNCP Department of Music":MAILTO:music@uncp.edu
END:VEVENT
BEGIN:VEVENT
DTSTART;TZID=America/New_York:20260315T150000
DTEND;TZID=America/New_York:20260315T170000
DTSTAMP:20260422T160334
CREATED:20250903T132858Z
LAST-MODIFIED:20250903T132858Z
UID:10062731-1773586800-1773594000@thepinestimes.com
SUMMARY:Mutts Gone Nuts
DESCRIPTION:Join at Givens Performing Arts Center for “Mutts Gone Nuts” on Sunday\, March 15th | 3pm-5pm! \nYou won’t believe what they can do! “Mutts Gone Nuts” is a family-friendly performance featuring a group of eight rescued dogs performing a variety of world class stunts and tricks. The show combines canine athleticism with humor and spectacle\, leaving audiences entertained and appreciative of the dogs’ talents and the heartwarming stories behind their rescues. The main concept is a mischievous group of mutts who compete with their human trainers in a fun and engaging show. \nCall 910-521-6361 or email gpac@uncp.edu for questions. Tickets start at $15. For full details and online ticket purchases\, follow the event website link provided below. \n 
URL:https://thepinestimes.com/event/mutts-gone-nuts/
LOCATION:Givens Performing Arts Center\, 1 University Rd\, Pembroke\, NC\, 28372\, United States
CATEGORIES:Children,Family,Live Entertainment,Out of Town,Pembroke,Piney's Kids,Piney's Tiny's,Teen Activities,Young Adults
ATTACH;FMTTYPE=image/jpeg:https://thepinestimes.com/wp-content/uploads/GPAC-Feature-1.jpg
END:VEVENT
BEGIN:VEVENT
DTSTART;TZID=America/New_York:20250424T193000
DTEND;TZID=America/New_York:20250424T193000
DTSTAMP:20260422T160334
CREATED:20250413T152115Z
LAST-MODIFIED:20250413T152115Z
UID:10056611-1745523000-1745523000@thepinestimes.com
SUMMARY:UNC Pembroke Department of Music: "Alice by Heart"
DESCRIPTION:Step into a world of whimsy and imagination as the UNC Pembroke Department of Music presents the spring production of Alice by Heart\, a musical inspired by Alice’s Adventures in Wonderland by Lewis Carroll. This moving and imaginative production features a book by Steven Sater and Jessie Nelson\, music by Duncan Sheik and lyrics by Steven Sater. Performances will be held at the Givens Performing Arts Center on Tuesday\, April 22nd at 12:00pm and on both Wednesday\, April 23rd & Thursday\, April 24th at 7:30pm. This production is presented through special arrangement with Music Theatre International. The show is free and open to the public. Reservations are not required. For information\, call 910-521-6361.
URL:https://thepinestimes.com/event/unc-pembroke-department-of-music-alice-by-heart/2025-04-24/
LOCATION:Givens Performing Arts Center\, 1 University Rd\, Pembroke\, NC\, 28372\, United States
CATEGORIES:Adults,Children,Family,Hobby/Enthusiast,Live Entertainment,Live Music,Live Theater,Out of Town,Pembroke,School,Social
ATTACH;FMTTYPE=image/jpeg:https://thepinestimes.com/wp-content/uploads/Pembroke-Feature.jpg
END:VEVENT
BEGIN:VEVENT
DTSTART;TZID=America/New_York:20250423T193000
DTEND;TZID=America/New_York:20250423T193000
DTSTAMP:20260422T160334
CREATED:20250413T152115Z
LAST-MODIFIED:20250413T152115Z
UID:10056610-1745436600-1745436600@thepinestimes.com
SUMMARY:UNC Pembroke Department of Music: "Alice by Heart"
DESCRIPTION:Step into a world of whimsy and imagination as the UNC Pembroke Department of Music presents the spring production of Alice by Heart\, a musical inspired by Alice’s Adventures in Wonderland by Lewis Carroll. This moving and imaginative production features a book by Steven Sater and Jessie Nelson\, music by Duncan Sheik and lyrics by Steven Sater. Performances will be held at the Givens Performing Arts Center on Tuesday\, April 22nd at 12:00pm and on both Wednesday\, April 23rd & Thursday\, April 24th at 7:30pm. This production is presented through special arrangement with Music Theatre International. The show is free and open to the public. Reservations are not required. For information\, call 910-521-6361.
URL:https://thepinestimes.com/event/unc-pembroke-department-of-music-alice-by-heart/2025-04-23/
LOCATION:Givens Performing Arts Center\, 1 University Rd\, Pembroke\, NC\, 28372\, United States
CATEGORIES:Adults,Children,Family,Hobby/Enthusiast,Live Entertainment,Live Music,Live Theater,Out of Town,Pembroke,School,Social
ATTACH;FMTTYPE=image/jpeg:https://thepinestimes.com/wp-content/uploads/Pembroke-Feature.jpg
END:VEVENT
BEGIN:VEVENT
DTSTART;TZID=America/New_York:20250422T120000
DTEND;TZID=America/New_York:20250422T120000
DTSTAMP:20260422T160334
CREATED:20250413T152115Z
LAST-MODIFIED:20250413T152115Z
UID:10056609-1745323200-1745323200@thepinestimes.com
SUMMARY:UNC Pembroke Department of Music: "Alice by Heart"
DESCRIPTION:Step into a world of whimsy and imagination as the UNC Pembroke Department of Music presents the spring production of Alice by Heart\, a musical inspired by Alice’s Adventures in Wonderland by Lewis Carroll. This moving and imaginative production features a book by Steven Sater and Jessie Nelson\, music by Duncan Sheik and lyrics by Steven Sater. Performances will be held at the Givens Performing Arts Center on Tuesday\, April 22nd at 12:00pm and on both Wednesday\, April 23rd & Thursday\, April 24th at 7:30pm. This production is presented through special arrangement with Music Theatre International. The show is free and open to the public. Reservations are not required. For information\, call 910-521-6361.
URL:https://thepinestimes.com/event/unc-pembroke-department-of-music-alice-by-heart/2025-04-22/
LOCATION:Givens Performing Arts Center\, 1 University Rd\, Pembroke\, NC\, 28372\, United States
CATEGORIES:Adults,Children,Family,Hobby/Enthusiast,Live Entertainment,Live Music,Live Theater,Out of Town,Pembroke,School,Social
ATTACH;FMTTYPE=image/jpeg:https://thepinestimes.com/wp-content/uploads/Pembroke-Feature.jpg
END:VEVENT
BEGIN:VEVENT
DTSTART;TZID=America/New_York:20250413T193000
DTEND;TZID=America/New_York:20250413T193000
DTSTAMP:20260422T160334
CREATED:20250410T131821Z
LAST-MODIFIED:20250410T131821Z
UID:10056383-1744572600-1744572600@thepinestimes.com
SUMMARY:UNCP University Theatre: "Snowangel"
DESCRIPTION:The UNCP University Theatre program presents “Snowangel” by Lewis John Carlino\, directed by Dr. Jonathan Drahos. The show runs April 9th-12th at 7:30pm in the GPAC Black Box studio theatre located on the third floor of GPAC (use back entrance of GPAC). An accessible performance will be held in UNCP’s Moore Hall Auditorium at 7:30pm on April 13th. This is a free show. Seats are limited. For information\, call 910-521-6361.
URL:https://thepinestimes.com/event/uncp-university-theatre-snowangel/2025-04-13/
LOCATION:Givens Performing Arts Center\, 1 University Rd\, Pembroke\, NC\, 28372\, United States
CATEGORIES:Adults,Family,Hobby/Enthusiast,Live Entertainment,Live Theater,Out of Town,Pembroke,School,Senior,Social
ATTACH;FMTTYPE=image/jpeg:https://thepinestimes.com/wp-content/uploads/UNCPUniversityTheatreFeature.jpg
END:VEVENT
BEGIN:VEVENT
DTSTART;TZID=America/New_York:20250412T193000
DTEND;TZID=America/New_York:20250412T193000
DTSTAMP:20260422T160334
CREATED:20250410T131821Z
LAST-MODIFIED:20250410T131821Z
UID:10056382-1744486200-1744486200@thepinestimes.com
SUMMARY:UNCP University Theatre: "Snowangel"
DESCRIPTION:The UNCP University Theatre program presents “Snowangel” by Lewis John Carlino\, directed by Dr. Jonathan Drahos. The show runs April 9th-12th at 7:30pm in the GPAC Black Box studio theatre located on the third floor of GPAC (use back entrance of GPAC). An accessible performance will be held in UNCP’s Moore Hall Auditorium at 7:30pm on April 13th. This is a free show. Seats are limited. For information\, call 910-521-6361.
URL:https://thepinestimes.com/event/uncp-university-theatre-snowangel/2025-04-12/
LOCATION:Givens Performing Arts Center\, 1 University Rd\, Pembroke\, NC\, 28372\, United States
CATEGORIES:Adults,Family,Hobby/Enthusiast,Live Entertainment,Live Theater,Out of Town,Pembroke,School,Senior,Social
ATTACH;FMTTYPE=image/jpeg:https://thepinestimes.com/wp-content/uploads/UNCPUniversityTheatreFeature.jpg
END:VEVENT
BEGIN:VEVENT
DTSTART;TZID=America/New_York:20250411T193000
DTEND;TZID=America/New_York:20250411T193000
DTSTAMP:20260422T160334
CREATED:20250410T131821Z
LAST-MODIFIED:20250410T131821Z
UID:10056381-1744399800-1744399800@thepinestimes.com
SUMMARY:UNCP University Theatre: "Snowangel"
DESCRIPTION:The UNCP University Theatre program presents “Snowangel” by Lewis John Carlino\, directed by Dr. Jonathan Drahos. The show runs April 9th-12th at 7:30pm in the GPAC Black Box studio theatre located on the third floor of GPAC (use back entrance of GPAC). An accessible performance will be held in UNCP’s Moore Hall Auditorium at 7:30pm on April 13th. This is a free show. Seats are limited. For information\, call 910-521-6361.
URL:https://thepinestimes.com/event/uncp-university-theatre-snowangel/2025-04-11/
LOCATION:Givens Performing Arts Center\, 1 University Rd\, Pembroke\, NC\, 28372\, United States
CATEGORIES:Adults,Family,Hobby/Enthusiast,Live Entertainment,Live Theater,Out of Town,Pembroke,School,Senior,Social
ATTACH;FMTTYPE=image/jpeg:https://thepinestimes.com/wp-content/uploads/UNCPUniversityTheatreFeature.jpg
END:VEVENT
BEGIN:VEVENT
DTSTART;TZID=America/New_York:20250410T193000
DTEND;TZID=America/New_York:20250410T193000
DTSTAMP:20260422T160334
CREATED:20250410T131821Z
LAST-MODIFIED:20250410T131821Z
UID:10056380-1744313400-1744313400@thepinestimes.com
SUMMARY:UNCP University Theatre: "Snowangel"
DESCRIPTION:The UNCP University Theatre program presents “Snowangel” by Lewis John Carlino\, directed by Dr. Jonathan Drahos. The show runs April 9th-12th at 7:30pm in the GPAC Black Box studio theatre located on the third floor of GPAC (use back entrance of GPAC). An accessible performance will be held in UNCP’s Moore Hall Auditorium at 7:30pm on April 13th. This is a free show. Seats are limited. For information\, call 910-521-6361.
URL:https://thepinestimes.com/event/uncp-university-theatre-snowangel/2025-04-10/
LOCATION:Givens Performing Arts Center\, 1 University Rd\, Pembroke\, NC\, 28372\, United States
CATEGORIES:Adults,Family,Hobby/Enthusiast,Live Entertainment,Live Theater,Out of Town,Pembroke,School,Senior,Social
ATTACH;FMTTYPE=image/jpeg:https://thepinestimes.com/wp-content/uploads/UNCPUniversityTheatreFeature.jpg
END:VEVENT
END:VCALENDAR