BEGIN:VCALENDAR
VERSION:2.0
PRODID:-//The Pines Times - ECPv6.15.20//NONSGML v1.0//EN
CALSCALE:GREGORIAN
METHOD:PUBLISH
X-WR-CALNAME:The Pines Times
X-ORIGINAL-URL:https://thepinestimes.com
X-WR-CALDESC:Events for The Pines Times
REFRESH-INTERVAL;VALUE=DURATION:PT1H
X-Robots-Tag:noindex
X-PUBLISHED-TTL:PT1H
BEGIN:VTIMEZONE
TZID:America/New_York
BEGIN:DAYLIGHT
TZOFFSETFROM:-0500
TZOFFSETTO:-0400
TZNAME:EDT
DTSTART:20250309T070000
END:DAYLIGHT
BEGIN:STANDARD
TZOFFSETFROM:-0400
TZOFFSETTO:-0500
TZNAME:EST
DTSTART:20251102T060000
END:STANDARD
BEGIN:DAYLIGHT
TZOFFSETFROM:-0500
TZOFFSETTO:-0400
TZNAME:EDT
DTSTART:20260308T070000
END:DAYLIGHT
BEGIN:STANDARD
TZOFFSETFROM:-0400
TZOFFSETTO:-0500
TZNAME:EST
DTSTART:20261101T060000
END:STANDARD
BEGIN:DAYLIGHT
TZOFFSETFROM:-0500
TZOFFSETTO:-0400
TZNAME:EDT
DTSTART:20270314T070000
END:DAYLIGHT
BEGIN:STANDARD
TZOFFSETFROM:-0400
TZOFFSETTO:-0500
TZNAME:EST
DTSTART:20271107T060000
END:STANDARD
END:VTIMEZONE
BEGIN:VEVENT
DTSTART;TZID=America/New_York:20260501T180000
DTEND;TZID=America/New_York:20260501T190000
DTSTAMP:20260421T172104
CREATED:20260412T144720Z
LAST-MODIFIED:20260412T144720Z
UID:10086791-1777658400-1777662000@thepinestimes.com
SUMMARY:Free Inline Hockey Clinic (Ages 5-18)
DESCRIPTION:The Pinehurst Parks and Recreation Department is offering Free Inline Hockey Clinics for boys and girls ages 5-18 at the Inline Hockey Rink in Rassie Wicker Park. These sessions are designed for beginners and advanced beginners who are confident skaters looking to work on specific skills to improve their game with help from adult pick-up league volunteers. \nThe clinics will take place on Friday evenings on May 1st\, 8th\, 15th\, and 29th\, from 6:00PM-7:00PM. Participants are required to bring their own helmet\, skates\, and stick\, and are strongly encouraged to wear a mouth guard and additional protective gear such as gloves and various pads. For more information\, interested families can email Judith Lawhon at jlawhon@vopnc.org. \n 
URL:https://thepinestimes.com/event/free-inline-hockey-clinic-ages-5-18/2026-05-01/
LOCATION:Inline Hockey Rink-Rassie Wicker Park\, 10 Rassie Wicker Dr.\, Pinehurst\, 28374\, United States
CATEGORIES:Children,Classes/Workshops,Hobby/Enthusiast,Pinehurst Events,Piney's Kids,Social,Sports,Teen Activities
ATTACH;FMTTYPE=image/jpeg:https://thepinestimes.com/wp-content/uploads/VillageOfPinehurstFeature.jpg
END:VEVENT
BEGIN:VEVENT
DTSTART;TZID=America/New_York:20260508T180000
DTEND;TZID=America/New_York:20260508T190000
DTSTAMP:20260421T172104
CREATED:20260412T144720Z
LAST-MODIFIED:20260412T144720Z
UID:10086792-1778263200-1778266800@thepinestimes.com
SUMMARY:Free Inline Hockey Clinic (Ages 5-18)
DESCRIPTION:The Pinehurst Parks and Recreation Department is offering Free Inline Hockey Clinics for boys and girls ages 5-18 at the Inline Hockey Rink in Rassie Wicker Park. These sessions are designed for beginners and advanced beginners who are confident skaters looking to work on specific skills to improve their game with help from adult pick-up league volunteers. \nThe clinics will take place on Friday evenings on May 1st\, 8th\, 15th\, and 29th\, from 6:00PM-7:00PM. Participants are required to bring their own helmet\, skates\, and stick\, and are strongly encouraged to wear a mouth guard and additional protective gear such as gloves and various pads. For more information\, interested families can email Judith Lawhon at jlawhon@vopnc.org. \n 
URL:https://thepinestimes.com/event/free-inline-hockey-clinic-ages-5-18/2026-05-08/
LOCATION:Inline Hockey Rink-Rassie Wicker Park\, 10 Rassie Wicker Dr.\, Pinehurst\, 28374\, United States
CATEGORIES:Children,Classes/Workshops,Hobby/Enthusiast,Pinehurst Events,Piney's Kids,Social,Sports,Teen Activities
ATTACH;FMTTYPE=image/jpeg:https://thepinestimes.com/wp-content/uploads/VillageOfPinehurstFeature.jpg
END:VEVENT
BEGIN:VEVENT
DTSTART;TZID=America/New_York:20260515T180000
DTEND;TZID=America/New_York:20260515T190000
DTSTAMP:20260421T172104
CREATED:20260412T144720Z
LAST-MODIFIED:20260412T144720Z
UID:10086793-1778868000-1778871600@thepinestimes.com
SUMMARY:Free Inline Hockey Clinic (Ages 5-18)
DESCRIPTION:The Pinehurst Parks and Recreation Department is offering Free Inline Hockey Clinics for boys and girls ages 5-18 at the Inline Hockey Rink in Rassie Wicker Park. These sessions are designed for beginners and advanced beginners who are confident skaters looking to work on specific skills to improve their game with help from adult pick-up league volunteers. \nThe clinics will take place on Friday evenings on May 1st\, 8th\, 15th\, and 29th\, from 6:00PM-7:00PM. Participants are required to bring their own helmet\, skates\, and stick\, and are strongly encouraged to wear a mouth guard and additional protective gear such as gloves and various pads. For more information\, interested families can email Judith Lawhon at jlawhon@vopnc.org. \n 
URL:https://thepinestimes.com/event/free-inline-hockey-clinic-ages-5-18/2026-05-15/
LOCATION:Inline Hockey Rink-Rassie Wicker Park\, 10 Rassie Wicker Dr.\, Pinehurst\, 28374\, United States
CATEGORIES:Children,Classes/Workshops,Hobby/Enthusiast,Pinehurst Events,Piney's Kids,Social,Sports,Teen Activities
ATTACH;FMTTYPE=image/jpeg:https://thepinestimes.com/wp-content/uploads/VillageOfPinehurstFeature.jpg
END:VEVENT
BEGIN:VEVENT
DTSTART;TZID=America/New_York:20260529T180000
DTEND;TZID=America/New_York:20260529T190000
DTSTAMP:20260421T172104
CREATED:20260412T144720Z
LAST-MODIFIED:20260412T144720Z
UID:10086794-1780077600-1780081200@thepinestimes.com
SUMMARY:Free Inline Hockey Clinic (Ages 5-18)
DESCRIPTION:The Pinehurst Parks and Recreation Department is offering Free Inline Hockey Clinics for boys and girls ages 5-18 at the Inline Hockey Rink in Rassie Wicker Park. These sessions are designed for beginners and advanced beginners who are confident skaters looking to work on specific skills to improve their game with help from adult pick-up league volunteers. \nThe clinics will take place on Friday evenings on May 1st\, 8th\, 15th\, and 29th\, from 6:00PM-7:00PM. Participants are required to bring their own helmet\, skates\, and stick\, and are strongly encouraged to wear a mouth guard and additional protective gear such as gloves and various pads. For more information\, interested families can email Judith Lawhon at jlawhon@vopnc.org. \n 
URL:https://thepinestimes.com/event/free-inline-hockey-clinic-ages-5-18/2026-05-29/
LOCATION:Inline Hockey Rink-Rassie Wicker Park\, 10 Rassie Wicker Dr.\, Pinehurst\, 28374\, United States
CATEGORIES:Children,Classes/Workshops,Hobby/Enthusiast,Pinehurst Events,Piney's Kids,Social,Sports,Teen Activities
ATTACH;FMTTYPE=image/jpeg:https://thepinestimes.com/wp-content/uploads/VillageOfPinehurstFeature.jpg
END:VEVENT
END:VCALENDAR