BEGIN:VCALENDAR
VERSION:2.0
PRODID:-//The Pines Times - ECPv6.15.20//NONSGML v1.0//EN
CALSCALE:GREGORIAN
METHOD:PUBLISH
X-WR-CALNAME:The Pines Times
X-ORIGINAL-URL:https://thepinestimes.com
X-WR-CALDESC:Events for The Pines Times
REFRESH-INTERVAL;VALUE=DURATION:PT1H
X-Robots-Tag:noindex
X-PUBLISHED-TTL:PT1H
BEGIN:VTIMEZONE
TZID:America/New_York
BEGIN:DAYLIGHT
TZOFFSETFROM:-0500
TZOFFSETTO:-0400
TZNAME:EDT
DTSTART:20240310T070000
END:DAYLIGHT
BEGIN:STANDARD
TZOFFSETFROM:-0400
TZOFFSETTO:-0500
TZNAME:EST
DTSTART:20241103T060000
END:STANDARD
BEGIN:DAYLIGHT
TZOFFSETFROM:-0500
TZOFFSETTO:-0400
TZNAME:EDT
DTSTART:20250309T070000
END:DAYLIGHT
BEGIN:STANDARD
TZOFFSETFROM:-0400
TZOFFSETTO:-0500
TZNAME:EST
DTSTART:20251102T060000
END:STANDARD
BEGIN:DAYLIGHT
TZOFFSETFROM:-0500
TZOFFSETTO:-0400
TZNAME:EDT
DTSTART:20260308T070000
END:DAYLIGHT
BEGIN:STANDARD
TZOFFSETFROM:-0400
TZOFFSETTO:-0500
TZNAME:EST
DTSTART:20261101T060000
END:STANDARD
END:VTIMEZONE
BEGIN:VEVENT
DTSTART;TZID=America/New_York:20251025T130000
DTEND;TZID=America/New_York:20251025T160000
DTSTAMP:20260421T142055
CREATED:20241020T194932Z
LAST-MODIFIED:20251022T140243Z
UID:10046654-1761397200-1761408000@thepinestimes.com
SUMMARY:Rufus McLaughlin American Legion Auxiliary: Southern Pines Trunk or Treat
DESCRIPTION:The Rufus McLaughlin American Legion Auxiliary invites your family to a fun\, safe Trunk or Treat event this Halloween season on Saturday\, October 25th\, at Hines Park (aka Clay Hole)\, located at 730 S. Henley Street in Southern Pines. Bring the children out with costumes\, treats and family-friendly fun!The Trunk or Treat itself runs from 1:00pm-4:00pm. Trunk setup begins at 12:00pm. \nThis community favorite is made extra special by volunteers! To reserve a trunk space and help make this an extra special time for the children\, please contact: Dorothy Brower via text at (919) 599-6605 or Tina Gillis via text at (910) 723-4454. \nCome out\, support the Auxiliary\, and enjoy a fantastic Saturday afternoon! \n  \n  \n 
URL:https://thepinestimes.com/event/trunk-or-treat-4/
LOCATION:J. Pleasant Hines Park\, 730 S. Henley St.\, Southern Pines\, NC\, 28387\, United States
CATEGORIES:Adults,Children,Contest,Family,Food,Games,Halloween,Holiday Events,Piney's Kids,Piney's Tiny's,Social,Southern Pines Events
ATTACH;FMTTYPE=image/jpeg:https://thepinestimes.com/wp-content/uploads/TrunkOrTreatFeature-3.jpg
END:VEVENT
BEGIN:VEVENT
DTSTART;TZID=America/New_York:20250816T120000
DTEND;TZID=America/New_York:20250816T150000
DTSTAMP:20260421T142055
CREATED:20240628T030742Z
LAST-MODIFIED:20250807T164249Z
UID:10039079-1755345600-1755356400@thepinestimes.com
SUMMARY:The Pillars of Hope\, Inc.: "School Daze" The Ultimate Back to School Celebration
DESCRIPTION:The community is invited as The Pillars of Hope\, Inc. hosts their 5th annual School Daze event! The Ultimate Back to School Celebration takes place on Saturday\, August 16th | 12pm-3pm at 735 S. Stephens St. in Southern Pines. Enjoy live entertainment\, free food\, free book bags & school supplies\, community giveaways and more. Donations are encouraged and greatly appreciated. \nDrop-Off Locations for Supply Donations\, Now-August 15th:\nBawse Bando Beauty Bar-1329 N. Sandhills Blvd\, Aberdeen\nSouthern Pines Public Library-170 W. Connecticut Ave\nSouthern Pines Land & Housing Trust-1250 W. New York Ave
URL:https://thepinestimes.com/event/the-pillars-of-hope-inc-school-daze-the-ultimate-back-to-school-celebration/
LOCATION:J. Pleasant Hines Park\, 730 S. Henley St.\, Southern Pines\, NC\, 28387\, United States
CATEGORIES:Children,Donation,Family,Food,Live Entertainment,School,Social,Southern Pines Events
ATTACH;FMTTYPE=image/jpeg:https://thepinestimes.com/wp-content/uploads/PillarsOfHopeFeature.jpg
END:VEVENT
BEGIN:VEVENT
DTSTART;TZID=America/New_York:20250728T094500
DTEND;TZID=America/New_York:20250728T113000
DTSTAMP:20260421T142055
CREATED:20250206T204028Z
LAST-MODIFIED:20250206T204028Z
UID:10053470-1753695900-1753702200@thepinestimes.com
SUMMARY:Southern Pines Swimming Lessons
DESCRIPTION:Register now for Swim Lessons with Southern Pines Parks & Recreation Department. The lessons are three days\, Monday-Thursday with time slots for ages 3-5 and 6-10. See the included flyer for dates and times. For additional information and online registration\, follow the event website link provided below.
URL:https://thepinestimes.com/event/southern-pines-swimming-lessons/2025-07-28/
LOCATION:J. Pleasant Hines Park\, 730 S. Henley St.\, Southern Pines\, NC\, 28387\, United States
CATEGORIES:Art/Craft Workshops,Children,Educational,Health & Wellness,Hobby/Enthusiast,Southern Pines Events,Swimming
ATTACH;FMTTYPE=image/jpeg:https://thepinestimes.com/wp-content/uploads/SouthernPinesParksAndRecreationFeature.jpg
ORGANIZER;CN="Southern Pines Parks and Recreation":MAILTO:bsampson@southernpines.net
END:VEVENT
BEGIN:VEVENT
DTSTART;TZID=America/New_York:20250726T123000
DTEND;TZID=America/New_York:20250726T183000
DTSTAMP:20260421T142055
CREATED:20250725T201816Z
LAST-MODIFIED:20250725T201817Z
UID:10062051-1753533000-1753554600@thepinestimes.com
SUMMARY:Free Swim at J. Pleasant Hines Park
DESCRIPTION:With high temperatures and a heat advisory in effect\, this weekend at J. Pleasant Hines Park (formerly Pool Park):\nFree Pool Entry-Cool off with free entry to the Joe R. Wynn pool from 12:30pm-6:30pm.\nExtended Splash Pad Hours-Enjoy extra fun every day from 10am-8pm.
URL:https://thepinestimes.com/event/free-swim-at-j-pleasant-hines-park/
LOCATION:J. Pleasant Hines Park\, 730 S. Henley St.\, Southern Pines\, NC\, 28387\, United States
CATEGORIES:Adults,Children,Health & Wellness,Hobby/Enthusiast,Nature/Outdoors,Southern Pines Events,Swimming
ATTACH;FMTTYPE=image/jpeg:https://thepinestimes.com/wp-content/uploads/TownOfSouthernPinesFeature.jpg
END:VEVENT
BEGIN:VEVENT
DTSTART;TZID=America/New_York:20250714T094500
DTEND;TZID=America/New_York:20250714T113000
DTSTAMP:20260421T142055
CREATED:20250206T204028Z
LAST-MODIFIED:20250206T204028Z
UID:10053469-1752486300-1752492600@thepinestimes.com
SUMMARY:Southern Pines Swimming Lessons
DESCRIPTION:Register now for Swim Lessons with Southern Pines Parks & Recreation Department. The lessons are three days\, Monday-Thursday with time slots for ages 3-5 and 6-10. See the included flyer for dates and times. For additional information and online registration\, follow the event website link provided below.
URL:https://thepinestimes.com/event/southern-pines-swimming-lessons/2025-07-14/
LOCATION:J. Pleasant Hines Park\, 730 S. Henley St.\, Southern Pines\, NC\, 28387\, United States
CATEGORIES:Art/Craft Workshops,Children,Educational,Health & Wellness,Hobby/Enthusiast,Southern Pines Events,Swimming
ATTACH;FMTTYPE=image/jpeg:https://thepinestimes.com/wp-content/uploads/SouthernPinesParksAndRecreationFeature.jpg
ORGANIZER;CN="Southern Pines Parks and Recreation":MAILTO:bsampson@southernpines.net
END:VEVENT
BEGIN:VEVENT
DTSTART;TZID=America/New_York:20250707T094500
DTEND;TZID=America/New_York:20250707T113000
DTSTAMP:20260421T142055
CREATED:20250206T204028Z
LAST-MODIFIED:20250206T204028Z
UID:10053468-1751881500-1751887800@thepinestimes.com
SUMMARY:Southern Pines Swimming Lessons
DESCRIPTION:Register now for Swim Lessons with Southern Pines Parks & Recreation Department. The lessons are three days\, Monday-Thursday with time slots for ages 3-5 and 6-10. See the included flyer for dates and times. For additional information and online registration\, follow the event website link provided below.
URL:https://thepinestimes.com/event/southern-pines-swimming-lessons/2025-07-07/
LOCATION:J. Pleasant Hines Park\, 730 S. Henley St.\, Southern Pines\, NC\, 28387\, United States
CATEGORIES:Art/Craft Workshops,Children,Educational,Health & Wellness,Hobby/Enthusiast,Southern Pines Events,Swimming
ATTACH;FMTTYPE=image/jpeg:https://thepinestimes.com/wp-content/uploads/SouthernPinesParksAndRecreationFeature.jpg
ORGANIZER;CN="Southern Pines Parks and Recreation":MAILTO:bsampson@southernpines.net
END:VEVENT
BEGIN:VEVENT
DTSTART;TZID=America/New_York:20250627T123000
DTEND;TZID=America/New_York:20250627T183000
DTSTAMP:20260421T142055
CREATED:20250625T221012Z
LAST-MODIFIED:20250625T221012Z
UID:10062050-1751027400-1751049000@thepinestimes.com
SUMMARY:Free Swim at Southern Pines Pool Park
DESCRIPTION:With high temperatures and a heat advisory in effect\, the Southern Pines Pool Park will be open to everyone free of charge this week! Pool hours are 12:30pm-6:30pm. Take a dip and cool off.
URL:https://thepinestimes.com/event/free-swim-at-southern-pines-pool-park/2025-06-27/
LOCATION:J. Pleasant Hines Park\, 730 S. Henley St.\, Southern Pines\, NC\, 28387\, United States
CATEGORIES:Adults,Children,Health & Wellness,Hobby/Enthusiast,Nature/Outdoors,Southern Pines Events,Swimming
ATTACH;FMTTYPE=image/jpeg:https://thepinestimes.com/wp-content/uploads/TownOfSouthernPinesFeature.jpg
END:VEVENT
BEGIN:VEVENT
DTSTART;TZID=America/New_York:20250626T123000
DTEND;TZID=America/New_York:20250626T183000
DTSTAMP:20260421T142055
CREATED:20250625T221012Z
LAST-MODIFIED:20250625T221012Z
UID:10062049-1750941000-1750962600@thepinestimes.com
SUMMARY:Free Swim at Southern Pines Pool Park
DESCRIPTION:With high temperatures and a heat advisory in effect\, the Southern Pines Pool Park will be open to everyone free of charge this week! Pool hours are 12:30pm-6:30pm. Take a dip and cool off.
URL:https://thepinestimes.com/event/free-swim-at-southern-pines-pool-park/2025-06-26/
LOCATION:J. Pleasant Hines Park\, 730 S. Henley St.\, Southern Pines\, NC\, 28387\, United States
CATEGORIES:Adults,Children,Health & Wellness,Hobby/Enthusiast,Nature/Outdoors,Southern Pines Events,Swimming
ATTACH;FMTTYPE=image/jpeg:https://thepinestimes.com/wp-content/uploads/TownOfSouthernPinesFeature.jpg
END:VEVENT
BEGIN:VEVENT
DTSTART;TZID=America/New_York:20250623T094500
DTEND;TZID=America/New_York:20250623T113000
DTSTAMP:20260421T142055
CREATED:20250206T204028Z
LAST-MODIFIED:20250206T204028Z
UID:10053467-1750671900-1750678200@thepinestimes.com
SUMMARY:Southern Pines Swimming Lessons
DESCRIPTION:Register now for Swim Lessons with Southern Pines Parks & Recreation Department. The lessons are three days\, Monday-Thursday with time slots for ages 3-5 and 6-10. See the included flyer for dates and times. For additional information and online registration\, follow the event website link provided below.
URL:https://thepinestimes.com/event/southern-pines-swimming-lessons/2025-06-23/
LOCATION:J. Pleasant Hines Park\, 730 S. Henley St.\, Southern Pines\, NC\, 28387\, United States
CATEGORIES:Art/Craft Workshops,Children,Educational,Health & Wellness,Hobby/Enthusiast,Southern Pines Events,Swimming
ATTACH;FMTTYPE=image/jpeg:https://thepinestimes.com/wp-content/uploads/SouthernPinesParksAndRecreationFeature.jpg
ORGANIZER;CN="Southern Pines Parks and Recreation":MAILTO:bsampson@southernpines.net
END:VEVENT
BEGIN:VEVENT
DTSTART;TZID=America/New_York:20250616T094500
DTEND;TZID=America/New_York:20250616T113000
DTSTAMP:20260421T142055
CREATED:20250206T204028Z
LAST-MODIFIED:20250206T204028Z
UID:10053466-1750067100-1750073400@thepinestimes.com
SUMMARY:Southern Pines Swimming Lessons
DESCRIPTION:Register now for Swim Lessons with Southern Pines Parks & Recreation Department. The lessons are three days\, Monday-Thursday with time slots for ages 3-5 and 6-10. See the included flyer for dates and times. For additional information and online registration\, follow the event website link provided below.
URL:https://thepinestimes.com/event/southern-pines-swimming-lessons/2025-06-16/
LOCATION:J. Pleasant Hines Park\, 730 S. Henley St.\, Southern Pines\, NC\, 28387\, United States
CATEGORIES:Art/Craft Workshops,Children,Educational,Health & Wellness,Hobby/Enthusiast,Southern Pines Events,Swimming
ATTACH;FMTTYPE=image/jpeg:https://thepinestimes.com/wp-content/uploads/SouthernPinesParksAndRecreationFeature.jpg
ORGANIZER;CN="Southern Pines Parks and Recreation":MAILTO:bsampson@southernpines.net
END:VEVENT
BEGIN:VEVENT
DTSTART;TZID=America/New_York:20250524T123000
DTEND;TZID=America/New_York:20250524T183000
DTSTAMP:20260421T142055
CREATED:20230518T020648Z
LAST-MODIFIED:20250522T221848Z
UID:10012349-1748089800-1748111400@thepinestimes.com
SUMMARY:Southern Pines Pool and Splash Pad Opening
DESCRIPTION:The Southern Pines Pool and Splash Pad will open for the 2025 summer season on Saturday\, May 24th at 12:30pm!  The Splash Pad is free to enjoy. For full details on pool pricing\, follow the link provided below.
URL:https://thepinestimes.com/event/southern-pines-pool-and-splash-pad-opening/
LOCATION:J. Pleasant Hines Park\, 730 S. Henley St.\, Southern Pines\, NC\, 28387\, United States
CATEGORIES:Adults,Children,Family,Health & Wellness,Hobby/Enthusiast,Live Entertainment,Memorial Day,Nature/Outdoors,Senior,Social,Southern Pines Events
ATTACH;FMTTYPE=image/jpeg:https://thepinestimes.com/wp-content/uploads/TownOfSouthernPinesFeature.jpg
END:VEVENT
END:VCALENDAR