BEGIN:VCALENDAR
VERSION:2.0
PRODID:-//The Pines Times - ECPv6.15.20//NONSGML v1.0//EN
CALSCALE:GREGORIAN
METHOD:PUBLISH
X-ORIGINAL-URL:https://thepinestimes.com
X-WR-CALDESC:Events for The Pines Times
REFRESH-INTERVAL;VALUE=DURATION:PT1H
X-Robots-Tag:noindex
X-PUBLISHED-TTL:PT1H
BEGIN:VTIMEZONE
TZID:America/New_York
BEGIN:DAYLIGHT
TZOFFSETFROM:-0500
TZOFFSETTO:-0400
TZNAME:EDT
DTSTART:20250309T070000
END:DAYLIGHT
BEGIN:STANDARD
TZOFFSETFROM:-0400
TZOFFSETTO:-0500
TZNAME:EST
DTSTART:20251102T060000
END:STANDARD
BEGIN:DAYLIGHT
TZOFFSETFROM:-0500
TZOFFSETTO:-0400
TZNAME:EDT
DTSTART:20260308T070000
END:DAYLIGHT
BEGIN:STANDARD
TZOFFSETFROM:-0400
TZOFFSETTO:-0500
TZNAME:EST
DTSTART:20261101T060000
END:STANDARD
BEGIN:DAYLIGHT
TZOFFSETFROM:-0500
TZOFFSETTO:-0400
TZNAME:EDT
DTSTART:20270314T070000
END:DAYLIGHT
BEGIN:STANDARD
TZOFFSETFROM:-0400
TZOFFSETTO:-0500
TZNAME:EST
DTSTART:20271107T060000
END:STANDARD
END:VTIMEZONE
BEGIN:VEVENT
DTSTART;TZID=America/New_York:20260226T173000
DTEND;TZID=America/New_York:20260226T193000
DTSTAMP:20260422T073859
CREATED:20260224T142208Z
LAST-MODIFIED:20260224T142208Z
UID:10081513-1772127000-1772134200@thepinestimes.com
SUMMARY:Do NAAN Stop Pouring! Tasting Experience
DESCRIPTION:Big flavors. Beautiful pairings. Indian cuisine meets world class wines for a night of discovery\, indulgence\, friends and new favorites. Experience a unique culinary journey at Jaya’s Indian Cuisine in Southern Pines with Somm Time’s guiding a tasting event on February 26th from 5:30pm-7:30pm. This “Wine & Food Pairing Event” invites guests to try something new in 2026 through a curated selection of flavors. It is a perfect opportunity to explore the rich complexities of Indian dishes paired thoughtfully with specific wines. Tickets are $53.36 and can be purchased through the event website link provided below.
URL:https://thepinestimes.com/event/do-naan-stop-pouring-tasting-experience/
LOCATION:Jaya’s Indian Cuisine\, 169 NE Broad St\, Southern Pines\, NC\, 28387\, United States
CATEGORIES:Adults,Food,Hobby/Enthusiast,Social,Tasting
ATTACH;FMTTYPE=image/jpeg:https://thepinestimes.com/wp-content/uploads/TastingExperienceFeature-1-e1771886382497.jpg
ORGANIZER;CN="Jaya's Indian Cuisine":MAILTO:info@jayasincousine.com
END:VEVENT
END:VCALENDAR