BEGIN:VCALENDAR
VERSION:2.0
PRODID:-//The Pines Times - ECPv6.15.20//NONSGML v1.0//EN
CALSCALE:GREGORIAN
METHOD:PUBLISH
X-WR-CALNAME:The Pines Times
X-ORIGINAL-URL:https://thepinestimes.com
X-WR-CALDESC:Events for The Pines Times
REFRESH-INTERVAL;VALUE=DURATION:PT1H
X-Robots-Tag:noindex
X-PUBLISHED-TTL:PT1H
BEGIN:VTIMEZONE
TZID:America/New_York
BEGIN:DAYLIGHT
TZOFFSETFROM:-0500
TZOFFSETTO:-0400
TZNAME:EDT
DTSTART:20240310T070000
END:DAYLIGHT
BEGIN:STANDARD
TZOFFSETFROM:-0400
TZOFFSETTO:-0500
TZNAME:EST
DTSTART:20241103T060000
END:STANDARD
BEGIN:DAYLIGHT
TZOFFSETFROM:-0500
TZOFFSETTO:-0400
TZNAME:EDT
DTSTART:20250309T070000
END:DAYLIGHT
BEGIN:STANDARD
TZOFFSETFROM:-0400
TZOFFSETTO:-0500
TZNAME:EST
DTSTART:20251102T060000
END:STANDARD
BEGIN:DAYLIGHT
TZOFFSETFROM:-0500
TZOFFSETTO:-0400
TZNAME:EDT
DTSTART:20260308T070000
END:DAYLIGHT
BEGIN:STANDARD
TZOFFSETFROM:-0400
TZOFFSETTO:-0500
TZNAME:EST
DTSTART:20261101T060000
END:STANDARD
END:VTIMEZONE
BEGIN:VEVENT
DTSTART;TZID=America/New_York:20250331T100000
DTEND;TZID=America/New_York:20250331T210000
DTSTAMP:20260422T002148
CREATED:20250322T155949Z
LAST-MODIFIED:20250322T160538Z
UID:10055440-1743415200-1743454800@thepinestimes.com
SUMMARY:Eat a Sub & Support the Club Fundraiser
DESCRIPTION:Take part in the Eat a Sub fundraiser in support of the Boys & Girls Club of the Sandhills! During the month of March\, order from any of the three local Jersey Mike’s Subs and support the club by rounding up your purchase to the nearest dollar! You can even donate $1\, $3\, or $5 when placing your order online or through the Jersey Mike’s App. On Wednesday\, March 26th\, our local Jersey Mike’s locations will donate 100% of sales to our club! \n \n 
URL:https://thepinestimes.com/event/grand-opening-and-fundraiser-jersey-mikes-whispering-pines-3-3/2025-03-31/
LOCATION:Jersey Mike’s Sub-Whispering Pines\, 444 Mill Creek Rd.\, Whispering Pines\, 28327\, United States
CATEGORIES:Adults,Children,Donation,Family,Food,Fundraiser,Moore County Events,Senior,Social
ATTACH;FMTTYPE=image/jpeg:https://thepinestimes.com/wp-content/uploads/EatASubFeature.jpg
END:VEVENT
BEGIN:VEVENT
DTSTART;TZID=America/New_York:20250330T100000
DTEND;TZID=America/New_York:20250330T210000
DTSTAMP:20260422T002148
CREATED:20250322T155949Z
LAST-MODIFIED:20250322T160538Z
UID:10055439-1743328800-1743368400@thepinestimes.com
SUMMARY:Eat a Sub & Support the Club Fundraiser
DESCRIPTION:Take part in the Eat a Sub fundraiser in support of the Boys & Girls Club of the Sandhills! During the month of March\, order from any of the three local Jersey Mike’s Subs and support the club by rounding up your purchase to the nearest dollar! You can even donate $1\, $3\, or $5 when placing your order online or through the Jersey Mike’s App. On Wednesday\, March 26th\, our local Jersey Mike’s locations will donate 100% of sales to our club! \n \n 
URL:https://thepinestimes.com/event/grand-opening-and-fundraiser-jersey-mikes-whispering-pines-3-3/2025-03-30/
LOCATION:Jersey Mike’s Sub-Whispering Pines\, 444 Mill Creek Rd.\, Whispering Pines\, 28327\, United States
CATEGORIES:Adults,Children,Donation,Family,Food,Fundraiser,Moore County Events,Senior,Social
ATTACH;FMTTYPE=image/jpeg:https://thepinestimes.com/wp-content/uploads/EatASubFeature.jpg
END:VEVENT
BEGIN:VEVENT
DTSTART;TZID=America/New_York:20250329T100000
DTEND;TZID=America/New_York:20250329T210000
DTSTAMP:20260422T002148
CREATED:20250322T155949Z
LAST-MODIFIED:20250322T160538Z
UID:10055438-1743242400-1743282000@thepinestimes.com
SUMMARY:Eat a Sub & Support the Club Fundraiser
DESCRIPTION:Take part in the Eat a Sub fundraiser in support of the Boys & Girls Club of the Sandhills! During the month of March\, order from any of the three local Jersey Mike’s Subs and support the club by rounding up your purchase to the nearest dollar! You can even donate $1\, $3\, or $5 when placing your order online or through the Jersey Mike’s App. On Wednesday\, March 26th\, our local Jersey Mike’s locations will donate 100% of sales to our club! \n \n 
URL:https://thepinestimes.com/event/grand-opening-and-fundraiser-jersey-mikes-whispering-pines-3-3/2025-03-29/
LOCATION:Jersey Mike’s Sub-Whispering Pines\, 444 Mill Creek Rd.\, Whispering Pines\, 28327\, United States
CATEGORIES:Adults,Children,Donation,Family,Food,Fundraiser,Moore County Events,Senior,Social
ATTACH;FMTTYPE=image/jpeg:https://thepinestimes.com/wp-content/uploads/EatASubFeature.jpg
END:VEVENT
BEGIN:VEVENT
DTSTART;TZID=America/New_York:20250328T100000
DTEND;TZID=America/New_York:20250328T210000
DTSTAMP:20260422T002148
CREATED:20250322T155949Z
LAST-MODIFIED:20250322T160538Z
UID:10055437-1743156000-1743195600@thepinestimes.com
SUMMARY:Eat a Sub & Support the Club Fundraiser
DESCRIPTION:Take part in the Eat a Sub fundraiser in support of the Boys & Girls Club of the Sandhills! During the month of March\, order from any of the three local Jersey Mike’s Subs and support the club by rounding up your purchase to the nearest dollar! You can even donate $1\, $3\, or $5 when placing your order online or through the Jersey Mike’s App. On Wednesday\, March 26th\, our local Jersey Mike’s locations will donate 100% of sales to our club! \n \n 
URL:https://thepinestimes.com/event/grand-opening-and-fundraiser-jersey-mikes-whispering-pines-3-3/2025-03-28/
LOCATION:Jersey Mike’s Sub-Whispering Pines\, 444 Mill Creek Rd.\, Whispering Pines\, 28327\, United States
CATEGORIES:Adults,Children,Donation,Family,Food,Fundraiser,Moore County Events,Senior,Social
ATTACH;FMTTYPE=image/jpeg:https://thepinestimes.com/wp-content/uploads/EatASubFeature.jpg
END:VEVENT
BEGIN:VEVENT
DTSTART;TZID=America/New_York:20250324T100000
DTEND;TZID=America/New_York:20250324T210000
DTSTAMP:20260422T002148
CREATED:20250322T155949Z
LAST-MODIFIED:20250322T160538Z
UID:10055436-1742810400-1742850000@thepinestimes.com
SUMMARY:Eat a Sub & Support the Club Fundraiser
DESCRIPTION:Take part in the Eat a Sub fundraiser in support of the Boys & Girls Club of the Sandhills! During the month of March\, order from any of the three local Jersey Mike’s Subs and support the club by rounding up your purchase to the nearest dollar! You can even donate $1\, $3\, or $5 when placing your order online or through the Jersey Mike’s App. On Wednesday\, March 26th\, our local Jersey Mike’s locations will donate 100% of sales to our club! \n \n 
URL:https://thepinestimes.com/event/grand-opening-and-fundraiser-jersey-mikes-whispering-pines-3-3/2025-03-24/
LOCATION:Jersey Mike’s Sub-Whispering Pines\, 444 Mill Creek Rd.\, Whispering Pines\, 28327\, United States
CATEGORIES:Adults,Children,Donation,Family,Food,Fundraiser,Moore County Events,Senior,Social
ATTACH;FMTTYPE=image/jpeg:https://thepinestimes.com/wp-content/uploads/EatASubFeature.jpg
END:VEVENT
BEGIN:VEVENT
DTSTART;TZID=America/New_York:20250323T100000
DTEND;TZID=America/New_York:20250323T210000
DTSTAMP:20260422T002148
CREATED:20250322T155949Z
LAST-MODIFIED:20250322T160538Z
UID:10055435-1742724000-1742763600@thepinestimes.com
SUMMARY:Eat a Sub & Support the Club Fundraiser
DESCRIPTION:Take part in the Eat a Sub fundraiser in support of the Boys & Girls Club of the Sandhills! During the month of March\, order from any of the three local Jersey Mike’s Subs and support the club by rounding up your purchase to the nearest dollar! You can even donate $1\, $3\, or $5 when placing your order online or through the Jersey Mike’s App. On Wednesday\, March 26th\, our local Jersey Mike’s locations will donate 100% of sales to our club! \n \n 
URL:https://thepinestimes.com/event/grand-opening-and-fundraiser-jersey-mikes-whispering-pines-3-3/2025-03-23/
LOCATION:Jersey Mike’s Sub-Whispering Pines\, 444 Mill Creek Rd.\, Whispering Pines\, 28327\, United States
CATEGORIES:Adults,Children,Donation,Family,Food,Fundraiser,Moore County Events,Senior,Social
ATTACH;FMTTYPE=image/jpeg:https://thepinestimes.com/wp-content/uploads/EatASubFeature.jpg
END:VEVENT
BEGIN:VEVENT
DTSTART;TZID=America/New_York:20250322T100000
DTEND;TZID=America/New_York:20250322T210000
DTSTAMP:20260422T002148
CREATED:20250322T155949Z
LAST-MODIFIED:20250322T160538Z
UID:10031835-1742637600-1742677200@thepinestimes.com
SUMMARY:Eat a Sub & Support the Club Fundraiser
DESCRIPTION:Take part in the Eat a Sub fundraiser in support of the Boys & Girls Club of the Sandhills! During the month of March\, order from any of the three local Jersey Mike’s Subs and support the club by rounding up your purchase to the nearest dollar! You can even donate $1\, $3\, or $5 when placing your order online or through the Jersey Mike’s App. On Wednesday\, March 26th\, our local Jersey Mike’s locations will donate 100% of sales to our club! \n \n 
URL:https://thepinestimes.com/event/grand-opening-and-fundraiser-jersey-mikes-whispering-pines-3-3/2025-03-22/
LOCATION:Jersey Mike’s Sub-Whispering Pines\, 444 Mill Creek Rd.\, Whispering Pines\, 28327\, United States
CATEGORIES:Adults,Children,Donation,Family,Food,Fundraiser,Moore County Events,Senior,Social
ATTACH;FMTTYPE=image/jpeg:https://thepinestimes.com/wp-content/uploads/EatASubFeature.jpg
END:VEVENT
END:VCALENDAR