BEGIN:VCALENDAR
VERSION:2.0
PRODID:-//The Pines Times - ECPv6.15.20//NONSGML v1.0//EN
CALSCALE:GREGORIAN
METHOD:PUBLISH
X-ORIGINAL-URL:https://thepinestimes.com
X-WR-CALDESC:Events for The Pines Times
REFRESH-INTERVAL;VALUE=DURATION:PT1H
X-Robots-Tag:noindex
X-PUBLISHED-TTL:PT1H
BEGIN:VTIMEZONE
TZID:America/New_York
BEGIN:DAYLIGHT
TZOFFSETFROM:-0500
TZOFFSETTO:-0400
TZNAME:EDT
DTSTART:20240310T070000
END:DAYLIGHT
BEGIN:STANDARD
TZOFFSETFROM:-0400
TZOFFSETTO:-0500
TZNAME:EST
DTSTART:20241103T060000
END:STANDARD
BEGIN:DAYLIGHT
TZOFFSETFROM:-0500
TZOFFSETTO:-0400
TZNAME:EDT
DTSTART:20250309T070000
END:DAYLIGHT
BEGIN:STANDARD
TZOFFSETFROM:-0400
TZOFFSETTO:-0500
TZNAME:EST
DTSTART:20251102T060000
END:STANDARD
BEGIN:DAYLIGHT
TZOFFSETFROM:-0500
TZOFFSETTO:-0400
TZNAME:EDT
DTSTART:20260308T070000
END:DAYLIGHT
BEGIN:STANDARD
TZOFFSETFROM:-0400
TZOFFSETTO:-0500
TZNAME:EST
DTSTART:20261101T060000
END:STANDARD
BEGIN:DAYLIGHT
TZOFFSETFROM:-0500
TZOFFSETTO:-0400
TZNAME:EDT
DTSTART:20270314T070000
END:DAYLIGHT
BEGIN:STANDARD
TZOFFSETFROM:-0400
TZOFFSETTO:-0500
TZNAME:EST
DTSTART:20271107T060000
END:STANDARD
END:VTIMEZONE
BEGIN:VEVENT
DTSTART;TZID=America/New_York:20260411T080000
DTEND;TZID=America/New_York:20260411T150000
DTSTAMP:20260420T194842
CREATED:20230323T213529Z
LAST-MODIFIED:20260409T201040Z
UID:10010596-1775894400-1775919600@thepinestimes.com
SUMMARY:Joel Road 5 Mile Yard Sale Spring 2026
DESCRIPTION:The semi-annual Joel Road 5 Mile Yard Sale in Carthage takes place on Saturday\, April 11th from 8AM-2PM! Come out to shop one of the largest yard sales in North Carolina. There are hundreds of vendors that line Joel Rd. Enjoy a day of bargain shopping\, treasure hunting\, food and socializing! You can walk or ride your golf cart from deal to deal.
URL:https://thepinestimes.com/event/joel-road-5-mile-yard-sale/
LOCATION:Joel Road\, Carthage\, NC\, NC\, United States
CATEGORIES:Adults,Antiques,Carthage Events,Family,Food,Hobby/Enthusiast,Moore County Events,Shopping,Vendors,Yard Sale
ATTACH;FMTTYPE=image/jpeg:https://thepinestimes.com/wp-content/uploads/YardSaleFeature-3.jpg
END:VEVENT
BEGIN:VEVENT
DTSTART;TZID=America/New_York:20251011T080000
DTEND;TZID=America/New_York:20251011T140000
DTSTAMP:20260420T194842
CREATED:20241003T123125Z
LAST-MODIFIED:20250904T143507Z
UID:10046018-1760169600-1760191200@thepinestimes.com
SUMMARY:Joel Road 5 Mile Yard Sale
DESCRIPTION:The annual Joel Road 5 Mile Yard Sale in Carthage takes place on Saturday\, October 11th | 8:00am-2:00pm. Come out to shop one of the largest yard sales in North Carolina. There are hundreds of vendors that line Joel Rd. Enjoy a day of bargain shopping\, treasure hunting\, food and socializing! You can walk or ride your golf cart from deal to deal. If you are interested in reserving a space for the sale\, contact \nCharles Horne\, Coordinator\n(910) 638-9006 \nCarolyn/Donald Braddock\n(252) 639-8121 \nHelen Hinesley\n(910) 947-2414 \nJoe Salmon\n(910) 783-6141 \nJohn/Alma Baker\n(910)690-2599
URL:https://thepinestimes.com/event/joel-road-5-mile-yard-sale-2/
LOCATION:Joel Road\, Carthage\, NC\, NC\, United States
CATEGORIES:Adults,Antiques,Art/Photography,Carthage Events,Crafts,Fall,Fall in the Sandhills,Family,Food,Hobby/Enthusiast,Moore County Events,Nature/Outdoors,Senior,Shopping,Social,Yard Sale
ATTACH;FMTTYPE=image/jpeg:https://thepinestimes.com/wp-content/uploads/YardSaleFeature-3.jpg
END:VEVENT
END:VCALENDAR