BEGIN:VCALENDAR
VERSION:2.0
PRODID:-//The Pines Times - ECPv6.15.20//NONSGML v1.0//EN
CALSCALE:GREGORIAN
METHOD:PUBLISH
X-WR-CALNAME:The Pines Times
X-ORIGINAL-URL:https://thepinestimes.com
X-WR-CALDESC:Events for The Pines Times
REFRESH-INTERVAL;VALUE=DURATION:PT1H
X-Robots-Tag:noindex
X-PUBLISHED-TTL:PT1H
BEGIN:VTIMEZONE
TZID:America/New_York
BEGIN:DAYLIGHT
TZOFFSETFROM:-0500
TZOFFSETTO:-0400
TZNAME:EDT
DTSTART:20250309T070000
END:DAYLIGHT
BEGIN:STANDARD
TZOFFSETFROM:-0400
TZOFFSETTO:-0500
TZNAME:EST
DTSTART:20251102T060000
END:STANDARD
BEGIN:DAYLIGHT
TZOFFSETFROM:-0500
TZOFFSETTO:-0400
TZNAME:EDT
DTSTART:20260308T070000
END:DAYLIGHT
BEGIN:STANDARD
TZOFFSETFROM:-0400
TZOFFSETTO:-0500
TZNAME:EST
DTSTART:20261101T060000
END:STANDARD
BEGIN:DAYLIGHT
TZOFFSETFROM:-0500
TZOFFSETTO:-0400
TZNAME:EDT
DTSTART:20270314T070000
END:DAYLIGHT
BEGIN:STANDARD
TZOFFSETFROM:-0400
TZOFFSETTO:-0500
TZNAME:EST
DTSTART:20271107T060000
END:STANDARD
END:VTIMEZONE
BEGIN:VEVENT
DTSTART;TZID=America/New_York:20260219T073000
DTEND;TZID=America/New_York:20260219T180000
DTSTAMP:20260419T104514
CREATED:20260216T131845Z
LAST-MODIFIED:20260216T131845Z
UID:10081003-1771486200-1771524000@thepinestimes.com
SUMMARY:Hastings Art Gallery: "Deconstruction of a Twin Bunk Bed" Exhibit
DESCRIPTION:Visit the Hastings Art Gallery to view Deconstruction of a Twin Bunk Bed. “This thought-provoking exhibition by artist Jessica Dupuis transforms a familiar twin bunk bed into sculptural fragments that explore memory\, domestic space\, and the labor of care. Installed in the intimate Hastings Gallery\, the work uses deconstructed materials\, negative space\, and thoughtful placement to blur the line between functional object and contemplative artwork. Visitors are invited to move around the piece\, discovering shifting perspectives that echo layered experiences of home and childhood.” \nAn Opening Reception takes place on Tuesday\, February 17th from 11:30am-1:00pm. Prior to the reception a free public lecture will take place in Kennedy Room 002 from 10:00am-11:00am. The exhibit will be on view through Wednesday\, March 4th. \n“The Jean Hastings Art Gallery displays exhibits of art\, photography\, crafts and other artifacts. The Jean Hastings Art Gallery is housed in the Katharine L. Boyd Library on the campus of Sandhills Community College. Guest and student art is displayed on a monthly basis. Admission is free and the gallery is open during library hours.” \nMonday-Thursday 7:30am-6:00pm\nFriday 7:30am-4:00pm\nSaturday 10:00am-2:00pm\nSunday Closed \nFor more information\, please contact Tammy Stewart\, Dean of Learning Resources at stewartt@sandhills.edu or at 910-695-3821. \n \n 
URL:https://thepinestimes.com/event/hastings-art-gallery-deconstruction-of-a-twin-bunk-bed-exhibit/2026-02-19/
LOCATION:Jeanne Hastings Art Gallery-BPAC\, Katharine Boyd Library\, 3395 Airport Road\, Pinehurst\, NC\, 28374\, United States
CATEGORIES:Art/Photography,Arts,Exhibits,Hobby/Enthusiast,HOMEPAGE Featured,Pinehurst Events,School,Social
ATTACH;FMTTYPE=image/jpeg:https://thepinestimes.com/wp-content/uploads/HastingsArtGalleryFeature-1.jpg
END:VEVENT
BEGIN:VEVENT
DTSTART;TZID=America/New_York:20260218T073000
DTEND;TZID=America/New_York:20260218T180000
DTSTAMP:20260419T104514
CREATED:20260216T131845Z
LAST-MODIFIED:20260216T131845Z
UID:10081002-1771399800-1771437600@thepinestimes.com
SUMMARY:Hastings Art Gallery: "Deconstruction of a Twin Bunk Bed" Exhibit
DESCRIPTION:Visit the Hastings Art Gallery to view Deconstruction of a Twin Bunk Bed. “This thought-provoking exhibition by artist Jessica Dupuis transforms a familiar twin bunk bed into sculptural fragments that explore memory\, domestic space\, and the labor of care. Installed in the intimate Hastings Gallery\, the work uses deconstructed materials\, negative space\, and thoughtful placement to blur the line between functional object and contemplative artwork. Visitors are invited to move around the piece\, discovering shifting perspectives that echo layered experiences of home and childhood.” \nAn Opening Reception takes place on Tuesday\, February 17th from 11:30am-1:00pm. Prior to the reception a free public lecture will take place in Kennedy Room 002 from 10:00am-11:00am. The exhibit will be on view through Wednesday\, March 4th. \n“The Jean Hastings Art Gallery displays exhibits of art\, photography\, crafts and other artifacts. The Jean Hastings Art Gallery is housed in the Katharine L. Boyd Library on the campus of Sandhills Community College. Guest and student art is displayed on a monthly basis. Admission is free and the gallery is open during library hours.” \nMonday-Thursday 7:30am-6:00pm\nFriday 7:30am-4:00pm\nSaturday 10:00am-2:00pm\nSunday Closed \nFor more information\, please contact Tammy Stewart\, Dean of Learning Resources at stewartt@sandhills.edu or at 910-695-3821. \n \n 
URL:https://thepinestimes.com/event/hastings-art-gallery-deconstruction-of-a-twin-bunk-bed-exhibit/2026-02-18/
LOCATION:Jeanne Hastings Art Gallery-BPAC\, Katharine Boyd Library\, 3395 Airport Road\, Pinehurst\, NC\, 28374\, United States
CATEGORIES:Art/Photography,Arts,Exhibits,Hobby/Enthusiast,HOMEPAGE Featured,Pinehurst Events,School,Social
ATTACH;FMTTYPE=image/jpeg:https://thepinestimes.com/wp-content/uploads/HastingsArtGalleryFeature-1.jpg
END:VEVENT
END:VCALENDAR