BEGIN:VCALENDAR
VERSION:2.0
PRODID:-//The Pines Times - ECPv6.15.20//NONSGML v1.0//EN
CALSCALE:GREGORIAN
METHOD:PUBLISH
X-ORIGINAL-URL:https://thepinestimes.com
X-WR-CALDESC:Events for The Pines Times
REFRESH-INTERVAL;VALUE=DURATION:PT1H
X-Robots-Tag:noindex
X-PUBLISHED-TTL:PT1H
BEGIN:VTIMEZONE
TZID:America/New_York
BEGIN:DAYLIGHT
TZOFFSETFROM:-0500
TZOFFSETTO:-0400
TZNAME:EDT
DTSTART:20250309T070000
END:DAYLIGHT
BEGIN:STANDARD
TZOFFSETFROM:-0400
TZOFFSETTO:-0500
TZNAME:EST
DTSTART:20251102T060000
END:STANDARD
BEGIN:DAYLIGHT
TZOFFSETFROM:-0500
TZOFFSETTO:-0400
TZNAME:EDT
DTSTART:20260308T070000
END:DAYLIGHT
BEGIN:STANDARD
TZOFFSETFROM:-0400
TZOFFSETTO:-0500
TZNAME:EST
DTSTART:20261101T060000
END:STANDARD
BEGIN:DAYLIGHT
TZOFFSETFROM:-0500
TZOFFSETTO:-0400
TZNAME:EDT
DTSTART:20270314T070000
END:DAYLIGHT
BEGIN:STANDARD
TZOFFSETFROM:-0400
TZOFFSETTO:-0500
TZNAME:EST
DTSTART:20271107T060000
END:STANDARD
END:VTIMEZONE
BEGIN:VEVENT
DTSTART;TZID=America/New_York:20260328T110000
DTEND;TZID=America/New_York:20260328T140000
DTSTAMP:20260421T001154
CREATED:20230323T013321Z
LAST-MODIFIED:20260301T175634Z
UID:10010578-1774695600-1774706400@thepinestimes.com
SUMMARY:Town of Sanford: Egg-A-Palooza 2026
DESCRIPTION:Lee County Parks & Recreation and City of Sanford Parks are hosting the annual Egg-A-Palooza on Saturday\, March 28th\, at its new location at the Lee County Athletic Park (1304 Broadway Road (also listed as 210 Champion Road). This free community event runs from 11:00AM-2:00PM and features a massive hunt with over 20\,000 eggs. \nThe egg hunt begins at 1:00PM and is divided into specific age groups: children ages 4 and under (parent-assisted)\, ages 5-8\, and ages 9-13\, along with a dedicated area for individuals with special needs. \nBeyond the hunt\, attendees can enjoy food trucks\, music\, games\, prizes\, and face painting. There will also be plenty of photo opportunities with the Easter Bunny throughout the afternoon. In the event of inclement weather\, a rain date has been set for Sunday\, March 29\, from 12:00PM-2:00PM\, with the egg hunt still scheduled for 1:00PM.
URL:https://thepinestimes.com/event/town-of-sanford-egg-a-palooza-2026/
LOCATION:Lee County Athletic Park\, 2303 Tramway Rd.\, Sanford\, 27330\, United States
CATEGORIES:Children,Easter,Family,Food,Games,Holiday Events,Live Entertainment,Music,Nature/Outdoors,Out of Town,Piney's Kids,Piney's Tiny's,Sanford Events,Social,Teen Activities
ATTACH;FMTTYPE=image/jpeg:https://thepinestimes.com/wp-content/uploads/SanfordEggapaloozaFeature.jpg
END:VEVENT
BEGIN:VEVENT
DTSTART;TZID=America/New_York:20260328T093000
DTEND;TZID=America/New_York:20260328T110000
DTSTAMP:20260421T001154
CREATED:20260301T154630Z
LAST-MODIFIED:20260301T154748Z
UID:10082118-1774690200-1774695600@thepinestimes.com
SUMMARY:Sanford Bunny Run 2026
DESCRIPTION:Join as Lee County Parks & Recreation is hosting its first-ever Bunny Run on Saturday\, March 28th at the Lee County Athletic Park! Participants can choose between a 5K race for $25 or a 1-mile fun run for $15\, with both events kicking off at 9:30AM. Those who register at LCNCPR.recdesk.com by Friday\, March 6th are guaranteed a commemorative event t-shirt. The morning of fitness and fun concludes just in time for the Egg-A-Palooza celebration\, which begins at 11:00AM immediately following the races. \n \n  \n 
URL:https://thepinestimes.com/event/sanford-bunny-run-2026/
LOCATION:Lee County Athletic Park\, 2303 Tramway Rd.\, Sanford\, 27330\, United States
CATEGORIES:Adults,Easter,Family,Health & Wellness,Hobby/Enthusiast,Holiday Events,Nature/Outdoors,Sanford Events,Walk/Run
ATTACH;FMTTYPE=image/jpeg:https://thepinestimes.com/wp-content/uploads/BunnyRunFeature.jpg
ORGANIZER;CN="Lee County Parks & Recreation":MAILTO:lcpr@leecountync.gov
END:VEVENT
END:VCALENDAR