BEGIN:VCALENDAR
VERSION:2.0
PRODID:-//The Pines Times - ECPv6.15.20//NONSGML v1.0//EN
CALSCALE:GREGORIAN
METHOD:PUBLISH
X-ORIGINAL-URL:https://thepinestimes.com
X-WR-CALDESC:Events for The Pines Times
REFRESH-INTERVAL;VALUE=DURATION:PT1H
X-Robots-Tag:noindex
X-PUBLISHED-TTL:PT1H
BEGIN:VTIMEZONE
TZID:America/New_York
BEGIN:DAYLIGHT
TZOFFSETFROM:-0500
TZOFFSETTO:-0400
TZNAME:EDT
DTSTART:20240310T070000
END:DAYLIGHT
BEGIN:STANDARD
TZOFFSETFROM:-0400
TZOFFSETTO:-0500
TZNAME:EST
DTSTART:20241103T060000
END:STANDARD
BEGIN:DAYLIGHT
TZOFFSETFROM:-0500
TZOFFSETTO:-0400
TZNAME:EDT
DTSTART:20250309T070000
END:DAYLIGHT
BEGIN:STANDARD
TZOFFSETFROM:-0400
TZOFFSETTO:-0500
TZNAME:EST
DTSTART:20251102T060000
END:STANDARD
BEGIN:DAYLIGHT
TZOFFSETFROM:-0500
TZOFFSETTO:-0400
TZNAME:EDT
DTSTART:20260308T070000
END:DAYLIGHT
BEGIN:STANDARD
TZOFFSETFROM:-0400
TZOFFSETTO:-0500
TZNAME:EST
DTSTART:20261101T060000
END:STANDARD
BEGIN:DAYLIGHT
TZOFFSETFROM:-0500
TZOFFSETTO:-0400
TZNAME:EDT
DTSTART:20270314T070000
END:DAYLIGHT
BEGIN:STANDARD
TZOFFSETFROM:-0400
TZOFFSETTO:-0500
TZNAME:EST
DTSTART:20271107T060000
END:STANDARD
END:VTIMEZONE
BEGIN:VEVENT
DTSTART;TZID=America/New_York:20260414T173000
DTEND;TZID=America/New_York:20260414T200000
DTSTAMP:20260419T163239
CREATED:20260327T165552Z
LAST-MODIFIED:20260330T155132Z
UID:10084444-1776187800-1776196800@thepinestimes.com
SUMMARY:Teen Tuesday Girls Art Journaling
DESCRIPTION:Join us for Teen Girls Art Journal sessions at Creative Resilience Studio\, 270 C McCaskill Rd E\, Pinehurst NC Tuesday Evenings 5:30pm-8pm \nAlternate week age groups:\n1st & 3rd week 14-17 year olds\n2nd & 4th week 12-13 year olds \n$25 each session.\nAll Supplies included! \nArt Journaling is one easy and fun way to enjoy making low-pressure art and increase your personal resilience\, one page at a time! \nAll supplies included to build an art journal with chip board pages and ring binders. You’re welcome to bring any extras you like to use \nText 732-763-1472 or Follow us for cancellation announcements  \nFacebook @letspaintthetownwithnikki \nInstagram @letspaintthetown_ \nPlease sign up by noon on Tuesday to avoid cancellations.
URL:https://thepinestimes.com/event/teen-tuesday-girls-art-journaling/2026-04-14/
LOCATION:Creative Resilience Studio & Gallery\, 270 C McCaskill Rd.\, Pinehurst\, NC\, 28374\, United States
CATEGORIES:Art/Craft Workshops
ATTACH;FMTTYPE=image/jpeg:https://thepinestimes.com/wp-content/uploads/ArtCraftWorkshopFeature.jpg
ORGANIZER;CN="Lets Paint the Town-Creative Resilience Studio":MAILTO:Nikkisinay@yahoo.com
END:VEVENT
BEGIN:VEVENT
DTSTART;TZID=America/New_York:20260407T173000
DTEND;TZID=America/New_York:20260407T200000
DTSTAMP:20260419T163239
CREATED:20260327T165552Z
LAST-MODIFIED:20260330T155132Z
UID:10084443-1775583000-1775592000@thepinestimes.com
SUMMARY:Teen Tuesday Girls Art Journaling
DESCRIPTION:Join us for Teen Girls Art Journal sessions at Creative Resilience Studio\, 270 C McCaskill Rd E\, Pinehurst NC Tuesday Evenings 5:30pm-8pm \nAlternate week age groups:\n1st & 3rd week 14-17 year olds\n2nd & 4th week 12-13 year olds \n$25 each session.\nAll Supplies included! \nArt Journaling is one easy and fun way to enjoy making low-pressure art and increase your personal resilience\, one page at a time! \nAll supplies included to build an art journal with chip board pages and ring binders. You’re welcome to bring any extras you like to use \nText 732-763-1472 or Follow us for cancellation announcements  \nFacebook @letspaintthetownwithnikki \nInstagram @letspaintthetown_ \nPlease sign up by noon on Tuesday to avoid cancellations.
URL:https://thepinestimes.com/event/teen-tuesday-girls-art-journaling/2026-04-07/
LOCATION:Creative Resilience Studio & Gallery\, 270 C McCaskill Rd.\, Pinehurst\, NC\, 28374\, United States
CATEGORIES:Art/Craft Workshops
ATTACH;FMTTYPE=image/jpeg:https://thepinestimes.com/wp-content/uploads/ArtCraftWorkshopFeature.jpg
ORGANIZER;CN="Lets Paint the Town-Creative Resilience Studio":MAILTO:Nikkisinay@yahoo.com
END:VEVENT
BEGIN:VEVENT
DTSTART;TZID=America/New_York:20260331T173000
DTEND;TZID=America/New_York:20260331T200000
DTSTAMP:20260419T163240
CREATED:20260327T165552Z
LAST-MODIFIED:20260330T155132Z
UID:10084442-1774978200-1774987200@thepinestimes.com
SUMMARY:Teen Tuesday Girls Art Journaling
DESCRIPTION:Join us for Teen Girls Art Journal sessions at Creative Resilience Studio\, 270 C McCaskill Rd E\, Pinehurst NC Tuesday Evenings 5:30pm-8pm \nAlternate week age groups:\n1st & 3rd week 14-17 year olds\n2nd & 4th week 12-13 year olds \n$25 each session.\nAll Supplies included! \nArt Journaling is one easy and fun way to enjoy making low-pressure art and increase your personal resilience\, one page at a time! \nAll supplies included to build an art journal with chip board pages and ring binders. You’re welcome to bring any extras you like to use \nText 732-763-1472 or Follow us for cancellation announcements  \nFacebook @letspaintthetownwithnikki \nInstagram @letspaintthetown_ \nPlease sign up by noon on Tuesday to avoid cancellations.
URL:https://thepinestimes.com/event/teen-tuesday-girls-art-journaling/2026-03-31/
LOCATION:Creative Resilience Studio & Gallery\, 270 C McCaskill Rd.\, Pinehurst\, NC\, 28374\, United States
CATEGORIES:Art/Craft Workshops
ATTACH;FMTTYPE=image/jpeg:https://thepinestimes.com/wp-content/uploads/ArtCraftWorkshopFeature.jpg
ORGANIZER;CN="Lets Paint the Town-Creative Resilience Studio":MAILTO:Nikkisinay@yahoo.com
END:VEVENT
BEGIN:VEVENT
DTSTART;TZID=America/New_York:20260213T140000
DTEND;TZID=America/New_York:20260213T170000
DTSTAMP:20260419T163240
CREATED:20260210T111257Z
LAST-MODIFIED:20260210T144245Z
UID:10080773-1770991200-1771002000@thepinestimes.com
SUMMARY:Queens Galentine’s Canvas Art Workshop
DESCRIPTION:Join for a Galentine’s Queen Canvas at Creative Resilience Art Studio on Friday\, February 13th from 2pm-5pm! \n$30 Per Person\, all supplies included! Guests 16+please! BYOB & snacks. Limited seats available. Must sign up by noon on event date. Refunds or exchanges for other event dates are not available for this event. \nCreative Resilience Art Studio is located at 270 C McCaskill Rd E. Pinehurst NC. Call or text 732-763-1472 \nFull details and online registration can be found through the event website link provided below. \n  \n 
URL:https://thepinestimes.com/event/queens-galentines-canvas/
LOCATION:Creative Resilience Studio & Gallery\, 270 C McCaskill Rd.\, Pinehurst\, NC\, 28374\, United States
CATEGORIES:Art/Craft Workshops,Arts,Hobby/Enthusiast,Holiday Events,Social,Valentine's Day
ATTACH;FMTTYPE=image/jpeg:https://thepinestimes.com/wp-content/uploads/CreativeResilienceStudioFeature1.jpg
ORGANIZER;CN="Lets Paint the Town-Creative Resilience Studio":MAILTO:Nikkisinay@yahoo.com
END:VEVENT
BEGIN:VEVENT
DTSTART;TZID=America/New_York:20260212T183000
DTEND;TZID=America/New_York:20260212T213000
DTSTAMP:20260419T163240
CREATED:20260210T111210Z
LAST-MODIFIED:20260210T141319Z
UID:10080772-1770921000-1770931800@thepinestimes.com
SUMMARY:Little VooDoo Guy Paint Night
DESCRIPTION:Little VooDoo Guy Paint Night at Creative Resilience Art Studio on Thursday\, February 12th from 6:30pm-9:30pm. \n$35 Per Person\, all supplies included! Guests 16+please! BYOB & snacks. Limited seats available. Must sign up by noon on event date. Refunds or exchanges for other event dates are not available for this event.  \nCreative Resilience Art Studio is located at 270 C McCaskill Rd E. Pinehurst NC. Call or text 732-763-1472  \nFull details with registration can be found through the event website link provided below.
URL:https://thepinestimes.com/event/little-voodoo-guy-paint-night/
LOCATION:Creative Resilience Studio & Gallery\, 270 C McCaskill Rd.\, Pinehurst\, NC\, 28374\, United States
CATEGORIES:Art/Craft Workshops,Arts,Social,Valentine's Day
ATTACH;FMTTYPE=image/jpeg:https://thepinestimes.com/wp-content/uploads/CreativeResilienceStudioFeature1.jpg
ORGANIZER;CN="Lets Paint the Town-Creative Resilience Studio":MAILTO:Nikkisinay@yahoo.com
END:VEVENT
BEGIN:VEVENT
DTSTART;TZID=America/New_York:20260103T160000
DTEND;TZID=America/New_York:20260103T213000
DTSTAMP:20260419T163240
CREATED:20260101T155818Z
LAST-MODIFIED:20260101T155818Z
UID:10078223-1767456000-1767475800@thepinestimes.com
SUMMARY:Release & Reimagine: A Full Moon Creative Gathering
DESCRIPTION:Join for Release & Reimagine: A Full Moon Creative Gathering on Saturday\, January 3rd at Creative Resilience Studio in Pinehurst. \nSession one runs from 4:00pm-6:00pm and features a guided full moon visualization and expressive canvas painting for $40. \nSession two takes place from 6:30pm-9:30pm with lantern-guided visualization\, art journaling\, and vision boards\, also $40. Attend both sessions from 4:00pm-9:30pm for the full experience at $75. All materials are included\, space is limited\, and participants may bring their own food and drinks. \nRegister through the event link provided below! \n \n 
URL:https://thepinestimes.com/event/release-reimagine-a-full-moon-creative-gathering/
LOCATION:Creative Resilience Studio & Gallery\, 270 C McCaskill Rd.\, Pinehurst\, NC\, 28374\, United States
CATEGORIES:Adults,Art/Craft Workshops,Art/Photography,Arts,Hobby/Enthusiast,Pinehurst Events,Social,Young Adults
ATTACH;FMTTYPE=image/jpeg:https://thepinestimes.com/wp-content/uploads/CreativeResilienceStudioFeature1.jpg
ORGANIZER;CN="Lets Paint the Town-Creative Resilience Studio":MAILTO:Nikkisinay@yahoo.com
END:VEVENT
BEGIN:VEVENT
DTSTART;TZID=America/New_York:20251020T183000
DTEND;TZID=America/New_York:20251020T213000
DTSTAMP:20260419T163240
CREATED:20250814T233607Z
LAST-MODIFIED:20250923T173233Z
UID:10064620-1760985000-1760995800@thepinestimes.com
SUMMARY:New Moon Paint Night
DESCRIPTION:Moon Phase events at the Studio are small gatherings with intention based art aligning with the current phases of the moon. Join for a New Moon Paint Night on Monday\, October 20th | 6:30pm-9:30pm. Designs may be shared on social media\, but everyone is encouraged to “color outside the lines” and go totally rogue if they like. The group may use stencils\, collage\, even glitter. Creative self expression and mindful intentions for each participant make this a unique event to celebrate whatever season of life you find yourself in. 21+up; byob & snacks. Studio Doors open at 6:15 pm. Intention setting begins at 6:30\, painting starts at approximately 7pm. Space is limited. The cost is $35. For full details and online registration\, follow the event website link iprovided below. \n 
URL:https://thepinestimes.com/event/new-moon-paint-night/
LOCATION:Creative Resilience Studio & Gallery\, 270 C McCaskill Rd.\, Pinehurst\, NC\, 28374\, United States
CATEGORIES:Adult Connections,Art/Photography,Arts,Hobby/Enthusiast
ATTACH;FMTTYPE=image/jpeg:https://thepinestimes.com/wp-content/uploads/CreativeResilienceStudioFeature1.jpg
ORGANIZER;CN="Lets Paint the Town-Creative Resilience Studio":MAILTO:Nikkisinay@yahoo.com
END:VEVENT
BEGIN:VEVENT
DTSTART;TZID=America/New_York:20250906T130000
DTEND;TZID=America/New_York:20250906T163000
DTSTAMP:20260419T163240
CREATED:20250814T175504Z
LAST-MODIFIED:20250814T175504Z
UID:10064618-1757163600-1757176200@thepinestimes.com
SUMMARY:Hat Painting Workshop
DESCRIPTION:Join at Creative Resilience Studio & Gallery for a Hat Painting Workshop on Saturday\, September 6th | 1pm-4:30pm! $65 per person\, all supplies\, hat and instruction included. Full details and registration can be found through the event website link provided below. \n 
URL:https://thepinestimes.com/event/hat-painting-workshop/
LOCATION:Creative Resilience Studio & Gallery\, 270 C McCaskill Rd.\, Pinehurst\, NC\, 28374\, United States
CATEGORIES:Adult Connections,Adults,Art/Craft Workshops,Art/Photography,Arts,Crafts,Hobby/Enthusiast,Pinehurst Events,Social
ATTACH;FMTTYPE=image/jpeg:https://thepinestimes.com/wp-content/uploads/CreativeResilienceStudioFeature1.jpg
ORGANIZER;CN="Lets Paint the Town-Creative Resilience Studio":MAILTO:Nikkisinay@yahoo.com
END:VEVENT
BEGIN:VEVENT
DTSTART;TZID=America/New_York:20250809T183000
DTEND;TZID=America/New_York:20250809T183000
DTSTAMP:20260419T163240
CREATED:20250501T202419Z
LAST-MODIFIED:20250807T211622Z
UID:10057338-1754764200-1754764200@thepinestimes.com
SUMMARY:Full Moon Studio Paint Night
DESCRIPTION:Join at the Creative Resilience Studio & Gallery in Pinehurst for intimate 21+ Moon Phase art nights\, blending creative expression with intention setting. Designs may be shared on social media\, but everyone is encouraged to “color outside the lines” and go totally rogue if they like. BYOB\, bring snacks and expect a relaxed\, experimental vibe. Studio Doors open at 6:15pm. Intention setting begins at 6:30pm\, painting starts at approximately 7:00pm. Limited seating—follow socials for design peeks! \nFull Moon Studio Paint Night on Saturday\, August 9th. The cost is $25. For full details and online reservations\, follow the event website link provided below.
URL:https://thepinestimes.com/event/new-moon-studio-paint-night/
LOCATION:Creative Resilience Studio & Gallery\, 270 C McCaskill Rd.\, Pinehurst\, NC\, 28374\, United States
CATEGORIES:Adults,Art/Craft Workshops,Art/Photography,Educational,Hobby/Enthusiast,Pinehurst Events,Social
ATTACH;FMTTYPE=image/jpeg:https://thepinestimes.com/wp-content/uploads/CreativeResilienceStudioFeature1.jpg
ORGANIZER;CN="Lets Paint the Town-Creative Resilience Studio":MAILTO:Nikkisinay@yahoo.com
END:VEVENT
BEGIN:VEVENT
DTSTART;TZID=America/New_York:20250808T183000
DTEND;TZID=America/New_York:20250808T203000
DTSTAMP:20260419T163240
CREATED:20250806T125620Z
LAST-MODIFIED:20250806T125640Z
UID:10064135-1754677800-1754685000@thepinestimes.com
SUMMARY:Perfectionists Paint Party
DESCRIPTION:Join Let’s Paint the Town at Creative Resilience Studio in Pinehurst for a Perfectionists Paint Party\, no talent needed! Come out on Friday\, August 8th from 6:30pm-8:30ish for an evening of carefree creative play. All supplies included. Perfectionists welcome\, and encouraged to let it all go. For full details and online registration\, follow the event website link provided below.
URL:https://thepinestimes.com/event/perfectionists-paint-party/
LOCATION:Creative Resilience Studio & Gallery\, 270 C McCaskill Rd.\, Pinehurst\, NC\, 28374\, United States
CATEGORIES:Adults,Art/Craft Workshops,Arts,Crafts,Hobby/Enthusiast,Pinehurst Events,Social
ATTACH;FMTTYPE=image/jpeg:https://thepinestimes.com/wp-content/uploads/LetsPaintTheTownFeature.jpg
ORGANIZER;CN="Let's Paint the Town":MAILTO:nikkisinay@yahoo.com
END:VEVENT
BEGIN:VEVENT
DTSTART;TZID=America/New_York:20250527T173000
DTEND;TZID=America/New_York:20250527T200000
DTSTAMP:20260419T163240
CREATED:20250522T150811Z
LAST-MODIFIED:20250814T230432Z
UID:10059014-1748367000-1748376000@thepinestimes.com
SUMMARY:Teen Girl Tuesday Art Journaling (Ages 13-17)
DESCRIPTION:Join Let’s Paint the Town for Teen Girl Tuesdays Art Journaling sessions at Creative Resilience Studio in Pinehurst on August 19th\, 5:30pm-8:00pm! Art Journaling is an easy and fun way to enjoy making low-pressure art and increase your personal resilience\, one page at a time! The cost is $25 with all supplies included to build an art journal with chip board pages and ring binders. You’re welcome to bring any extras you like to use. Please sign up by noon on Tuesday to avoid cancellations. Follow the event website link provided below for additional information and registration.
URL:https://thepinestimes.com/event/teen-girls-art-journaling-ages-13-17/
LOCATION:Creative Resilience Studio & Gallery\, 270 C McCaskill Rd.\, Pinehurst\, NC\, 28374\, United States
CATEGORIES:Art/Craft Workshops,Art/Photography,Arts,Crafts,Educational,Hobby/Enthusiast,Pinehurst Events,Teen Activities,Young Adults
ATTACH;FMTTYPE=image/jpeg:https://thepinestimes.com/wp-content/uploads/CreativeResilienceStudioFeature1.jpg
ORGANIZER;CN="Lets Paint the Town-Creative Resilience Studio":MAILTO:Nikkisinay@yahoo.com
END:VEVENT
END:VCALENDAR