BEGIN:VCALENDAR
VERSION:2.0
PRODID:-//The Pines Times - ECPv6.15.20//NONSGML v1.0//EN
CALSCALE:GREGORIAN
METHOD:PUBLISH
X-WR-CALNAME:The Pines Times
X-ORIGINAL-URL:https://thepinestimes.com
X-WR-CALDESC:Events for The Pines Times
REFRESH-INTERVAL;VALUE=DURATION:PT1H
X-Robots-Tag:noindex
X-PUBLISHED-TTL:PT1H
BEGIN:VTIMEZONE
TZID:America/New_York
BEGIN:DAYLIGHT
TZOFFSETFROM:-0500
TZOFFSETTO:-0400
TZNAME:EDT
DTSTART:20240310T070000
END:DAYLIGHT
BEGIN:STANDARD
TZOFFSETFROM:-0400
TZOFFSETTO:-0500
TZNAME:EST
DTSTART:20241103T060000
END:STANDARD
BEGIN:DAYLIGHT
TZOFFSETFROM:-0500
TZOFFSETTO:-0400
TZNAME:EDT
DTSTART:20250309T070000
END:DAYLIGHT
BEGIN:STANDARD
TZOFFSETFROM:-0400
TZOFFSETTO:-0500
TZNAME:EST
DTSTART:20251102T060000
END:STANDARD
BEGIN:DAYLIGHT
TZOFFSETFROM:-0500
TZOFFSETTO:-0400
TZNAME:EDT
DTSTART:20260308T070000
END:DAYLIGHT
BEGIN:STANDARD
TZOFFSETFROM:-0400
TZOFFSETTO:-0500
TZNAME:EST
DTSTART:20261101T060000
END:STANDARD
END:VTIMEZONE
BEGIN:VEVENT
DTSTART;TZID=America/New_York:20251201T180000
DTEND;TZID=America/New_York:20251201T220000
DTSTAMP:20260420T203616
CREATED:20241218T145724Z
LAST-MODIFIED:20251129T175619Z
UID:10076680-1764612000-1764626400@thepinestimes.com
SUMMARY:Light's in the Pines-Christmas Lights and Show 2025
DESCRIPTION:Bring the family and your camera from 6:00pm-10:00pm for Light’s in the Pines-Christmas Lights and Show 2025 at 2994 US 1 Business in Vass! This year they have 25\,000+ lights set to 9 songs that you can listen to in your vehicle by tuning your radio to 91.7 FM. They will have all the lights on steady for photographs. The light show will run nightly weather permitting through January 1st. \n \n 
URL:https://thepinestimes.com/event/lights-in-the-pines-christmas-lights-and-show-2025/2025-12-01/
LOCATION:Light’s in the pines – Christmas lights and show\, 2994 US 1 Business\, Vass\, 28394\, United States
CATEGORIES:Adults,Children,Christmas,Exhibits,Family,Holiday Events,Nature/Outdoors,Vass Events
ATTACH;FMTTYPE=image/jpeg:https://thepinestimes.com/wp-content/uploads/LightsInThePinesFeature-2.jpg
END:VEVENT
BEGIN:VEVENT
DTSTART;TZID=America/New_York:20251130T180000
DTEND;TZID=America/New_York:20251130T220000
DTSTAMP:20260420T203616
CREATED:20241218T145724Z
LAST-MODIFIED:20251129T175619Z
UID:10076679-1764525600-1764540000@thepinestimes.com
SUMMARY:Light's in the Pines-Christmas Lights and Show 2025
DESCRIPTION:Bring the family and your camera from 6:00pm-10:00pm for Light’s in the Pines-Christmas Lights and Show 2025 at 2994 US 1 Business in Vass! This year they have 25\,000+ lights set to 9 songs that you can listen to in your vehicle by tuning your radio to 91.7 FM. They will have all the lights on steady for photographs. The light show will run nightly weather permitting through January 1st. \n \n 
URL:https://thepinestimes.com/event/lights-in-the-pines-christmas-lights-and-show-2025/2025-11-30/
LOCATION:Light’s in the pines – Christmas lights and show\, 2994 US 1 Business\, Vass\, 28394\, United States
CATEGORIES:Adults,Children,Christmas,Exhibits,Family,Holiday Events,Nature/Outdoors,Vass Events
ATTACH;FMTTYPE=image/jpeg:https://thepinestimes.com/wp-content/uploads/LightsInThePinesFeature-2.jpg
END:VEVENT
BEGIN:VEVENT
DTSTART;TZID=America/New_York:20251129T180000
DTEND;TZID=America/New_York:20251129T220000
DTSTAMP:20260420T203616
CREATED:20241218T145724Z
LAST-MODIFIED:20251129T175619Z
UID:10049482-1764439200-1764453600@thepinestimes.com
SUMMARY:Light's in the Pines-Christmas Lights and Show 2025
DESCRIPTION:Bring the family and your camera from 6:00pm-10:00pm for Light’s in the Pines-Christmas Lights and Show 2025 at 2994 US 1 Business in Vass! This year they have 25\,000+ lights set to 9 songs that you can listen to in your vehicle by tuning your radio to 91.7 FM. They will have all the lights on steady for photographs. The light show will run nightly weather permitting through January 1st. \n \n 
URL:https://thepinestimes.com/event/lights-in-the-pines-christmas-lights-and-show-2025/2025-11-29/
LOCATION:Light’s in the pines – Christmas lights and show\, 2994 US 1 Business\, Vass\, 28394\, United States
CATEGORIES:Adults,Children,Christmas,Exhibits,Family,Holiday Events,Nature/Outdoors,Vass Events
ATTACH;FMTTYPE=image/jpeg:https://thepinestimes.com/wp-content/uploads/LightsInThePinesFeature-2.jpg
END:VEVENT
END:VCALENDAR