BEGIN:VCALENDAR
VERSION:2.0
PRODID:-//The Pines Times - ECPv6.15.20//NONSGML v1.0//EN
CALSCALE:GREGORIAN
METHOD:PUBLISH
X-ORIGINAL-URL:https://thepinestimes.com
X-WR-CALDESC:Events for The Pines Times
REFRESH-INTERVAL;VALUE=DURATION:PT1H
X-Robots-Tag:noindex
X-PUBLISHED-TTL:PT1H
BEGIN:VTIMEZONE
TZID:America/New_York
BEGIN:DAYLIGHT
TZOFFSETFROM:-0500
TZOFFSETTO:-0400
TZNAME:EDT
DTSTART:20250309T070000
END:DAYLIGHT
BEGIN:STANDARD
TZOFFSETFROM:-0400
TZOFFSETTO:-0500
TZNAME:EST
DTSTART:20251102T060000
END:STANDARD
BEGIN:DAYLIGHT
TZOFFSETFROM:-0500
TZOFFSETTO:-0400
TZNAME:EDT
DTSTART:20260308T070000
END:DAYLIGHT
BEGIN:STANDARD
TZOFFSETFROM:-0400
TZOFFSETTO:-0500
TZNAME:EST
DTSTART:20261101T060000
END:STANDARD
BEGIN:DAYLIGHT
TZOFFSETFROM:-0500
TZOFFSETTO:-0400
TZNAME:EDT
DTSTART:20270314T070000
END:DAYLIGHT
BEGIN:STANDARD
TZOFFSETFROM:-0400
TZOFFSETTO:-0500
TZNAME:EST
DTSTART:20271107T060000
END:STANDARD
END:VTIMEZONE
BEGIN:VEVENT
DTSTART;TZID=America/New_York:20260916T163000
DTEND;TZID=America/New_York:20260916T235900
DTSTAMP:20260419T171114
CREATED:20230904T131759Z
LAST-MODIFIED:20260402T121246Z
UID:10064624-1789576200-1789603140@thepinestimes.com
SUMMARY:Lee Regional Fair 2026
DESCRIPTION:Get ready for the fun at the annual Lee Regional Fair\, a Family Tradition Brought to you by the Sanford Lions Club for over 88 years! The fair runs September 16th-20th. Gate admission is $5 per person. \nThe Lee Regional Fair supports agriculture in our area and promotes local farmers by helping them showcase their products and educate the public about the importance of agriculture in our community. With outside and inside vendors\, local bands and professional entertainment\, magic shows\, contests\, pageants\, agriculture displays\, games of chance and a super midway with great rides\, we are here for FAIR FUN! \nWalk through our two exhibit halls to view the art and handicraft exhibits\, cooking competitions and meet local exhibitors. Catch the cattle\, goats\, and chicken livestock contests in the Barn. Don’t miss the pageants and bands on the Arena and Amphitheater stages. You can even try your hand at tobacco looping and tying at the tobacco barn and museum area. Be sure to check out the chuck wagon\, saw mill\, black smith\, antique tractors and farm equipment\, and set a spell at the Country Store and enjoy music and people watching. And don’t forget the GREAT fair food from the Lions Kitchen and Concession Stand. \nHours of Operation\nWednesday\, Thursday & Friday:\nGates Open: 4:30pm\nMidway Hours: 5pm-11:45pm\nFairgrounds Close: midnight (Ticket sales stop at 11pm) \nSaturday:\nGates Open: 12 noon\nMidway Hours: 12:30pm-11:45pm\nFairgrounds Close: midnight (Ticket sales stop at 11pm) \nSunday:\nGates Open: 1pm\nMidway Hours: 1:30pm-6:45pm\nFairgrounds Close: 7pm (Ticket sales stop at 6pm) \nFor full details and the schedule of daily events\, follow the link provided below. \n  \n 
URL:https://thepinestimes.com/event/lee-regional-fair-2026/2026-09-16/
LOCATION:Lions Club Fairgrounds\, 505 N 7th St\, Sanford\, NC\, 27330\, United States
CATEGORIES:Adult Connections,Children,Exhibits,Fair/Festival,Family,Food,Games,Hobby/Enthusiast,Nature/Outdoors,Senior,Shopping,Social,Vendors
ATTACH;FMTTYPE=image/jpeg:https://thepinestimes.com/wp-content/uploads/LeeRegionalFairFeature-1.jpg
END:VEVENT
BEGIN:VEVENT
DTSTART;TZID=America/New_York:20260917T163000
DTEND;TZID=America/New_York:20260917T235900
DTSTAMP:20260419T171114
CREATED:20230904T131759Z
LAST-MODIFIED:20260402T121246Z
UID:10085975-1789662600-1789689540@thepinestimes.com
SUMMARY:Lee Regional Fair 2026
DESCRIPTION:Get ready for the fun at the annual Lee Regional Fair\, a Family Tradition Brought to you by the Sanford Lions Club for over 88 years! The fair runs September 16th-20th. Gate admission is $5 per person. \nThe Lee Regional Fair supports agriculture in our area and promotes local farmers by helping them showcase their products and educate the public about the importance of agriculture in our community. With outside and inside vendors\, local bands and professional entertainment\, magic shows\, contests\, pageants\, agriculture displays\, games of chance and a super midway with great rides\, we are here for FAIR FUN! \nWalk through our two exhibit halls to view the art and handicraft exhibits\, cooking competitions and meet local exhibitors. Catch the cattle\, goats\, and chicken livestock contests in the Barn. Don’t miss the pageants and bands on the Arena and Amphitheater stages. You can even try your hand at tobacco looping and tying at the tobacco barn and museum area. Be sure to check out the chuck wagon\, saw mill\, black smith\, antique tractors and farm equipment\, and set a spell at the Country Store and enjoy music and people watching. And don’t forget the GREAT fair food from the Lions Kitchen and Concession Stand. \nHours of Operation\nWednesday\, Thursday & Friday:\nGates Open: 4:30pm\nMidway Hours: 5pm-11:45pm\nFairgrounds Close: midnight (Ticket sales stop at 11pm) \nSaturday:\nGates Open: 12 noon\nMidway Hours: 12:30pm-11:45pm\nFairgrounds Close: midnight (Ticket sales stop at 11pm) \nSunday:\nGates Open: 1pm\nMidway Hours: 1:30pm-6:45pm\nFairgrounds Close: 7pm (Ticket sales stop at 6pm) \nFor full details and the schedule of daily events\, follow the link provided below. \n  \n 
URL:https://thepinestimes.com/event/lee-regional-fair-2026/2026-09-17/
LOCATION:Lions Club Fairgrounds\, 505 N 7th St\, Sanford\, NC\, 27330\, United States
CATEGORIES:Adult Connections,Children,Exhibits,Fair/Festival,Family,Food,Games,Hobby/Enthusiast,Nature/Outdoors,Senior,Shopping,Social,Vendors
ATTACH;FMTTYPE=image/jpeg:https://thepinestimes.com/wp-content/uploads/LeeRegionalFairFeature-1.jpg
END:VEVENT
BEGIN:VEVENT
DTSTART;TZID=America/New_York:20260918T163000
DTEND;TZID=America/New_York:20260918T235900
DTSTAMP:20260419T171114
CREATED:20230904T131759Z
LAST-MODIFIED:20260402T121246Z
UID:10085976-1789749000-1789775940@thepinestimes.com
SUMMARY:Lee Regional Fair 2026
DESCRIPTION:Get ready for the fun at the annual Lee Regional Fair\, a Family Tradition Brought to you by the Sanford Lions Club for over 88 years! The fair runs September 16th-20th. Gate admission is $5 per person. \nThe Lee Regional Fair supports agriculture in our area and promotes local farmers by helping them showcase their products and educate the public about the importance of agriculture in our community. With outside and inside vendors\, local bands and professional entertainment\, magic shows\, contests\, pageants\, agriculture displays\, games of chance and a super midway with great rides\, we are here for FAIR FUN! \nWalk through our two exhibit halls to view the art and handicraft exhibits\, cooking competitions and meet local exhibitors. Catch the cattle\, goats\, and chicken livestock contests in the Barn. Don’t miss the pageants and bands on the Arena and Amphitheater stages. You can even try your hand at tobacco looping and tying at the tobacco barn and museum area. Be sure to check out the chuck wagon\, saw mill\, black smith\, antique tractors and farm equipment\, and set a spell at the Country Store and enjoy music and people watching. And don’t forget the GREAT fair food from the Lions Kitchen and Concession Stand. \nHours of Operation\nWednesday\, Thursday & Friday:\nGates Open: 4:30pm\nMidway Hours: 5pm-11:45pm\nFairgrounds Close: midnight (Ticket sales stop at 11pm) \nSaturday:\nGates Open: 12 noon\nMidway Hours: 12:30pm-11:45pm\nFairgrounds Close: midnight (Ticket sales stop at 11pm) \nSunday:\nGates Open: 1pm\nMidway Hours: 1:30pm-6:45pm\nFairgrounds Close: 7pm (Ticket sales stop at 6pm) \nFor full details and the schedule of daily events\, follow the link provided below. \n  \n 
URL:https://thepinestimes.com/event/lee-regional-fair-2026/2026-09-18/
LOCATION:Lions Club Fairgrounds\, 505 N 7th St\, Sanford\, NC\, 27330\, United States
CATEGORIES:Adult Connections,Children,Exhibits,Fair/Festival,Family,Food,Games,Hobby/Enthusiast,Nature/Outdoors,Senior,Shopping,Social,Vendors
ATTACH;FMTTYPE=image/jpeg:https://thepinestimes.com/wp-content/uploads/LeeRegionalFairFeature-1.jpg
END:VEVENT
BEGIN:VEVENT
DTSTART;TZID=America/New_York:20260919T120000
DTEND;TZID=America/New_York:20260919T234500
DTSTAMP:20260419T171114
CREATED:20230904T131759Z
LAST-MODIFIED:20260402T121246Z
UID:10085977-1789819200-1789861500@thepinestimes.com
SUMMARY:Lee Regional Fair 2026
DESCRIPTION:Get ready for the fun at the annual Lee Regional Fair\, a Family Tradition Brought to you by the Sanford Lions Club for over 88 years! The fair runs September 16th-20th. Gate admission is $5 per person. \nThe Lee Regional Fair supports agriculture in our area and promotes local farmers by helping them showcase their products and educate the public about the importance of agriculture in our community. With outside and inside vendors\, local bands and professional entertainment\, magic shows\, contests\, pageants\, agriculture displays\, games of chance and a super midway with great rides\, we are here for FAIR FUN! \nWalk through our two exhibit halls to view the art and handicraft exhibits\, cooking competitions and meet local exhibitors. Catch the cattle\, goats\, and chicken livestock contests in the Barn. Don’t miss the pageants and bands on the Arena and Amphitheater stages. You can even try your hand at tobacco looping and tying at the tobacco barn and museum area. Be sure to check out the chuck wagon\, saw mill\, black smith\, antique tractors and farm equipment\, and set a spell at the Country Store and enjoy music and people watching. And don’t forget the GREAT fair food from the Lions Kitchen and Concession Stand. \nHours of Operation\nWednesday\, Thursday & Friday:\nGates Open: 4:30pm\nMidway Hours: 5pm-11:45pm\nFairgrounds Close: midnight (Ticket sales stop at 11pm) \nSaturday:\nGates Open: 12 noon\nMidway Hours: 12:30pm-11:45pm\nFairgrounds Close: midnight (Ticket sales stop at 11pm) \nSunday:\nGates Open: 1pm\nMidway Hours: 1:30pm-6:45pm\nFairgrounds Close: 7pm (Ticket sales stop at 6pm) \nFor full details and the schedule of daily events\, follow the link provided below. \n  \n 
URL:https://thepinestimes.com/event/lee-regional-fair-2026/2026-09-19/
LOCATION:Lions Club Fairgrounds\, 505 N 7th St\, Sanford\, NC\, 27330\, United States
CATEGORIES:Adult Connections,Children,Exhibits,Fair/Festival,Family,Food,Games,Hobby/Enthusiast,Nature/Outdoors,Senior,Shopping,Social,Vendors
ATTACH;FMTTYPE=image/jpeg:https://thepinestimes.com/wp-content/uploads/LeeRegionalFairFeature-1.jpg
END:VEVENT
BEGIN:VEVENT
DTSTART;TZID=America/New_York:20260920T130000
DTEND;TZID=America/New_York:20260920T184500
DTSTAMP:20260419T171114
CREATED:20230904T131759Z
LAST-MODIFIED:20260402T121246Z
UID:10085978-1789909200-1789929900@thepinestimes.com
SUMMARY:Lee Regional Fair 2026
DESCRIPTION:Get ready for the fun at the annual Lee Regional Fair\, a Family Tradition Brought to you by the Sanford Lions Club for over 88 years! The fair runs September 16th-20th. Gate admission is $5 per person. \nThe Lee Regional Fair supports agriculture in our area and promotes local farmers by helping them showcase their products and educate the public about the importance of agriculture in our community. With outside and inside vendors\, local bands and professional entertainment\, magic shows\, contests\, pageants\, agriculture displays\, games of chance and a super midway with great rides\, we are here for FAIR FUN! \nWalk through our two exhibit halls to view the art and handicraft exhibits\, cooking competitions and meet local exhibitors. Catch the cattle\, goats\, and chicken livestock contests in the Barn. Don’t miss the pageants and bands on the Arena and Amphitheater stages. You can even try your hand at tobacco looping and tying at the tobacco barn and museum area. Be sure to check out the chuck wagon\, saw mill\, black smith\, antique tractors and farm equipment\, and set a spell at the Country Store and enjoy music and people watching. And don’t forget the GREAT fair food from the Lions Kitchen and Concession Stand. \nHours of Operation\nWednesday\, Thursday & Friday:\nGates Open: 4:30pm\nMidway Hours: 5pm-11:45pm\nFairgrounds Close: midnight (Ticket sales stop at 11pm) \nSaturday:\nGates Open: 12 noon\nMidway Hours: 12:30pm-11:45pm\nFairgrounds Close: midnight (Ticket sales stop at 11pm) \nSunday:\nGates Open: 1pm\nMidway Hours: 1:30pm-6:45pm\nFairgrounds Close: 7pm (Ticket sales stop at 6pm) \nFor full details and the schedule of daily events\, follow the link provided below. \n  \n 
URL:https://thepinestimes.com/event/lee-regional-fair-2026/2026-09-20/
LOCATION:Lions Club Fairgrounds\, 505 N 7th St\, Sanford\, NC\, 27330\, United States
CATEGORIES:Adult Connections,Children,Exhibits,Fair/Festival,Family,Food,Games,Hobby/Enthusiast,Nature/Outdoors,Senior,Shopping,Social,Vendors
ATTACH;FMTTYPE=image/jpeg:https://thepinestimes.com/wp-content/uploads/LeeRegionalFairFeature-1.jpg
END:VEVENT
END:VCALENDAR