BEGIN:VCALENDAR
VERSION:2.0
PRODID:-//The Pines Times - ECPv6.15.20//NONSGML v1.0//EN
CALSCALE:GREGORIAN
METHOD:PUBLISH
X-WR-CALNAME:The Pines Times
X-ORIGINAL-URL:https://thepinestimes.com
X-WR-CALDESC:Events for The Pines Times
REFRESH-INTERVAL;VALUE=DURATION:PT1H
X-Robots-Tag:noindex
X-PUBLISHED-TTL:PT1H
BEGIN:VTIMEZONE
TZID:America/New_York
BEGIN:DAYLIGHT
TZOFFSETFROM:-0500
TZOFFSETTO:-0400
TZNAME:EDT
DTSTART:20240310T070000
END:DAYLIGHT
BEGIN:STANDARD
TZOFFSETFROM:-0400
TZOFFSETTO:-0500
TZNAME:EST
DTSTART:20241103T060000
END:STANDARD
BEGIN:DAYLIGHT
TZOFFSETFROM:-0500
TZOFFSETTO:-0400
TZNAME:EDT
DTSTART:20250309T070000
END:DAYLIGHT
BEGIN:STANDARD
TZOFFSETFROM:-0400
TZOFFSETTO:-0500
TZNAME:EST
DTSTART:20251102T060000
END:STANDARD
BEGIN:DAYLIGHT
TZOFFSETFROM:-0500
TZOFFSETTO:-0400
TZNAME:EDT
DTSTART:20260308T070000
END:DAYLIGHT
BEGIN:STANDARD
TZOFFSETFROM:-0400
TZOFFSETTO:-0500
TZNAME:EST
DTSTART:20261101T060000
END:STANDARD
END:VTIMEZONE
BEGIN:VEVENT
DTSTART;TZID=America/New_York:20251116T090000
DTEND;TZID=America/New_York:20251116T140000
DTSTAMP:20260425T212329
CREATED:20241016T182010Z
LAST-MODIFIED:20251011T175303Z
UID:10046649-1763283600-1763301600@thepinestimes.com
SUMMARY:Moore County Hounds: 34th Annual Hunter Pace
DESCRIPTION:Join Moore County Hounds for the 34th annual Hunter Pace event on Sunday\, November 16th | 9:00am-2:00pm! Enjoy an exhilarating day of sport at the stunning Walthour Moss Foundation Hunter Pace at Lyells’s Meadow in Southern Pines. Whether you’re a Trail Blazer looking for a leisurely ride or a Coyote Run participant ready for a full canter\, there is something for every rider. Lunch and Awards Ceremony will follow competition. \nThe competition offers three distinct riding divisions\, each with its own optimum time! The Coyote Run division requires teams to move at a fast pace\, mostly cantering as if following the hounds at full cry. The Fox Chase division is slightly slower\, requiring a brisk pace—mostly trot with some canter. Finally\, the Hilltopper division is for a moderate pace\, consisting of mostly trotting with some walking. \nThe schedule begins with Registration at 8:30am. The Competition runs from 9:00am-11:30am\, followed by the Lunch and Awards Ceremony from 11:30am-2:00pm. \nFor full details\, follow the event website link provided below.
URL:https://thepinestimes.com/event/moore-county-hounds-34th-annual-hunter-pace/
LOCATION:Lyell’s Meadow\, 225 Mile Away Lane\, Southern Pines\, NC\, 28387\, United States
CATEGORIES:Adults,Equestrian,Family,Hobby/Enthusiast,Live Entertainment,Nature/Outdoors,Pets/Animals,Social,Southern Pines Events,Sports
ATTACH;FMTTYPE=image/jpeg:https://thepinestimes.com/wp-content/uploads/Moore-County-Hounds-Feature.jpg
END:VEVENT
BEGIN:VEVENT
DTSTART;TZID=America/New_York:20250607T090000
DTEND;TZID=America/New_York:20250607T120000
DTSTAMP:20260425T212329
CREATED:20240516T172343Z
LAST-MODIFIED:20250515T184005Z
UID:10036986-1749286800-1749297600@thepinestimes.com
SUMMARY:The Walthour-Moss Foundation: Fun Dog Show
DESCRIPTION:The Walthour-Moss Foundation will hold their annual Fun Dog Show on Saturday\, June 7th | 9am-12pm! Come out for a barking\, silly\, tail-wagging day of fun! Classes include Senior Dog\, Jr. Handler\, Costume (both dog and handler)\, Musical Sit\, Best Rescue\, Best Trick\, Cutest and Best in Show Fundraiser. Ribbons and prizes awarded in each class. Spectators are invited to enjoy viewing all of the adorable participants. Caring Hearts for Canines will be on site for the fun with adoptable pups. The fun takes place at Lyell’s Meadow in Southern Pines. Day of registration opens at 8am with the Fun Dog Show beginning at 9am. For online entries\, follow the event link provided below. \n 
URL:https://thepinestimes.com/event/the-walthour-moss-foundation-fun-dog-show/
LOCATION:Lyell’s Meadow\, 225 Mile Away Lane\, Southern Pines\, NC\, 28387\, United States
CATEGORIES:Adults,Children,Family,Hobby/Enthusiast,Live Entertainment,Nature/Outdoors,Pets/Animals,Senior,Social,Southern Pines Events
ATTACH;FMTTYPE=image/jpeg:https://thepinestimes.com/wp-content/uploads/WalthourMossFoundationFeature1.jpg
END:VEVENT
END:VCALENDAR