BEGIN:VCALENDAR
VERSION:2.0
PRODID:-//The Pines Times - ECPv6.15.20//NONSGML v1.0//EN
CALSCALE:GREGORIAN
METHOD:PUBLISH
X-WR-CALNAME:The Pines Times
X-ORIGINAL-URL:https://thepinestimes.com
X-WR-CALDESC:Events for The Pines Times
REFRESH-INTERVAL;VALUE=DURATION:PT1H
X-Robots-Tag:noindex
X-PUBLISHED-TTL:PT1H
BEGIN:VTIMEZONE
TZID:America/New_York
BEGIN:DAYLIGHT
TZOFFSETFROM:-0500
TZOFFSETTO:-0400
TZNAME:EDT
DTSTART:20240310T070000
END:DAYLIGHT
BEGIN:STANDARD
TZOFFSETFROM:-0400
TZOFFSETTO:-0500
TZNAME:EST
DTSTART:20241103T060000
END:STANDARD
BEGIN:DAYLIGHT
TZOFFSETFROM:-0500
TZOFFSETTO:-0400
TZNAME:EDT
DTSTART:20250309T070000
END:DAYLIGHT
BEGIN:STANDARD
TZOFFSETFROM:-0400
TZOFFSETTO:-0500
TZNAME:EST
DTSTART:20251102T060000
END:STANDARD
BEGIN:DAYLIGHT
TZOFFSETFROM:-0500
TZOFFSETTO:-0400
TZNAME:EDT
DTSTART:20260308T070000
END:DAYLIGHT
BEGIN:STANDARD
TZOFFSETFROM:-0400
TZOFFSETTO:-0500
TZNAME:EST
DTSTART:20261101T060000
END:STANDARD
END:VTIMEZONE
BEGIN:VEVENT
DTSTART;TZID=America/New_York:20250916T183000
DTEND;TZID=America/New_York:20250916T183000
DTSTAMP:20260423T114505
CREATED:20240620T153747Z
LAST-MODIFIED:20250908T135130Z
UID:10055332-1758047400-1758047400@thepinestimes.com
SUMMARY:Yoga by the Tracks
DESCRIPTION:Join for a monthly Yoga by the Tracks session in Main Street Park of Hamlet. Yoga takes place the third Tuesday of each month at 6:00pm. \n 
URL:https://thepinestimes.com/event/yoga-by-the-tracks/2025-09-16/
LOCATION:Main Street Park\, Aberdeen\, NC\, 28315\, United States
CATEGORIES:Adults,Art/Craft Workshops,Hamlet,Health & Wellness,Hobby/Enthusiast,Nature/Outdoors,Senior,Social
ATTACH;FMTTYPE=image/jpeg:https://thepinestimes.com/wp-content/uploads/HamletDepotMuseumFeature.jpg
END:VEVENT
BEGIN:VEVENT
DTSTART;TZID=America/New_York:20250819T183000
DTEND;TZID=America/New_York:20250819T183000
DTSTAMP:20260423T114505
CREATED:20240620T153747Z
LAST-MODIFIED:20250908T135130Z
UID:10055331-1755628200-1755628200@thepinestimes.com
SUMMARY:Yoga by the Tracks
DESCRIPTION:Join for a monthly Yoga by the Tracks session in Main Street Park of Hamlet. Yoga takes place the third Tuesday of each month at 6:00pm. \n 
URL:https://thepinestimes.com/event/yoga-by-the-tracks/2025-08-19/
LOCATION:Main Street Park\, Aberdeen\, NC\, 28315\, United States
CATEGORIES:Adults,Art/Craft Workshops,Hamlet,Health & Wellness,Hobby/Enthusiast,Nature/Outdoors,Senior,Social
ATTACH;FMTTYPE=image/jpeg:https://thepinestimes.com/wp-content/uploads/HamletDepotMuseumFeature.jpg
END:VEVENT
BEGIN:VEVENT
DTSTART;TZID=America/New_York:20250715T183000
DTEND;TZID=America/New_York:20250715T183000
DTSTAMP:20260423T114505
CREATED:20240620T153747Z
LAST-MODIFIED:20250908T135130Z
UID:10055330-1752604200-1752604200@thepinestimes.com
SUMMARY:Yoga by the Tracks
DESCRIPTION:Join for a monthly Yoga by the Tracks session in Main Street Park of Hamlet. Yoga takes place the third Tuesday of each month at 6:00pm. \n 
URL:https://thepinestimes.com/event/yoga-by-the-tracks/2025-07-15/
LOCATION:Main Street Park\, Aberdeen\, NC\, 28315\, United States
CATEGORIES:Adults,Art/Craft Workshops,Hamlet,Health & Wellness,Hobby/Enthusiast,Nature/Outdoors,Senior,Social
ATTACH;FMTTYPE=image/jpeg:https://thepinestimes.com/wp-content/uploads/HamletDepotMuseumFeature.jpg
END:VEVENT
BEGIN:VEVENT
DTSTART;TZID=America/New_York:20250617T183000
DTEND;TZID=America/New_York:20250617T183000
DTSTAMP:20260423T114505
CREATED:20240620T153747Z
LAST-MODIFIED:20250908T135130Z
UID:10055329-1750185000-1750185000@thepinestimes.com
SUMMARY:Yoga by the Tracks
DESCRIPTION:Join for a monthly Yoga by the Tracks session in Main Street Park of Hamlet. Yoga takes place the third Tuesday of each month at 6:00pm. \n 
URL:https://thepinestimes.com/event/yoga-by-the-tracks/2025-06-17/
LOCATION:Main Street Park\, Aberdeen\, NC\, 28315\, United States
CATEGORIES:Adults,Art/Craft Workshops,Hamlet,Health & Wellness,Hobby/Enthusiast,Nature/Outdoors,Senior,Social
ATTACH;FMTTYPE=image/jpeg:https://thepinestimes.com/wp-content/uploads/HamletDepotMuseumFeature.jpg
END:VEVENT
BEGIN:VEVENT
DTSTART;TZID=America/New_York:20250520T183000
DTEND;TZID=America/New_York:20250520T183000
DTSTAMP:20260423T114505
CREATED:20240620T153747Z
LAST-MODIFIED:20250908T135130Z
UID:10055328-1747765800-1747765800@thepinestimes.com
SUMMARY:Yoga by the Tracks
DESCRIPTION:Join for a monthly Yoga by the Tracks session in Main Street Park of Hamlet. Yoga takes place the third Tuesday of each month at 6:00pm. \n 
URL:https://thepinestimes.com/event/yoga-by-the-tracks/2025-05-20/
LOCATION:Main Street Park\, Aberdeen\, NC\, 28315\, United States
CATEGORIES:Adults,Art/Craft Workshops,Hamlet,Health & Wellness,Hobby/Enthusiast,Nature/Outdoors,Senior,Social
ATTACH;FMTTYPE=image/jpeg:https://thepinestimes.com/wp-content/uploads/HamletDepotMuseumFeature.jpg
END:VEVENT
BEGIN:VEVENT
DTSTART;TZID=America/New_York:20250415T183000
DTEND;TZID=America/New_York:20250415T183000
DTSTAMP:20260423T114505
CREATED:20240620T153747Z
LAST-MODIFIED:20250908T135130Z
UID:10055327-1744741800-1744741800@thepinestimes.com
SUMMARY:Yoga by the Tracks
DESCRIPTION:Join for a monthly Yoga by the Tracks session in Main Street Park of Hamlet. Yoga takes place the third Tuesday of each month at 6:00pm. \n 
URL:https://thepinestimes.com/event/yoga-by-the-tracks/2025-04-15/
LOCATION:Main Street Park\, Aberdeen\, NC\, 28315\, United States
CATEGORIES:Adults,Art/Craft Workshops,Hamlet,Health & Wellness,Hobby/Enthusiast,Nature/Outdoors,Senior,Social
ATTACH;FMTTYPE=image/jpeg:https://thepinestimes.com/wp-content/uploads/HamletDepotMuseumFeature.jpg
END:VEVENT
END:VCALENDAR