BEGIN:VCALENDAR
VERSION:2.0
PRODID:-//The Pines Times - ECPv6.15.20//NONSGML v1.0//EN
CALSCALE:GREGORIAN
METHOD:PUBLISH
X-ORIGINAL-URL:https://thepinestimes.com
X-WR-CALDESC:Events for The Pines Times
REFRESH-INTERVAL;VALUE=DURATION:PT1H
X-Robots-Tag:noindex
X-PUBLISHED-TTL:PT1H
BEGIN:VTIMEZONE
TZID:America/New_York
BEGIN:DAYLIGHT
TZOFFSETFROM:-0500
TZOFFSETTO:-0400
TZNAME:EDT
DTSTART:20240310T070000
END:DAYLIGHT
BEGIN:STANDARD
TZOFFSETFROM:-0400
TZOFFSETTO:-0500
TZNAME:EST
DTSTART:20241103T060000
END:STANDARD
BEGIN:DAYLIGHT
TZOFFSETFROM:-0500
TZOFFSETTO:-0400
TZNAME:EDT
DTSTART:20250309T070000
END:DAYLIGHT
BEGIN:STANDARD
TZOFFSETFROM:-0400
TZOFFSETTO:-0500
TZNAME:EST
DTSTART:20251102T060000
END:STANDARD
BEGIN:DAYLIGHT
TZOFFSETFROM:-0500
TZOFFSETTO:-0400
TZNAME:EDT
DTSTART:20260308T070000
END:DAYLIGHT
BEGIN:STANDARD
TZOFFSETFROM:-0400
TZOFFSETTO:-0500
TZNAME:EST
DTSTART:20261101T060000
END:STANDARD
BEGIN:DAYLIGHT
TZOFFSETFROM:-0500
TZOFFSETTO:-0400
TZNAME:EDT
DTSTART:20270314T070000
END:DAYLIGHT
BEGIN:STANDARD
TZOFFSETFROM:-0400
TZOFFSETTO:-0500
TZNAME:EST
DTSTART:20271107T060000
END:STANDARD
END:VTIMEZONE
BEGIN:VEVENT
DTSTART;TZID=America/New_York:20260227T110000
DTEND;TZID=America/New_York:20260227T160000
DTSTAMP:20260420T095700
CREATED:20260227T184700Z
LAST-MODIFIED:20260227T184700Z
UID:10082098-1772190000-1772208000@thepinestimes.com
SUMMARY:Brick City Gallery: February Exhibit Featuring Vincent Frye
DESCRIPTION:The Brick City Gallery\, located in the MANN Center for the Arts at 507 N. Steele Street\, Suite 211\, in Sanford\, currently has 300 pieces of art created by 30 Sanford Brush & Palette Club members on display. Visitors can explore a collection that includes paintings\, pottery\, sculptures\, and unique novelty items\, all of which are refreshed every three months to provide a new experience. \nFor the month of February 2026\, the gallery is featuring Vincent Frye\, whose visually engaging work uses saturated colors or pen and ink to explore themes of nature and human emotion. The gallery is open Thursday through Sunday from 11:00AM-4:00PM\, and anyone seeking more information can reach out to gallery@sanfordarts.org.
URL:https://thepinestimes.com/event/brick-city-gallery-february-exhibit-featuring-vincent-frye/2026-02-27/
LOCATION:MANN Center for the Arts\, 507 N Steele Street\, Sanford\, NC\, 27330\, United States
CATEGORIES:Art/Photography,Arts,Exhibits,Hobby/Enthusiast,Out of Town,Sanford Events,Sanford Events
ATTACH;FMTTYPE=image/jpeg:https://thepinestimes.com/wp-content/uploads/BrickCityGalleryFeature.jpg
END:VEVENT
BEGIN:VEVENT
DTSTART;TZID=America/New_York:20250817T140000
DTEND;TZID=America/New_York:20250817T210000
DTSTAMP:20260420T095700
CREATED:20240812T155823Z
LAST-MODIFIED:20250810T145135Z
UID:10064418-1755439200-1755464400@thepinestimes.com
SUMMARY:Hemlock Festival 2025
DESCRIPTION:Join at the Mann Center of North Carolina in Sanford for the Hemlock Festival on Saturday\, August 16th and Sunday\, August 17th | 2pm-9pm each day! Enjoy two days of incredible live music with performances from a variety of talented bands and artists. Proceeds support Musicians for Overdose Prevention. Admission is just $10. Come out for great tunes\, community and a good cause.
URL:https://thepinestimes.com/event/hemlock-festival/2025-08-17/
LOCATION:MANN Center for the Arts\, 507 N Steele Street\, Sanford\, NC\, 27330\, United States
CATEGORIES:Adults,Concert,Fundraiser,Hobby/Enthusiast,Live Music,Out of Town,Pets/Animals,Sanford Events,Social,Vendors
ATTACH;FMTTYPE=image/jpeg:https://thepinestimes.com/wp-content/uploads/HemlockfestFeature.jpg
END:VEVENT
BEGIN:VEVENT
DTSTART;TZID=America/New_York:20250816T140000
DTEND;TZID=America/New_York:20250816T210000
DTSTAMP:20260420T095700
CREATED:20240812T155823Z
LAST-MODIFIED:20250810T145135Z
UID:10064417-1755352800-1755378000@thepinestimes.com
SUMMARY:Hemlock Festival 2025
DESCRIPTION:Join at the Mann Center of North Carolina in Sanford for the Hemlock Festival on Saturday\, August 16th and Sunday\, August 17th | 2pm-9pm each day! Enjoy two days of incredible live music with performances from a variety of talented bands and artists. Proceeds support Musicians for Overdose Prevention. Admission is just $10. Come out for great tunes\, community and a good cause.
URL:https://thepinestimes.com/event/hemlock-festival/2025-08-16/
LOCATION:MANN Center for the Arts\, 507 N Steele Street\, Sanford\, NC\, 27330\, United States
CATEGORIES:Adults,Concert,Fundraiser,Hobby/Enthusiast,Live Music,Out of Town,Pets/Animals,Sanford Events,Social,Vendors
ATTACH;FMTTYPE=image/jpeg:https://thepinestimes.com/wp-content/uploads/HemlockfestFeature.jpg
END:VEVENT
END:VCALENDAR