BEGIN:VCALENDAR
VERSION:2.0
PRODID:-//The Pines Times - ECPv6.15.20//NONSGML v1.0//EN
CALSCALE:GREGORIAN
METHOD:PUBLISH
X-WR-CALNAME:The Pines Times
X-ORIGINAL-URL:https://thepinestimes.com
X-WR-CALDESC:Events for The Pines Times
REFRESH-INTERVAL;VALUE=DURATION:PT1H
X-Robots-Tag:noindex
X-PUBLISHED-TTL:PT1H
BEGIN:VTIMEZONE
TZID:America/New_York
BEGIN:DAYLIGHT
TZOFFSETFROM:-0500
TZOFFSETTO:-0400
TZNAME:EDT
DTSTART:20240310T070000
END:DAYLIGHT
BEGIN:STANDARD
TZOFFSETFROM:-0400
TZOFFSETTO:-0500
TZNAME:EST
DTSTART:20241103T060000
END:STANDARD
BEGIN:DAYLIGHT
TZOFFSETFROM:-0500
TZOFFSETTO:-0400
TZNAME:EDT
DTSTART:20250309T070000
END:DAYLIGHT
BEGIN:STANDARD
TZOFFSETFROM:-0400
TZOFFSETTO:-0500
TZNAME:EST
DTSTART:20251102T060000
END:STANDARD
BEGIN:DAYLIGHT
TZOFFSETFROM:-0500
TZOFFSETTO:-0400
TZNAME:EDT
DTSTART:20260308T070000
END:DAYLIGHT
BEGIN:STANDARD
TZOFFSETFROM:-0400
TZOFFSETTO:-0500
TZNAME:EST
DTSTART:20261101T060000
END:STANDARD
END:VTIMEZONE
BEGIN:VEVENT
DTSTART;TZID=America/New_York:20251206T100000
DTEND;TZID=America/New_York:20251206T120000
DTSTAMP:20260421T045654
CREATED:20251120T152244Z
LAST-MODIFIED:20251120T152244Z
UID:10075319-1765015200-1765022400@thepinestimes.com
SUMMARY:Cocoa Patrol with City of Sanford Parks and the Sanford Police Department
DESCRIPTION:Join the City of Sanford Parks and the Sanford Police Department for Cocoa Patrol on Saturday\, December 6th from 10:00am-12:00pm! Enjoy a festive morning of fun\, cocoa\, and community connection at Maple Avenue Park! Have a free cup of hot chocolate with members of the Sanford Police Department and kick off the holiday season together. It is a great chance to chat with local officers\, ask questions\, and build positive relationships in a relaxed\, family-friendly setting. Santa Claus will be there as a special guest\, so don’t miss your chance to snap a photo with him and share your holiday wishes! \n \n 
URL:https://thepinestimes.com/event/cocoa-patrol-with-city-of-sanford-parks-and-the-sanford-police-department/
LOCATION:Maple Avenue Park\, 305 S. 4th Street\, Sanford\, NC\, 27330\, United States
CATEGORIES:Children,Christmas,Family,Finding Santa,Finding Santa,Holiday Events,Piney's Kids,Piney's Tiny's,Sanford Events,Santa,Social
ATTACH;FMTTYPE=image/jpeg:https://thepinestimes.com/wp-content/uploads/CityOfSanfordParksFeature.jpg
END:VEVENT
END:VCALENDAR