BEGIN:VCALENDAR
VERSION:2.0
PRODID:-//The Pines Times - ECPv6.15.20//NONSGML v1.0//EN
CALSCALE:GREGORIAN
METHOD:PUBLISH
X-WR-CALNAME:The Pines Times
X-ORIGINAL-URL:https://thepinestimes.com
X-WR-CALDESC:Events for The Pines Times
REFRESH-INTERVAL;VALUE=DURATION:PT1H
X-Robots-Tag:noindex
X-PUBLISHED-TTL:PT1H
BEGIN:VTIMEZONE
TZID:America/New_York
BEGIN:DAYLIGHT
TZOFFSETFROM:-0500
TZOFFSETTO:-0400
TZNAME:EDT
DTSTART:20240310T070000
END:DAYLIGHT
BEGIN:STANDARD
TZOFFSETFROM:-0400
TZOFFSETTO:-0500
TZNAME:EST
DTSTART:20241103T060000
END:STANDARD
BEGIN:DAYLIGHT
TZOFFSETFROM:-0500
TZOFFSETTO:-0400
TZNAME:EDT
DTSTART:20250309T070000
END:DAYLIGHT
BEGIN:STANDARD
TZOFFSETFROM:-0400
TZOFFSETTO:-0500
TZNAME:EST
DTSTART:20251102T060000
END:STANDARD
BEGIN:DAYLIGHT
TZOFFSETFROM:-0500
TZOFFSETTO:-0400
TZNAME:EDT
DTSTART:20260308T070000
END:DAYLIGHT
BEGIN:STANDARD
TZOFFSETFROM:-0400
TZOFFSETTO:-0500
TZNAME:EST
DTSTART:20261101T060000
END:STANDARD
END:VTIMEZONE
BEGIN:VEVENT
DTSTART;TZID=America/New_York:20250929T090000
DTEND;TZID=America/New_York:20250929T140000
DTSTAMP:20260423T101122
CREATED:20250513T163504Z
LAST-MODIFIED:20250809T145328Z
UID:10064335-1759136400-1759154400@thepinestimes.com
SUMMARY:Carthage Farmers Market
DESCRIPTION:Shop the Carthage Farmers Market! Come out and support your local farmers at the market that features fresh seasonal produce\, meats\, eggs\, bread\, handmade goods and more! There will be a variety of local farmers. The market takes place each Monday | 9am-2pm at the McDonald Buildings in Carthage! For questions\, please contact 910-315-2058. \n 
URL:https://thepinestimes.com/event/carthage-farmers-market/2025-09-29/
LOCATION:McDonald Building\, 207 McReynolds Street\, Carthage\, NC\, 28327\, United States
CATEGORIES:Adults,Carthage Events,Food,Markets,Nature/Outdoors,Senior,Shopping,Social,Vendors
ATTACH;FMTTYPE=image/jpeg:https://thepinestimes.com/wp-content/uploads/CarthageFarmersMarketFeature-1.jpg
END:VEVENT
BEGIN:VEVENT
DTSTART;TZID=America/New_York:20250922T090000
DTEND;TZID=America/New_York:20250922T140000
DTSTAMP:20260423T101122
CREATED:20250513T163504Z
LAST-MODIFIED:20250809T145328Z
UID:10064334-1758531600-1758549600@thepinestimes.com
SUMMARY:Carthage Farmers Market
DESCRIPTION:Shop the Carthage Farmers Market! Come out and support your local farmers at the market that features fresh seasonal produce\, meats\, eggs\, bread\, handmade goods and more! There will be a variety of local farmers. The market takes place each Monday | 9am-2pm at the McDonald Buildings in Carthage! For questions\, please contact 910-315-2058. \n 
URL:https://thepinestimes.com/event/carthage-farmers-market/2025-09-22/
LOCATION:McDonald Building\, 207 McReynolds Street\, Carthage\, NC\, 28327\, United States
CATEGORIES:Adults,Carthage Events,Food,Markets,Nature/Outdoors,Senior,Shopping,Social,Vendors
ATTACH;FMTTYPE=image/jpeg:https://thepinestimes.com/wp-content/uploads/CarthageFarmersMarketFeature-1.jpg
END:VEVENT
BEGIN:VEVENT
DTSTART;TZID=America/New_York:20250915T090000
DTEND;TZID=America/New_York:20250915T140000
DTSTAMP:20260423T101122
CREATED:20250513T163504Z
LAST-MODIFIED:20250809T145328Z
UID:10064333-1757926800-1757944800@thepinestimes.com
SUMMARY:Carthage Farmers Market
DESCRIPTION:Shop the Carthage Farmers Market! Come out and support your local farmers at the market that features fresh seasonal produce\, meats\, eggs\, bread\, handmade goods and more! There will be a variety of local farmers. The market takes place each Monday | 9am-2pm at the McDonald Buildings in Carthage! For questions\, please contact 910-315-2058. \n 
URL:https://thepinestimes.com/event/carthage-farmers-market/2025-09-15/
LOCATION:McDonald Building\, 207 McReynolds Street\, Carthage\, NC\, 28327\, United States
CATEGORIES:Adults,Carthage Events,Food,Markets,Nature/Outdoors,Senior,Shopping,Social,Vendors
ATTACH;FMTTYPE=image/jpeg:https://thepinestimes.com/wp-content/uploads/CarthageFarmersMarketFeature-1.jpg
END:VEVENT
BEGIN:VEVENT
DTSTART;TZID=America/New_York:20250908T090000
DTEND;TZID=America/New_York:20250908T140000
DTSTAMP:20260423T101122
CREATED:20250513T163504Z
LAST-MODIFIED:20250809T145328Z
UID:10064332-1757322000-1757340000@thepinestimes.com
SUMMARY:Carthage Farmers Market
DESCRIPTION:Shop the Carthage Farmers Market! Come out and support your local farmers at the market that features fresh seasonal produce\, meats\, eggs\, bread\, handmade goods and more! There will be a variety of local farmers. The market takes place each Monday | 9am-2pm at the McDonald Buildings in Carthage! For questions\, please contact 910-315-2058. \n 
URL:https://thepinestimes.com/event/carthage-farmers-market/2025-09-08/
LOCATION:McDonald Building\, 207 McReynolds Street\, Carthage\, NC\, 28327\, United States
CATEGORIES:Adults,Carthage Events,Food,Markets,Nature/Outdoors,Senior,Shopping,Social,Vendors
ATTACH;FMTTYPE=image/jpeg:https://thepinestimes.com/wp-content/uploads/CarthageFarmersMarketFeature-1.jpg
END:VEVENT
BEGIN:VEVENT
DTSTART;TZID=America/New_York:20250901T090000
DTEND;TZID=America/New_York:20250901T140000
DTSTAMP:20260423T101122
CREATED:20250513T163504Z
LAST-MODIFIED:20250809T145328Z
UID:10064331-1756717200-1756735200@thepinestimes.com
SUMMARY:Carthage Farmers Market
DESCRIPTION:Shop the Carthage Farmers Market! Come out and support your local farmers at the market that features fresh seasonal produce\, meats\, eggs\, bread\, handmade goods and more! There will be a variety of local farmers. The market takes place each Monday | 9am-2pm at the McDonald Buildings in Carthage! For questions\, please contact 910-315-2058. \n 
URL:https://thepinestimes.com/event/carthage-farmers-market/2025-09-01/
LOCATION:McDonald Building\, 207 McReynolds Street\, Carthage\, NC\, 28327\, United States
CATEGORIES:Adults,Carthage Events,Food,Markets,Nature/Outdoors,Senior,Shopping,Social,Vendors
ATTACH;FMTTYPE=image/jpeg:https://thepinestimes.com/wp-content/uploads/CarthageFarmersMarketFeature-1.jpg
END:VEVENT
BEGIN:VEVENT
DTSTART;TZID=America/New_York:20250825T090000
DTEND;TZID=America/New_York:20250825T140000
DTSTAMP:20260423T101122
CREATED:20250513T163504Z
LAST-MODIFIED:20250809T145328Z
UID:10064330-1756112400-1756130400@thepinestimes.com
SUMMARY:Carthage Farmers Market
DESCRIPTION:Shop the Carthage Farmers Market! Come out and support your local farmers at the market that features fresh seasonal produce\, meats\, eggs\, bread\, handmade goods and more! There will be a variety of local farmers. The market takes place each Monday | 9am-2pm at the McDonald Buildings in Carthage! For questions\, please contact 910-315-2058. \n 
URL:https://thepinestimes.com/event/carthage-farmers-market/2025-08-25/
LOCATION:McDonald Building\, 207 McReynolds Street\, Carthage\, NC\, 28327\, United States
CATEGORIES:Adults,Carthage Events,Food,Markets,Nature/Outdoors,Senior,Shopping,Social,Vendors
ATTACH;FMTTYPE=image/jpeg:https://thepinestimes.com/wp-content/uploads/CarthageFarmersMarketFeature-1.jpg
END:VEVENT
BEGIN:VEVENT
DTSTART;TZID=America/New_York:20250818T090000
DTEND;TZID=America/New_York:20250818T140000
DTSTAMP:20260423T101122
CREATED:20250513T163504Z
LAST-MODIFIED:20250809T145328Z
UID:10064329-1755507600-1755525600@thepinestimes.com
SUMMARY:Carthage Farmers Market
DESCRIPTION:Shop the Carthage Farmers Market! Come out and support your local farmers at the market that features fresh seasonal produce\, meats\, eggs\, bread\, handmade goods and more! There will be a variety of local farmers. The market takes place each Monday | 9am-2pm at the McDonald Buildings in Carthage! For questions\, please contact 910-315-2058. \n 
URL:https://thepinestimes.com/event/carthage-farmers-market/2025-08-18/
LOCATION:McDonald Building\, 207 McReynolds Street\, Carthage\, NC\, 28327\, United States
CATEGORIES:Adults,Carthage Events,Food,Markets,Nature/Outdoors,Senior,Shopping,Social,Vendors
ATTACH;FMTTYPE=image/jpeg:https://thepinestimes.com/wp-content/uploads/CarthageFarmersMarketFeature-1.jpg
END:VEVENT
BEGIN:VEVENT
DTSTART;TZID=America/New_York:20250811T090000
DTEND;TZID=America/New_York:20250811T140000
DTSTAMP:20260423T101122
CREATED:20250513T163504Z
LAST-MODIFIED:20250809T145328Z
UID:10064328-1754902800-1754920800@thepinestimes.com
SUMMARY:Carthage Farmers Market
DESCRIPTION:Shop the Carthage Farmers Market! Come out and support your local farmers at the market that features fresh seasonal produce\, meats\, eggs\, bread\, handmade goods and more! There will be a variety of local farmers. The market takes place each Monday | 9am-2pm at the McDonald Buildings in Carthage! For questions\, please contact 910-315-2058. \n 
URL:https://thepinestimes.com/event/carthage-farmers-market/2025-08-11/
LOCATION:McDonald Building\, 207 McReynolds Street\, Carthage\, NC\, 28327\, United States
CATEGORIES:Adults,Carthage Events,Food,Markets,Nature/Outdoors,Senior,Shopping,Social,Vendors
ATTACH;FMTTYPE=image/jpeg:https://thepinestimes.com/wp-content/uploads/CarthageFarmersMarketFeature-1.jpg
END:VEVENT
BEGIN:VEVENT
DTSTART;TZID=America/New_York:20250804T090000
DTEND;TZID=America/New_York:20250804T140000
DTSTAMP:20260423T101122
CREATED:20250513T163504Z
LAST-MODIFIED:20250809T145328Z
UID:10064327-1754298000-1754316000@thepinestimes.com
SUMMARY:Carthage Farmers Market
DESCRIPTION:Shop the Carthage Farmers Market! Come out and support your local farmers at the market that features fresh seasonal produce\, meats\, eggs\, bread\, handmade goods and more! There will be a variety of local farmers. The market takes place each Monday | 9am-2pm at the McDonald Buildings in Carthage! For questions\, please contact 910-315-2058. \n 
URL:https://thepinestimes.com/event/carthage-farmers-market/2025-08-04/
LOCATION:McDonald Building\, 207 McReynolds Street\, Carthage\, NC\, 28327\, United States
CATEGORIES:Adults,Carthage Events,Food,Markets,Nature/Outdoors,Senior,Shopping,Social,Vendors
ATTACH;FMTTYPE=image/jpeg:https://thepinestimes.com/wp-content/uploads/CarthageFarmersMarketFeature-1.jpg
END:VEVENT
BEGIN:VEVENT
DTSTART;TZID=America/New_York:20250728T090000
DTEND;TZID=America/New_York:20250728T140000
DTSTAMP:20260423T101122
CREATED:20250513T163504Z
LAST-MODIFIED:20250809T145328Z
UID:10058351-1753693200-1753711200@thepinestimes.com
SUMMARY:Carthage Farmers Market
DESCRIPTION:Shop the Carthage Farmers Market! Come out and support your local farmers at the market that features fresh seasonal produce\, meats\, eggs\, bread\, handmade goods and more! There will be a variety of local farmers. The market takes place each Monday | 9am-2pm at the McDonald Buildings in Carthage! For questions\, please contact 910-315-2058. \n 
URL:https://thepinestimes.com/event/carthage-farmers-market/2025-07-28/
LOCATION:McDonald Building\, 207 McReynolds Street\, Carthage\, NC\, 28327\, United States
CATEGORIES:Adults,Carthage Events,Food,Markets,Nature/Outdoors,Senior,Shopping,Social,Vendors
ATTACH;FMTTYPE=image/jpeg:https://thepinestimes.com/wp-content/uploads/CarthageFarmersMarketFeature-1.jpg
END:VEVENT
BEGIN:VEVENT
DTSTART;TZID=America/New_York:20250721T090000
DTEND;TZID=America/New_York:20250721T140000
DTSTAMP:20260423T101122
CREATED:20250513T163504Z
LAST-MODIFIED:20250809T145328Z
UID:10058350-1753088400-1753106400@thepinestimes.com
SUMMARY:Carthage Farmers Market
DESCRIPTION:Shop the Carthage Farmers Market! Come out and support your local farmers at the market that features fresh seasonal produce\, meats\, eggs\, bread\, handmade goods and more! There will be a variety of local farmers. The market takes place each Monday | 9am-2pm at the McDonald Buildings in Carthage! For questions\, please contact 910-315-2058. \n 
URL:https://thepinestimes.com/event/carthage-farmers-market/2025-07-21/
LOCATION:McDonald Building\, 207 McReynolds Street\, Carthage\, NC\, 28327\, United States
CATEGORIES:Adults,Carthage Events,Food,Markets,Nature/Outdoors,Senior,Shopping,Social,Vendors
ATTACH;FMTTYPE=image/jpeg:https://thepinestimes.com/wp-content/uploads/CarthageFarmersMarketFeature-1.jpg
END:VEVENT
BEGIN:VEVENT
DTSTART;TZID=America/New_York:20250714T090000
DTEND;TZID=America/New_York:20250714T140000
DTSTAMP:20260423T101122
CREATED:20250513T163504Z
LAST-MODIFIED:20250809T145328Z
UID:10058349-1752483600-1752501600@thepinestimes.com
SUMMARY:Carthage Farmers Market
DESCRIPTION:Shop the Carthage Farmers Market! Come out and support your local farmers at the market that features fresh seasonal produce\, meats\, eggs\, bread\, handmade goods and more! There will be a variety of local farmers. The market takes place each Monday | 9am-2pm at the McDonald Buildings in Carthage! For questions\, please contact 910-315-2058. \n 
URL:https://thepinestimes.com/event/carthage-farmers-market/2025-07-14/
LOCATION:McDonald Building\, 207 McReynolds Street\, Carthage\, NC\, 28327\, United States
CATEGORIES:Adults,Carthage Events,Food,Markets,Nature/Outdoors,Senior,Shopping,Social,Vendors
ATTACH;FMTTYPE=image/jpeg:https://thepinestimes.com/wp-content/uploads/CarthageFarmersMarketFeature-1.jpg
END:VEVENT
BEGIN:VEVENT
DTSTART;TZID=America/New_York:20250707T090000
DTEND;TZID=America/New_York:20250707T140000
DTSTAMP:20260423T101122
CREATED:20250513T163504Z
LAST-MODIFIED:20250809T145328Z
UID:10058348-1751878800-1751896800@thepinestimes.com
SUMMARY:Carthage Farmers Market
DESCRIPTION:Shop the Carthage Farmers Market! Come out and support your local farmers at the market that features fresh seasonal produce\, meats\, eggs\, bread\, handmade goods and more! There will be a variety of local farmers. The market takes place each Monday | 9am-2pm at the McDonald Buildings in Carthage! For questions\, please contact 910-315-2058. \n 
URL:https://thepinestimes.com/event/carthage-farmers-market/2025-07-07/
LOCATION:McDonald Building\, 207 McReynolds Street\, Carthage\, NC\, 28327\, United States
CATEGORIES:Adults,Carthage Events,Food,Markets,Nature/Outdoors,Senior,Shopping,Social,Vendors
ATTACH;FMTTYPE=image/jpeg:https://thepinestimes.com/wp-content/uploads/CarthageFarmersMarketFeature-1.jpg
END:VEVENT
BEGIN:VEVENT
DTSTART;TZID=America/New_York:20250630T090000
DTEND;TZID=America/New_York:20250630T140000
DTSTAMP:20260423T101122
CREATED:20250513T163504Z
LAST-MODIFIED:20250809T145328Z
UID:10058347-1751274000-1751292000@thepinestimes.com
SUMMARY:Carthage Farmers Market
DESCRIPTION:Shop the Carthage Farmers Market! Come out and support your local farmers at the market that features fresh seasonal produce\, meats\, eggs\, bread\, handmade goods and more! There will be a variety of local farmers. The market takes place each Monday | 9am-2pm at the McDonald Buildings in Carthage! For questions\, please contact 910-315-2058. \n 
URL:https://thepinestimes.com/event/carthage-farmers-market/2025-06-30/
LOCATION:McDonald Building\, 207 McReynolds Street\, Carthage\, NC\, 28327\, United States
CATEGORIES:Adults,Carthage Events,Food,Markets,Nature/Outdoors,Senior,Shopping,Social,Vendors
ATTACH;FMTTYPE=image/jpeg:https://thepinestimes.com/wp-content/uploads/CarthageFarmersMarketFeature-1.jpg
END:VEVENT
BEGIN:VEVENT
DTSTART;TZID=America/New_York:20250623T090000
DTEND;TZID=America/New_York:20250623T140000
DTSTAMP:20260423T101122
CREATED:20250513T163504Z
LAST-MODIFIED:20250809T145328Z
UID:10058346-1750669200-1750687200@thepinestimes.com
SUMMARY:Carthage Farmers Market
DESCRIPTION:Shop the Carthage Farmers Market! Come out and support your local farmers at the market that features fresh seasonal produce\, meats\, eggs\, bread\, handmade goods and more! There will be a variety of local farmers. The market takes place each Monday | 9am-2pm at the McDonald Buildings in Carthage! For questions\, please contact 910-315-2058. \n 
URL:https://thepinestimes.com/event/carthage-farmers-market/2025-06-23/
LOCATION:McDonald Building\, 207 McReynolds Street\, Carthage\, NC\, 28327\, United States
CATEGORIES:Adults,Carthage Events,Food,Markets,Nature/Outdoors,Senior,Shopping,Social,Vendors
ATTACH;FMTTYPE=image/jpeg:https://thepinestimes.com/wp-content/uploads/CarthageFarmersMarketFeature-1.jpg
END:VEVENT
BEGIN:VEVENT
DTSTART;TZID=America/New_York:20250616T090000
DTEND;TZID=America/New_York:20250616T140000
DTSTAMP:20260423T101122
CREATED:20250513T163504Z
LAST-MODIFIED:20250809T145328Z
UID:10058345-1750064400-1750082400@thepinestimes.com
SUMMARY:Carthage Farmers Market
DESCRIPTION:Shop the Carthage Farmers Market! Come out and support your local farmers at the market that features fresh seasonal produce\, meats\, eggs\, bread\, handmade goods and more! There will be a variety of local farmers. The market takes place each Monday | 9am-2pm at the McDonald Buildings in Carthage! For questions\, please contact 910-315-2058. \n 
URL:https://thepinestimes.com/event/carthage-farmers-market/2025-06-16/
LOCATION:McDonald Building\, 207 McReynolds Street\, Carthage\, NC\, 28327\, United States
CATEGORIES:Adults,Carthage Events,Food,Markets,Nature/Outdoors,Senior,Shopping,Social,Vendors
ATTACH;FMTTYPE=image/jpeg:https://thepinestimes.com/wp-content/uploads/CarthageFarmersMarketFeature-1.jpg
END:VEVENT
BEGIN:VEVENT
DTSTART;TZID=America/New_York:20250609T090000
DTEND;TZID=America/New_York:20250609T140000
DTSTAMP:20260423T101122
CREATED:20250513T163504Z
LAST-MODIFIED:20250809T145328Z
UID:10058344-1749459600-1749477600@thepinestimes.com
SUMMARY:Carthage Farmers Market
DESCRIPTION:Shop the Carthage Farmers Market! Come out and support your local farmers at the market that features fresh seasonal produce\, meats\, eggs\, bread\, handmade goods and more! There will be a variety of local farmers. The market takes place each Monday | 9am-2pm at the McDonald Buildings in Carthage! For questions\, please contact 910-315-2058. \n 
URL:https://thepinestimes.com/event/carthage-farmers-market/2025-06-09/
LOCATION:McDonald Building\, 207 McReynolds Street\, Carthage\, NC\, 28327\, United States
CATEGORIES:Adults,Carthage Events,Food,Markets,Nature/Outdoors,Senior,Shopping,Social,Vendors
ATTACH;FMTTYPE=image/jpeg:https://thepinestimes.com/wp-content/uploads/CarthageFarmersMarketFeature-1.jpg
END:VEVENT
BEGIN:VEVENT
DTSTART;TZID=America/New_York:20250602T090000
DTEND;TZID=America/New_York:20250602T140000
DTSTAMP:20260423T101122
CREATED:20250513T163504Z
LAST-MODIFIED:20250809T145328Z
UID:10058343-1748854800-1748872800@thepinestimes.com
SUMMARY:Carthage Farmers Market
DESCRIPTION:Shop the Carthage Farmers Market! Come out and support your local farmers at the market that features fresh seasonal produce\, meats\, eggs\, bread\, handmade goods and more! There will be a variety of local farmers. The market takes place each Monday | 9am-2pm at the McDonald Buildings in Carthage! For questions\, please contact 910-315-2058. \n 
URL:https://thepinestimes.com/event/carthage-farmers-market/2025-06-02/
LOCATION:McDonald Building\, 207 McReynolds Street\, Carthage\, NC\, 28327\, United States
CATEGORIES:Adults,Carthage Events,Food,Markets,Nature/Outdoors,Senior,Shopping,Social,Vendors
ATTACH;FMTTYPE=image/jpeg:https://thepinestimes.com/wp-content/uploads/CarthageFarmersMarketFeature-1.jpg
END:VEVENT
BEGIN:VEVENT
DTSTART;TZID=America/New_York:20250526T090000
DTEND;TZID=America/New_York:20250526T140000
DTSTAMP:20260423T101122
CREATED:20250513T163504Z
LAST-MODIFIED:20250809T145328Z
UID:10058342-1748250000-1748268000@thepinestimes.com
SUMMARY:Carthage Farmers Market
DESCRIPTION:Shop the Carthage Farmers Market! Come out and support your local farmers at the market that features fresh seasonal produce\, meats\, eggs\, bread\, handmade goods and more! There will be a variety of local farmers. The market takes place each Monday | 9am-2pm at the McDonald Buildings in Carthage! For questions\, please contact 910-315-2058. \n 
URL:https://thepinestimes.com/event/carthage-farmers-market/2025-05-26/
LOCATION:McDonald Building\, 207 McReynolds Street\, Carthage\, NC\, 28327\, United States
CATEGORIES:Adults,Carthage Events,Food,Markets,Nature/Outdoors,Senior,Shopping,Social,Vendors
ATTACH;FMTTYPE=image/jpeg:https://thepinestimes.com/wp-content/uploads/CarthageFarmersMarketFeature-1.jpg
END:VEVENT
BEGIN:VEVENT
DTSTART;TZID=America/New_York:20250519T090000
DTEND;TZID=America/New_York:20250519T140000
DTSTAMP:20260423T101122
CREATED:20250513T163504Z
LAST-MODIFIED:20250809T145328Z
UID:10058341-1747645200-1747663200@thepinestimes.com
SUMMARY:Carthage Farmers Market
DESCRIPTION:Shop the Carthage Farmers Market! Come out and support your local farmers at the market that features fresh seasonal produce\, meats\, eggs\, bread\, handmade goods and more! There will be a variety of local farmers. The market takes place each Monday | 9am-2pm at the McDonald Buildings in Carthage! For questions\, please contact 910-315-2058. \n 
URL:https://thepinestimes.com/event/carthage-farmers-market/2025-05-19/
LOCATION:McDonald Building\, 207 McReynolds Street\, Carthage\, NC\, 28327\, United States
CATEGORIES:Adults,Carthage Events,Food,Markets,Nature/Outdoors,Senior,Shopping,Social,Vendors
ATTACH;FMTTYPE=image/jpeg:https://thepinestimes.com/wp-content/uploads/CarthageFarmersMarketFeature-1.jpg
END:VEVENT
BEGIN:VEVENT
DTSTART;TZID=America/New_York:20250512T090000
DTEND;TZID=America/New_York:20250512T140000
DTSTAMP:20260423T101122
CREATED:20250513T163504Z
LAST-MODIFIED:20250809T145328Z
UID:10054715-1747040400-1747058400@thepinestimes.com
SUMMARY:Carthage Farmers Market
DESCRIPTION:Shop the Carthage Farmers Market! Come out and support your local farmers at the market that features fresh seasonal produce\, meats\, eggs\, bread\, handmade goods and more! There will be a variety of local farmers. The market takes place each Monday | 9am-2pm at the McDonald Buildings in Carthage! For questions\, please contact 910-315-2058. \n 
URL:https://thepinestimes.com/event/carthage-farmers-market/2025-05-12/
LOCATION:McDonald Building\, 207 McReynolds Street\, Carthage\, NC\, 28327\, United States
CATEGORIES:Adults,Carthage Events,Food,Markets,Nature/Outdoors,Senior,Shopping,Social,Vendors
ATTACH;FMTTYPE=image/jpeg:https://thepinestimes.com/wp-content/uploads/CarthageFarmersMarketFeature-1.jpg
END:VEVENT
END:VCALENDAR