BEGIN:VCALENDAR
VERSION:2.0
PRODID:-//The Pines Times - ECPv6.15.20//NONSGML v1.0//EN
CALSCALE:GREGORIAN
METHOD:PUBLISH
X-ORIGINAL-URL:https://thepinestimes.com
X-WR-CALDESC:Events for The Pines Times
REFRESH-INTERVAL;VALUE=DURATION:PT1H
X-Robots-Tag:noindex
X-PUBLISHED-TTL:PT1H
BEGIN:VTIMEZONE
TZID:America/New_York
BEGIN:DAYLIGHT
TZOFFSETFROM:-0500
TZOFFSETTO:-0400
TZNAME:EDT
DTSTART:20250309T070000
END:DAYLIGHT
BEGIN:STANDARD
TZOFFSETFROM:-0400
TZOFFSETTO:-0500
TZNAME:EST
DTSTART:20251102T060000
END:STANDARD
BEGIN:DAYLIGHT
TZOFFSETFROM:-0500
TZOFFSETTO:-0400
TZNAME:EDT
DTSTART:20260308T070000
END:DAYLIGHT
BEGIN:STANDARD
TZOFFSETFROM:-0400
TZOFFSETTO:-0500
TZNAME:EST
DTSTART:20261101T060000
END:STANDARD
BEGIN:DAYLIGHT
TZOFFSETFROM:-0500
TZOFFSETTO:-0400
TZNAME:EDT
DTSTART:20270314T070000
END:DAYLIGHT
BEGIN:STANDARD
TZOFFSETFROM:-0400
TZOFFSETTO:-0500
TZNAME:EST
DTSTART:20271107T060000
END:STANDARD
END:VTIMEZONE
BEGIN:VEVENT
DTSTART;TZID=America/New_York:20260417T180000
DTEND;TZID=America/New_York:20260417T210000
DTSTAMP:20260423T172247
CREATED:20260412T131056Z
LAST-MODIFIED:20260412T131144Z
UID:10086769-1776448800-1776459600@thepinestimes.com
SUMMARY:Pitch\, Hit & Run (Ages 14 & Under)
DESCRIPTION:Step up to the plate with Major League Baseball Pitch\, Hit & Run! Ages 14 & under are invited to join athletes from Aberdeen\, Pinehurst\, and Southern Pines for an exciting showcase of skill\, competition\, and opportunity. Bring your A-game and show what you’ve got\, this could be your moment! \nThe Pitch\, Hit & Run program is a free event series for boys and girls\, and consists of a series of movements that are important in baseball and softball. Participants will compete in either 7-8\, 9-10\, 11-12\, or 13-14 age division\, with the Age Cut-off set on November 15\, 2026. They will be tested\, and their measurements will be recorded for points. Based on their scores\, they will advance from a Local Event to a Team Championship and then to the Finals hosted at the World Series. For more information make sure to follow our social handles. Instagram @mlbpitchhitrun and Twitter/X @pitchhitrun.
URL:https://thepinestimes.com/event/pitch-hit-run-ages-14-under/
LOCATION:Memorial Park Field\, 210 Rattlesnake Trail\, Pinehurst\, 28374\, United States
CATEGORIES:Baseball,Children,Contest,Hobby/Enthusiast,Moore County Events,Pinehurst Events,Piney's Kids,Sports,Teen Activities
ATTACH;FMTTYPE=image/jpeg:https://thepinestimes.com/wp-content/uploads/PitchHitRunFeature.jpg
ORGANIZER;CN="Southern Pines Parks and Recreation":MAILTO:bsampson@southernpines.net
END:VEVENT
END:VCALENDAR