BEGIN:VCALENDAR
VERSION:2.0
PRODID:-//The Pines Times - ECPv6.15.20//NONSGML v1.0//EN
CALSCALE:GREGORIAN
METHOD:PUBLISH
X-WR-CALNAME:The Pines Times
X-ORIGINAL-URL:https://thepinestimes.com
X-WR-CALDESC:Events for The Pines Times
REFRESH-INTERVAL;VALUE=DURATION:PT1H
X-Robots-Tag:noindex
X-PUBLISHED-TTL:PT1H
BEGIN:VTIMEZONE
TZID:America/New_York
BEGIN:DAYLIGHT
TZOFFSETFROM:-0500
TZOFFSETTO:-0400
TZNAME:EDT
DTSTART:20250309T070000
END:DAYLIGHT
BEGIN:STANDARD
TZOFFSETFROM:-0400
TZOFFSETTO:-0500
TZNAME:EST
DTSTART:20251102T060000
END:STANDARD
BEGIN:DAYLIGHT
TZOFFSETFROM:-0500
TZOFFSETTO:-0400
TZNAME:EDT
DTSTART:20260308T070000
END:DAYLIGHT
BEGIN:STANDARD
TZOFFSETFROM:-0400
TZOFFSETTO:-0500
TZNAME:EST
DTSTART:20261101T060000
END:STANDARD
BEGIN:DAYLIGHT
TZOFFSETFROM:-0500
TZOFFSETTO:-0400
TZNAME:EDT
DTSTART:20270314T070000
END:DAYLIGHT
BEGIN:STANDARD
TZOFFSETFROM:-0400
TZOFFSETTO:-0500
TZNAME:EST
DTSTART:20271107T060000
END:STANDARD
END:VTIMEZONE
BEGIN:VEVENT
DTSTART;TZID=America/New_York:20260416T173000
DTEND;TZID=America/New_York:20260416T203000
DTSTAMP:20260423T003821
CREATED:20241022T122145Z
LAST-MODIFIED:20260413T172516Z
UID:10046711-1776360600-1776371400@thepinestimes.com
SUMMARY:Bluegrass Church: Narrow Path Bluegrass
DESCRIPTION:Join Middle Cross Baptist Church in West End this Thursday\, April 16th for Bluegrass Church! Join for an evening of food\, music\, worship and fellowship. \nMeal: 5:30PM\nMusic: 6:30PM\nMessage: 7:15PM\nJam Session: 8:00PM
URL:https://thepinestimes.com/event/bluegrass-church/
LOCATION:Middle Cross Baptist Church\, 440 Lucas Rd.\, West End\, 27376\, United States
CATEGORIES:Adults,Family,Hobby/Enthusiast,Music,Religious/Spiritual,Senior,Social,West End Events
ATTACH;FMTTYPE=image/jpeg:https://thepinestimes.com/wp-content/uploads/BluegrassChurchFeature.jpg
END:VEVENT
END:VCALENDAR