BEGIN:VCALENDAR
VERSION:2.0
PRODID:-//The Pines Times - ECPv6.15.20//NONSGML v1.0//EN
CALSCALE:GREGORIAN
METHOD:PUBLISH
X-WR-CALNAME:The Pines Times
X-ORIGINAL-URL:https://thepinestimes.com
X-WR-CALDESC:Events for The Pines Times
REFRESH-INTERVAL;VALUE=DURATION:PT1H
X-Robots-Tag:noindex
X-PUBLISHED-TTL:PT1H
BEGIN:VTIMEZONE
TZID:America/New_York
BEGIN:DAYLIGHT
TZOFFSETFROM:-0500
TZOFFSETTO:-0400
TZNAME:EDT
DTSTART:20240310T070000
END:DAYLIGHT
BEGIN:STANDARD
TZOFFSETFROM:-0400
TZOFFSETTO:-0500
TZNAME:EST
DTSTART:20241103T060000
END:STANDARD
BEGIN:DAYLIGHT
TZOFFSETFROM:-0500
TZOFFSETTO:-0400
TZNAME:EDT
DTSTART:20250309T070000
END:DAYLIGHT
BEGIN:STANDARD
TZOFFSETFROM:-0400
TZOFFSETTO:-0500
TZNAME:EST
DTSTART:20251102T060000
END:STANDARD
BEGIN:DAYLIGHT
TZOFFSETFROM:-0500
TZOFFSETTO:-0400
TZNAME:EDT
DTSTART:20260308T070000
END:DAYLIGHT
BEGIN:STANDARD
TZOFFSETFROM:-0400
TZOFFSETTO:-0500
TZNAME:EST
DTSTART:20261101T060000
END:STANDARD
BEGIN:DAYLIGHT
TZOFFSETFROM:-0500
TZOFFSETTO:-0400
TZNAME:EDT
DTSTART:20270314T070000
END:DAYLIGHT
BEGIN:STANDARD
TZOFFSETFROM:-0400
TZOFFSETTO:-0500
TZNAME:EST
DTSTART:20271107T060000
END:STANDARD
END:VTIMEZONE
BEGIN:VEVENT
DTSTART;TZID=America/New_York:20260213T180000
DTEND;TZID=America/New_York:20260213T193000
DTSTAMP:20260421T163455
CREATED:20260202T210039Z
LAST-MODIFIED:20260202T210039Z
UID:10080469-1771005600-1771011000@thepinestimes.com
SUMMARY:Winter Weather Reds Tasting
DESCRIPTION:Midland Bistro and Somm Time invite you to Winter Weather Reds\, a guided tasting featuring big reds and small bites on Friday\, February 13th. Starting at 6:00pm\, enjoy a great night of red wines that are perfect for sweater weather. Certified Sommelier Dan Collier will lead you through a tasting of 6 Red Wines with bites. The cost is $53.36.
URL:https://thepinestimes.com/event/winter-weather-reds-tasting/
LOCATION:Midland Bistro\, 2160 Midland Rd.\, Southern Pines\, 28387\, United States
CATEGORIES:Adult Connections,Adults,Beer and Wine,Hobby/Enthusiast,Pinehurst Events,Senior,Social,Southern Pines Events,Tasting,Young Adults
END:VEVENT
BEGIN:VEVENT
DTSTART;TZID=America/New_York:20251208T173000
DTEND;TZID=America/New_York:20251208T193000
DTSTAMP:20260421T163455
CREATED:20251203T144126Z
LAST-MODIFIED:20251203T144126Z
UID:10076861-1765215000-1765222200@thepinestimes.com
SUMMARY:"Flavors of the Season" Paired Holiday Dinner
DESCRIPTION:Flavors of the Season! Midland Bistro is hosting a special Paired Holiday Dinner in collaboration with Somm Time and The Bakehouse. Chef Jason will prepare a seasonal three-course meal\, each course paired with holiday-ready wines selected by Dan from Somm Time. The evening begins with a grazing table and two tasting wines in the foyer before moving into the Dining Room for the seated dinner. Dan will guide guests through each pairing\, and featured wines will be available for purchase at reduced rates after the event. \n \n 
URL:https://thepinestimes.com/event/flavors-of-the-season-paired-holiday-dinner/
LOCATION:Midland Bistro\, 2160 Midland Rd.\, Southern Pines\, 28387\, United States
CATEGORIES:Adults,Beer and Wine,Christmas,Food,Hobby/Enthusiast,Holiday Events,Senior,Social,Southern Pines Events,Tasting,Young Adults
ATTACH;FMTTYPE=image/jpeg:https://thepinestimes.com/wp-content/uploads/FlavorsOfTheSeasonFeature.jpg
END:VEVENT
END:VCALENDAR