BEGIN:VCALENDAR
VERSION:2.0
PRODID:-//The Pines Times - ECPv6.15.20//NONSGML v1.0//EN
CALSCALE:GREGORIAN
METHOD:PUBLISH
X-WR-CALNAME:The Pines Times
X-ORIGINAL-URL:https://thepinestimes.com
X-WR-CALDESC:Events for The Pines Times
REFRESH-INTERVAL;VALUE=DURATION:PT1H
X-Robots-Tag:noindex
X-PUBLISHED-TTL:PT1H
BEGIN:VTIMEZONE
TZID:America/New_York
BEGIN:DAYLIGHT
TZOFFSETFROM:-0500
TZOFFSETTO:-0400
TZNAME:EDT
DTSTART:20240310T070000
END:DAYLIGHT
BEGIN:STANDARD
TZOFFSETFROM:-0400
TZOFFSETTO:-0500
TZNAME:EST
DTSTART:20241103T060000
END:STANDARD
BEGIN:DAYLIGHT
TZOFFSETFROM:-0500
TZOFFSETTO:-0400
TZNAME:EDT
DTSTART:20250309T070000
END:DAYLIGHT
BEGIN:STANDARD
TZOFFSETFROM:-0400
TZOFFSETTO:-0500
TZNAME:EST
DTSTART:20251102T060000
END:STANDARD
BEGIN:DAYLIGHT
TZOFFSETFROM:-0500
TZOFFSETTO:-0400
TZNAME:EDT
DTSTART:20260308T070000
END:DAYLIGHT
BEGIN:STANDARD
TZOFFSETFROM:-0400
TZOFFSETTO:-0500
TZNAME:EST
DTSTART:20261101T060000
END:STANDARD
END:VTIMEZONE
BEGIN:VEVENT
DTSTART;TZID=America/New_York:20251108T120000
DTEND;TZID=America/New_York:20251108T130000
DTSTAMP:20260424T162235
CREATED:20231101T024239Z
LAST-MODIFIED:20251022T212010Z
UID:10022124-1762603200-1762606800@thepinestimes.com
SUMMARY:Moore County Veterans Memorial: Veterans Day Ceremony
DESCRIPTION:Honoring All Who Served. The community is invited to the Veterans Day Ceremony on Saturday\, November 8th at 12pm. Sponsored by Moore County Veterans Memorial Inc. and the County Veteran Service Office\, the ceremony takes place at the Moore County Veterans Memorial in Carthage. The ceremony includes patriotic music to honor our Veterans. There will be refreshments available to those in attendance. \n“All Gave Some\, Some Gave All” \n 
URL:https://thepinestimes.com/event/moore-county-veterans-memorial-veterans-day-ceremony/
LOCATION:Moore County Veterans Memorial\, Carriage Oaks\,15-501\, Carthage\, NC\, 28327\, United States
CATEGORIES:Adults,Carthage Events,Ceremony,Family,Historical,Hobby/Enthusiast,HOMEPAGE Featured,Senior,Social,Veterans,Veterans Day
ATTACH;FMTTYPE=image/jpeg:https://thepinestimes.com/wp-content/uploads/MooreCountyVetServicesFeature.jpg
END:VEVENT
BEGIN:VEVENT
DTSTART;TZID=America/New_York:20250524T110000
DTEND;TZID=America/New_York:20250524T110000
DTSTAMP:20260424T162235
CREATED:20240522T191023Z
LAST-MODIFIED:20250518T142717Z
UID:10037169-1748084400-1748084400@thepinestimes.com
SUMMARY:Vietnam Veterans of America of Moore County\, Chapter 966: Memorial Day Ceremony
DESCRIPTION:The Vietnam Veterans of America Chapter 966 will host the annual Memorial Day Ceremony on Saturday\, May 25th at 11:00am at the Moore County Veterans Memorial in Carthage. Post 12 presents wreath. \n“The Moore County Veterans Monument is a Memorial consisting of two black granite slabs\, each 3\,000lbs\, on which the names of almost 150 Moore County Veterans killed since America entered WW1\, April 6th\, 1917\, to the present. Completing the monument\, three flag poles surround the centerpiece\, the sculpted figure of an eagle resting atop a smooth stone base. The black granite pedestal of the centerpiece is inscribed with the five branches of the military. The flags flown include the U.S. flag\, the North Carolina flag\, and Prisoner of War (POW) flag. You are invited to attend and honor those who sacrificed so much for our community and country.”
URL:https://thepinestimes.com/event/vietnam-veterans-of-america-of-moore-county-chapter-966-memorial-day-ceremony/
LOCATION:Moore County Veterans Memorial\, Carriage Oaks\,15-501\, Carthage\, NC\, 28327\, United States
CATEGORIES:Adults,Carthage Events,Ceremony,Family,Historical,Memorial Day,Nature/Outdoors,Religious/Spiritual,Senior,Social,Veterans
ATTACH;FMTTYPE=image/jpeg:https://thepinestimes.com/wp-content/uploads/VVAwestendfeature.jpg
END:VEVENT
END:VCALENDAR