BEGIN:VCALENDAR
VERSION:2.0
PRODID:-//The Pines Times - ECPv6.15.20//NONSGML v1.0//EN
CALSCALE:GREGORIAN
METHOD:PUBLISH
X-ORIGINAL-URL:https://thepinestimes.com
X-WR-CALDESC:Events for The Pines Times
REFRESH-INTERVAL;VALUE=DURATION:PT1H
X-Robots-Tag:noindex
X-PUBLISHED-TTL:PT1H
BEGIN:VTIMEZONE
TZID:America/New_York
BEGIN:DAYLIGHT
TZOFFSETFROM:-0500
TZOFFSETTO:-0400
TZNAME:EDT
DTSTART:20250309T070000
END:DAYLIGHT
BEGIN:STANDARD
TZOFFSETFROM:-0400
TZOFFSETTO:-0500
TZNAME:EST
DTSTART:20251102T060000
END:STANDARD
BEGIN:DAYLIGHT
TZOFFSETFROM:-0500
TZOFFSETTO:-0400
TZNAME:EDT
DTSTART:20260308T070000
END:DAYLIGHT
BEGIN:STANDARD
TZOFFSETFROM:-0400
TZOFFSETTO:-0500
TZNAME:EST
DTSTART:20261101T060000
END:STANDARD
BEGIN:DAYLIGHT
TZOFFSETFROM:-0500
TZOFFSETTO:-0400
TZNAME:EDT
DTSTART:20270314T070000
END:DAYLIGHT
BEGIN:STANDARD
TZOFFSETFROM:-0400
TZOFFSETTO:-0500
TZNAME:EST
DTSTART:20271107T060000
END:STANDARD
END:VTIMEZONE
BEGIN:VEVENT
DTSTART;TZID=America/New_York:20260708T120000
DTEND;TZID=America/New_York:20260708T121500
DTSTAMP:20260424T130318
CREATED:20260331T150741Z
LAST-MODIFIED:20260331T151024Z
UID:10085875-1783512000-1783512900@thepinestimes.com
SUMMARY:Village of Pinehurst: America 250 NC-Public Reading of the Declaration of Independence
DESCRIPTION:The Village of Pinehurst is hosting a public reading of the Declaration of Independence on Wednesday\, July 8th. Held at Assembly Hall starting at 12:00PM\, this ceremonial event commemorates the first public reading that took place in Philadelphia in 1776. This gathering is free and open to the public\, providing a dedicated space for community members to reflect on the foundational words of the nation and their ongoing impact on civic life.
URL:https://thepinestimes.com/event/village-of-pinehurst-america-250-nc-public-reading-of-the-declaration-of-independence/
LOCATION:Pinehurst Assembly Hall\, 295 Magnolia Road\, Pinehurst\, NC\, 28374\, United States
CATEGORIES:4th of July,Adults,America 250,Family,Historical,Holiday Events,Live Entertainment,Senior,Social
ATTACH;FMTTYPE=image/jpeg:https://thepinestimes.com/wp-content/uploads/America250PinehurstFeature.jpg
END:VEVENT
END:VCALENDAR