BEGIN:VCALENDAR
VERSION:2.0
PRODID:-//The Pines Times - ECPv6.15.20//NONSGML v1.0//EN
CALSCALE:GREGORIAN
METHOD:PUBLISH
X-WR-CALNAME:The Pines Times
X-ORIGINAL-URL:https://thepinestimes.com
X-WR-CALDESC:Events for The Pines Times
REFRESH-INTERVAL;VALUE=DURATION:PT1H
X-Robots-Tag:noindex
X-PUBLISHED-TTL:PT1H
BEGIN:VTIMEZONE
TZID:America/New_York
BEGIN:DAYLIGHT
TZOFFSETFROM:-0500
TZOFFSETTO:-0400
TZNAME:EDT
DTSTART:20250309T070000
END:DAYLIGHT
BEGIN:STANDARD
TZOFFSETFROM:-0400
TZOFFSETTO:-0500
TZNAME:EST
DTSTART:20251102T060000
END:STANDARD
BEGIN:DAYLIGHT
TZOFFSETFROM:-0500
TZOFFSETTO:-0400
TZNAME:EDT
DTSTART:20260308T070000
END:DAYLIGHT
BEGIN:STANDARD
TZOFFSETFROM:-0400
TZOFFSETTO:-0500
TZNAME:EST
DTSTART:20261101T060000
END:STANDARD
BEGIN:DAYLIGHT
TZOFFSETFROM:-0500
TZOFFSETTO:-0400
TZNAME:EDT
DTSTART:20270314T070000
END:DAYLIGHT
BEGIN:STANDARD
TZOFFSETFROM:-0400
TZOFFSETTO:-0500
TZNAME:EST
DTSTART:20271107T060000
END:STANDARD
END:VTIMEZONE
BEGIN:VEVENT
DTSTART;TZID=America/New_York:20260430T143000
DTEND;TZID=America/New_York:20260430T160000
DTSTAMP:20260426T001637
CREATED:20260102T180234Z
LAST-MODIFIED:20260102T180234Z
UID:10078280-1777559400-1777564800@thepinestimes.com
SUMMARY:Still\, Us: A Monthly Community Circle "Letting In Love"
DESCRIPTION:Still\, Us Finding Ourselves in Each Other! Join once a month for a supportive\, reflective gathering led by Dr. Karen D. Sullivan\, focused on connection\, compassion\, and living well alongside brain change and dementia. Meetings take place at Community Presbyterian Church in Pinehurst\, 2:30pm-4:00pm. \nDecember 18th-Letting Be: Practicing acceptance and mindfulness\, learning to sit with dementia as it is. \nJanuary 29th\, 2026-Letting Down: Allowing vulnerability and rest\, honoring exhaustion\, and asking for help. \nFebruary 26th-Letting In: Receiving support\, love\, and wisdom\, and allowing ourselves to be held by others. \nMarch 26th-Letting Us Attune: Practicing deep listening\, presence\, and co-regulation to build connection. \nApril 30th-Letting In Love: Nurturing compassion\, empathy\, and seeing love as the center of the journey. \nMay 28th-Letting In Light: Opening to hope\, spirituality\, and renewal as we close the circle together. \nAll are welcome.
URL:https://thepinestimes.com/event/still-us-a-monthly-community-circle-letting-in-love/
LOCATION:Pinehurst Community Presbyterian Church\, 125 Everette Rd\, Pinehurst\, 28374\, United States
CATEGORIES:Adults,Brain Change,Educational,Health & Wellness,Moore County Events,Pinehurst Events,Senior,Social,Support Group
ATTACH;FMTTYPE=image/png:https://thepinestimes.com/wp-content/uploads/Brain-Change-e1762089418327.png
ORGANIZER;CN="Dr. Karen D. Sullivan":MAILTO:Carrief@icfyb.com
END:VEVENT
BEGIN:VEVENT
DTSTART;TZID=America/New_York:20260528T143000
DTEND;TZID=America/New_York:20260528T160000
DTSTAMP:20260426T001637
CREATED:20260102T180432Z
LAST-MODIFIED:20260102T180432Z
UID:10078281-1779978600-1779984000@thepinestimes.com
SUMMARY:Still\, Us: A Monthly Community Circle "Letting In Light"
DESCRIPTION:Still\, Us Finding Ourselves in Each Other! Join once a month for a supportive\, reflective gathering led by Dr. Karen D. Sullivan\, focused on connection\, compassion\, and living well alongside brain change and dementia. Meetings take place at Community Presbyterian Church in Pinehurst\, 2:30pm-4:00pm. \nDecember 18th-Letting Be: Practicing acceptance and mindfulness\, learning to sit with dementia as it is. \nJanuary 29th\, 2026-Letting Down: Allowing vulnerability and rest\, honoring exhaustion\, and asking for help. \nFebruary 26th-Letting In: Receiving support\, love\, and wisdom\, and allowing ourselves to be held by others. \nMarch 26th-Letting Us Attune: Practicing deep listening\, presence\, and co-regulation to build connection. \nApril 30th-Letting In Love: Nurturing compassion\, empathy\, and seeing love as the center of the journey. \nMay 28th-Letting In Light: Opening to hope\, spirituality\, and renewal as we close the circle together. \nAll are welcome.
URL:https://thepinestimes.com/event/still-us-a-monthly-community-circle-letting-in-light/
LOCATION:Pinehurst Community Presbyterian Church\, 125 Everette Rd\, Pinehurst\, 28374\, United States
CATEGORIES:Adults,Brain Change,Educational,Health & Wellness,Moore County Events,Pinehurst Events,Senior,Social,Support Group
ATTACH;FMTTYPE=image/png:https://thepinestimes.com/wp-content/uploads/Brain-Change-e1762089418327.png
ORGANIZER;CN="Dr. Karen D. Sullivan":MAILTO:Carrief@icfyb.com
END:VEVENT
END:VCALENDAR