BEGIN:VCALENDAR
VERSION:2.0
PRODID:-//The Pines Times - ECPv6.15.20//NONSGML v1.0//EN
CALSCALE:GREGORIAN
METHOD:PUBLISH
X-WR-CALNAME:The Pines Times
X-ORIGINAL-URL:https://thepinestimes.com
X-WR-CALDESC:Events for The Pines Times
REFRESH-INTERVAL;VALUE=DURATION:PT1H
X-Robots-Tag:noindex
X-PUBLISHED-TTL:PT1H
BEGIN:VTIMEZONE
TZID:America/New_York
BEGIN:DAYLIGHT
TZOFFSETFROM:-0500
TZOFFSETTO:-0400
TZNAME:EDT
DTSTART:20250309T070000
END:DAYLIGHT
BEGIN:STANDARD
TZOFFSETFROM:-0400
TZOFFSETTO:-0500
TZNAME:EST
DTSTART:20251102T060000
END:STANDARD
BEGIN:DAYLIGHT
TZOFFSETFROM:-0500
TZOFFSETTO:-0400
TZNAME:EDT
DTSTART:20260308T070000
END:DAYLIGHT
BEGIN:STANDARD
TZOFFSETFROM:-0400
TZOFFSETTO:-0500
TZNAME:EST
DTSTART:20261101T060000
END:STANDARD
BEGIN:DAYLIGHT
TZOFFSETFROM:-0500
TZOFFSETTO:-0400
TZNAME:EDT
DTSTART:20270314T070000
END:DAYLIGHT
BEGIN:STANDARD
TZOFFSETFROM:-0400
TZOFFSETTO:-0500
TZNAME:EST
DTSTART:20271107T060000
END:STANDARD
END:VTIMEZONE
BEGIN:VEVENT
DTSTART;TZID=America/New_York:20260415T180000
DTEND;TZID=America/New_York:20260415T193000
DTSTAMP:20260420T211846
CREATED:20260330T160516Z
LAST-MODIFIED:20260330T161101Z
UID:10085749-1776276000-1776281400@thepinestimes.com
SUMMARY:Adult Dance Classes
DESCRIPTION:Avec Productions is offering a series of adult dance classes for beginners every Wednesday throughout April! Held at The Heat Dance Collective in Aberdeen\, these sessions are led by Director Angela Vecchione and are designed to be inclusive for all bodies and individuals aged 18 and older. Each 1.5-hour class runs from 6:00PM-7:30PM and includes an introduction to technique basics\, mind-body connection exercises\, and shared dance floor time. \nThe schedule features a different style each week: \nJazz: April 8th \nContemporary: April 15th \nBallet: April 22nd \nPricing is set at $15.00 for a single drop-in class or $40.00 for a three-class package. The studio is located at Pinehurst Plaza\, 1680 NC Hwy 5\, Suite 130\, in Aberdeen. If there are any barriers preventing attendance\, the organizers encourage interested participants to reach out directly to find a solution. \n \n 
URL:https://thepinestimes.com/event/adult-dance-classes/2026-04-15/
LOCATION:Pinehurst Plaza  1680 NC Hwy 5  Suite 130  Aberdeen NC 28315\, Heat Dance Collective 1680 NC Hwy 5 Suite 130\, Aberdeen\, 28315
CATEGORIES:Dance Class
ATTACH;FMTTYPE=image/png:https://thepinestimes.com/wp-content/uploads/Dance-Class.png
ORGANIZER;CN="Avec Productions":MAILTO:avecproductionsnyc@gmail.com
END:VEVENT
BEGIN:VEVENT
DTSTART;TZID=America/New_York:20260408T180000
DTEND;TZID=America/New_York:20260408T193000
DTSTAMP:20260420T211846
CREATED:20260330T160516Z
LAST-MODIFIED:20260330T161101Z
UID:10085745-1775671200-1775676600@thepinestimes.com
SUMMARY:Adult Dance Classes
DESCRIPTION:Avec Productions is offering a series of adult dance classes for beginners every Wednesday throughout April! Held at The Heat Dance Collective in Aberdeen\, these sessions are led by Director Angela Vecchione and are designed to be inclusive for all bodies and individuals aged 18 and older. Each 1.5-hour class runs from 6:00PM-7:30PM and includes an introduction to technique basics\, mind-body connection exercises\, and shared dance floor time. \nThe schedule features a different style each week: \nJazz: April 8th \nContemporary: April 15th \nBallet: April 22nd \nPricing is set at $15.00 for a single drop-in class or $40.00 for a three-class package. The studio is located at Pinehurst Plaza\, 1680 NC Hwy 5\, Suite 130\, in Aberdeen. If there are any barriers preventing attendance\, the organizers encourage interested participants to reach out directly to find a solution. \n \n 
URL:https://thepinestimes.com/event/adult-dance-classes/2026-04-08/
LOCATION:Pinehurst Plaza  1680 NC Hwy 5  Suite 130  Aberdeen NC 28315\, Heat Dance Collective 1680 NC Hwy 5 Suite 130\, Aberdeen\, 28315
CATEGORIES:Dance Class
ATTACH;FMTTYPE=image/png:https://thepinestimes.com/wp-content/uploads/Dance-Class.png
ORGANIZER;CN="Avec Productions":MAILTO:avecproductionsnyc@gmail.com
END:VEVENT
END:VCALENDAR