BEGIN:VCALENDAR
VERSION:2.0
PRODID:-//The Pines Times - ECPv6.15.20//NONSGML v1.0//EN
CALSCALE:GREGORIAN
METHOD:PUBLISH
X-WR-CALNAME:The Pines Times
X-ORIGINAL-URL:https://thepinestimes.com
X-WR-CALDESC:Events for The Pines Times
REFRESH-INTERVAL;VALUE=DURATION:PT1H
X-Robots-Tag:noindex
X-PUBLISHED-TTL:PT1H
BEGIN:VTIMEZONE
TZID:America/New_York
BEGIN:DAYLIGHT
TZOFFSETFROM:-0500
TZOFFSETTO:-0400
TZNAME:EDT
DTSTART:20240310T070000
END:DAYLIGHT
BEGIN:STANDARD
TZOFFSETFROM:-0400
TZOFFSETTO:-0500
TZNAME:EST
DTSTART:20241103T060000
END:STANDARD
BEGIN:DAYLIGHT
TZOFFSETFROM:-0500
TZOFFSETTO:-0400
TZNAME:EDT
DTSTART:20250309T070000
END:DAYLIGHT
BEGIN:STANDARD
TZOFFSETFROM:-0400
TZOFFSETTO:-0500
TZNAME:EST
DTSTART:20251102T060000
END:STANDARD
BEGIN:DAYLIGHT
TZOFFSETFROM:-0500
TZOFFSETTO:-0400
TZNAME:EDT
DTSTART:20260308T070000
END:DAYLIGHT
BEGIN:STANDARD
TZOFFSETFROM:-0400
TZOFFSETTO:-0500
TZNAME:EST
DTSTART:20261101T060000
END:STANDARD
BEGIN:DAYLIGHT
TZOFFSETFROM:-0500
TZOFFSETTO:-0400
TZNAME:EDT
DTSTART:20270314T070000
END:DAYLIGHT
BEGIN:STANDARD
TZOFFSETFROM:-0400
TZOFFSETTO:-0500
TZNAME:EST
DTSTART:20271107T060000
END:STANDARD
END:VTIMEZONE
BEGIN:VEVENT
DTSTART;TZID=America/New_York:20260323T100000
DTEND;TZID=America/New_York:20260323T223000
DTSTAMP:20260423T012400
CREATED:20250113T214536Z
LAST-MODIFIED:20260414T155929Z
UID:10083005-1774260000-1774305000@thepinestimes.com
SUMMARY:Once Upon a Pine Storytime: Seeds (Ages Birth through 24 Months)
DESCRIPTION:Pinehurst United Methodist Church hosts the Once Upon a Pine Storytime\, led by Rylee Hayes. This is a free program offered to the community. Seeds is the weekly storytime for toddlers ages birth through 24 months that provides a nurturing and fun environment to explore early literacy and social skills. Children enjoy songs\, stories and fun. All the while\, giving parents and caregivers a place to build connections and support. Join every Monday\, from 10:00am-10:30am.
URL:https://thepinestimes.com/event/once-upon-a-pine-storytime-seeds-ages-birth-through-24-months/2026-03-23/
LOCATION:Pinehurst United Methodist Church\, 4111 Airport Road\, Pinehurst\, NC\, 28376\, United States
CATEGORIES:Children,Educational,Family,Literary Event,Pinehurst Events,Piney's Tiny's,Social
ATTACH;FMTTYPE=image/jpeg:https://thepinestimes.com/wp-content/uploads/OnceUponAPineStorytimeFeature.jpg
ORGANIZER;CN="Pinehurst United Methodist Church":MAILTO:pumc@pinehurstumc.org
END:VEVENT
BEGIN:VEVENT
DTSTART;TZID=America/New_York:20260317T100000
DTEND;TZID=America/New_York:20260317T223000
DTSTAMP:20260423T012400
CREATED:20250113T213705Z
LAST-MODIFIED:20260414T160125Z
UID:10083007-1773741600-1773786600@thepinestimes.com
SUMMARY:Once Upon a Pine Storytime: Sprouts (Ages 2-5)
DESCRIPTION:Pinehurst United Methodist Church hosts the Once Upon a Pine Storytime\, led by Rylee Hayes. This is a free program offered to the community. Sprouts is the weekly storytime for toddlers ages 2-5 years old that provides a nurturing and fun environment to explore early literacy and social skills. Children enjoy songs\, stories and fun. All the while\, giving parents and caregivers a place to build connections and support. Join every Tuesday\, from 10:00am-10:30am. \n \n 
URL:https://thepinestimes.com/event/once-upon-a-pine-storytime-sprouts-ages-2-5/2026-03-17/
LOCATION:Pinehurst United Methodist Church\, 4111 Airport Road\, Pinehurst\, NC\, 28376\, United States
CATEGORIES:Children,Educational,Family,Literary Event,Pinehurst Events,Piney's Tiny's,Social,St. Patrick's Day
ATTACH;FMTTYPE=image/jpeg:https://thepinestimes.com/wp-content/uploads/OnceUponAPineStorytimeFeature.jpg
ORGANIZER;CN="Pinehurst United Methodist Church":MAILTO:pumc@pinehurstumc.org
END:VEVENT
BEGIN:VEVENT
DTSTART;TZID=America/New_York:20260316T100000
DTEND;TZID=America/New_York:20260316T223000
DTSTAMP:20260423T012400
CREATED:20250113T214536Z
LAST-MODIFIED:20260414T155929Z
UID:10083004-1773655200-1773700200@thepinestimes.com
SUMMARY:Once Upon a Pine Storytime: Seeds (Ages Birth through 24 Months)
DESCRIPTION:Pinehurst United Methodist Church hosts the Once Upon a Pine Storytime\, led by Rylee Hayes. This is a free program offered to the community. Seeds is the weekly storytime for toddlers ages birth through 24 months that provides a nurturing and fun environment to explore early literacy and social skills. Children enjoy songs\, stories and fun. All the while\, giving parents and caregivers a place to build connections and support. Join every Monday\, from 10:00am-10:30am.
URL:https://thepinestimes.com/event/once-upon-a-pine-storytime-seeds-ages-birth-through-24-months/2026-03-16/
LOCATION:Pinehurst United Methodist Church\, 4111 Airport Road\, Pinehurst\, NC\, 28376\, United States
CATEGORIES:Children,Educational,Family,Literary Event,Pinehurst Events,Piney's Tiny's,Social
ATTACH;FMTTYPE=image/jpeg:https://thepinestimes.com/wp-content/uploads/OnceUponAPineStorytimeFeature.jpg
ORGANIZER;CN="Pinehurst United Methodist Church":MAILTO:pumc@pinehurstumc.org
END:VEVENT
BEGIN:VEVENT
DTSTART;TZID=America/New_York:20260310T100000
DTEND;TZID=America/New_York:20260310T223000
DTSTAMP:20260423T012400
CREATED:20250113T213705Z
LAST-MODIFIED:20260414T160125Z
UID:10067721-1773136800-1773181800@thepinestimes.com
SUMMARY:Once Upon a Pine Storytime: Sprouts (Ages 2-5)
DESCRIPTION:Pinehurst United Methodist Church hosts the Once Upon a Pine Storytime\, led by Rylee Hayes. This is a free program offered to the community. Sprouts is the weekly storytime for toddlers ages 2-5 years old that provides a nurturing and fun environment to explore early literacy and social skills. Children enjoy songs\, stories and fun. All the while\, giving parents and caregivers a place to build connections and support. Join every Tuesday\, from 10:00am-10:30am. \n \n 
URL:https://thepinestimes.com/event/once-upon-a-pine-storytime-sprouts-ages-2-5/2026-03-10/
LOCATION:Pinehurst United Methodist Church\, 4111 Airport Road\, Pinehurst\, NC\, 28376\, United States
CATEGORIES:Children,Educational,Family,Literary Event,Pinehurst Events,Piney's Tiny's,Social,St. Patrick's Day
ATTACH;FMTTYPE=image/jpeg:https://thepinestimes.com/wp-content/uploads/OnceUponAPineStorytimeFeature.jpg
ORGANIZER;CN="Pinehurst United Methodist Church":MAILTO:pumc@pinehurstumc.org
END:VEVENT
BEGIN:VEVENT
DTSTART;TZID=America/New_York:20260309T100000
DTEND;TZID=America/New_York:20260309T223000
DTSTAMP:20260423T012400
CREATED:20250113T214536Z
LAST-MODIFIED:20260414T155929Z
UID:10083003-1773050400-1773095400@thepinestimes.com
SUMMARY:Once Upon a Pine Storytime: Seeds (Ages Birth through 24 Months)
DESCRIPTION:Pinehurst United Methodist Church hosts the Once Upon a Pine Storytime\, led by Rylee Hayes. This is a free program offered to the community. Seeds is the weekly storytime for toddlers ages birth through 24 months that provides a nurturing and fun environment to explore early literacy and social skills. Children enjoy songs\, stories and fun. All the while\, giving parents and caregivers a place to build connections and support. Join every Monday\, from 10:00am-10:30am.
URL:https://thepinestimes.com/event/once-upon-a-pine-storytime-seeds-ages-birth-through-24-months/2026-03-09/
LOCATION:Pinehurst United Methodist Church\, 4111 Airport Road\, Pinehurst\, NC\, 28376\, United States
CATEGORIES:Children,Educational,Family,Literary Event,Pinehurst Events,Piney's Tiny's,Social
ATTACH;FMTTYPE=image/jpeg:https://thepinestimes.com/wp-content/uploads/OnceUponAPineStorytimeFeature.jpg
ORGANIZER;CN="Pinehurst United Methodist Church":MAILTO:pumc@pinehurstumc.org
END:VEVENT
BEGIN:VEVENT
DTSTART;TZID=America/New_York:20260217T130000
DTEND;TZID=America/New_York:20260217T150000
DTSTAMP:20260423T012400
CREATED:20250114T132759Z
LAST-MODIFIED:20251114T222846Z
UID:10075335-1771333200-1771340400@thepinestimes.com
SUMMARY:Yarns of Love Group
DESCRIPTION:The Yarns of Love group meets at the Pinehurst United Methodist Church on the 1st and 3rd Tuesdays of the month at 1:00pm. All levels of knitters and crocheters are welcome to join the group. They have lots of yarn and project ideas!
URL:https://thepinestimes.com/event/yarns-of-love-group/2026-02-17/
LOCATION:Pinehurst United Methodist Church\, 4111 Airport Road\, Pinehurst\, NC\, 28376\, United States
CATEGORIES:Adults,Art/Photography,Clubs,Crafts,Hobby/Enthusiast,Meeting,Pinehurst Events,Senior,Social,Yoga
ATTACH;FMTTYPE=image/png:https://thepinestimes.com/wp-content/uploads/Pinehurst-United-Methodist-Church.png
ORGANIZER;CN="Pinehurst United Methodist Church":MAILTO:pumc@pinehurstumc.org
END:VEVENT
BEGIN:VEVENT
DTSTART;TZID=America/New_York:20260206T180000
DTEND;TZID=America/New_York:20260206T193000
DTSTAMP:20260423T012400
CREATED:20260119T202729Z
LAST-MODIFIED:20260119T202729Z
UID:10079787-1770400800-1770406200@thepinestimes.com
SUMMARY:Contemporary Night of Worship
DESCRIPTION:Join us on Friday\, February 6 at 6pm for a special Night Of Worship; led by our PUMC Praise Team. Doors open at 6pm\, worship begins at 6:30pm. This is an opportunity to gather for an extended time singing\, prayer\, and reflection through the primary means of contemporary worship music. All are invited to come and experience the presence of God and the power of unity together.
URL:https://thepinestimes.com/event/contemporary-night-of-worship/
LOCATION:Pinehurst United Methodist Church\, 4111 Airport Road\, Pinehurst\, NC\, 28376\, United States
CATEGORIES:Family,Live Entertainment,Live Music,Music,Religious/Spiritual,Senior,Young Adults
ATTACH;FMTTYPE=image/jpeg:https://thepinestimes.com/wp-content/uploads/IMG_3428.jpeg
ORGANIZER;CN="Pinehurst United Methodist Church":MAILTO:pumc@pinehurstumc.org
END:VEVENT
BEGIN:VEVENT
DTSTART;TZID=America/New_York:20260203T130000
DTEND;TZID=America/New_York:20260203T150000
DTSTAMP:20260423T012400
CREATED:20250114T132759Z
LAST-MODIFIED:20251114T222846Z
UID:10075338-1770123600-1770130800@thepinestimes.com
SUMMARY:Yarns of Love Group
DESCRIPTION:The Yarns of Love group meets at the Pinehurst United Methodist Church on the 1st and 3rd Tuesdays of the month at 1:00pm. All levels of knitters and crocheters are welcome to join the group. They have lots of yarn and project ideas!
URL:https://thepinestimes.com/event/yarns-of-love-group/2026-02-03/
LOCATION:Pinehurst United Methodist Church\, 4111 Airport Road\, Pinehurst\, NC\, 28376\, United States
CATEGORIES:Adults,Art/Photography,Clubs,Crafts,Hobby/Enthusiast,Meeting,Pinehurst Events,Senior,Social,Yoga
ATTACH;FMTTYPE=image/png:https://thepinestimes.com/wp-content/uploads/Pinehurst-United-Methodist-Church.png
ORGANIZER;CN="Pinehurst United Methodist Church":MAILTO:pumc@pinehurstumc.org
END:VEVENT
BEGIN:VEVENT
DTSTART;TZID=America/New_York:20260120T130000
DTEND;TZID=America/New_York:20260120T150000
DTSTAMP:20260423T012400
CREATED:20250114T132759Z
LAST-MODIFIED:20251114T222846Z
UID:10075334-1768914000-1768921200@thepinestimes.com
SUMMARY:Yarns of Love Group
DESCRIPTION:The Yarns of Love group meets at the Pinehurst United Methodist Church on the 1st and 3rd Tuesdays of the month at 1:00pm. All levels of knitters and crocheters are welcome to join the group. They have lots of yarn and project ideas!
URL:https://thepinestimes.com/event/yarns-of-love-group/2026-01-20/
LOCATION:Pinehurst United Methodist Church\, 4111 Airport Road\, Pinehurst\, NC\, 28376\, United States
CATEGORIES:Adults,Art/Photography,Clubs,Crafts,Hobby/Enthusiast,Meeting,Pinehurst Events,Senior,Social,Yoga
ATTACH;FMTTYPE=image/png:https://thepinestimes.com/wp-content/uploads/Pinehurst-United-Methodist-Church.png
ORGANIZER;CN="Pinehurst United Methodist Church":MAILTO:pumc@pinehurstumc.org
END:VEVENT
BEGIN:VEVENT
DTSTART;TZID=America/New_York:20260106T130000
DTEND;TZID=America/New_York:20260106T150000
DTSTAMP:20260423T012400
CREATED:20250114T132759Z
LAST-MODIFIED:20251114T222846Z
UID:10075337-1767704400-1767711600@thepinestimes.com
SUMMARY:Yarns of Love Group
DESCRIPTION:The Yarns of Love group meets at the Pinehurst United Methodist Church on the 1st and 3rd Tuesdays of the month at 1:00pm. All levels of knitters and crocheters are welcome to join the group. They have lots of yarn and project ideas!
URL:https://thepinestimes.com/event/yarns-of-love-group/2026-01-06/
LOCATION:Pinehurst United Methodist Church\, 4111 Airport Road\, Pinehurst\, NC\, 28376\, United States
CATEGORIES:Adults,Art/Photography,Clubs,Crafts,Hobby/Enthusiast,Meeting,Pinehurst Events,Senior,Social,Yoga
ATTACH;FMTTYPE=image/png:https://thepinestimes.com/wp-content/uploads/Pinehurst-United-Methodist-Church.png
ORGANIZER;CN="Pinehurst United Methodist Church":MAILTO:pumc@pinehurstumc.org
END:VEVENT
BEGIN:VEVENT
DTSTART;TZID=America/New_York:20251216T130000
DTEND;TZID=America/New_York:20251216T150000
DTSTAMP:20260423T012400
CREATED:20250114T132759Z
LAST-MODIFIED:20251114T222846Z
UID:10075333-1765890000-1765897200@thepinestimes.com
SUMMARY:Yarns of Love Group
DESCRIPTION:The Yarns of Love group meets at the Pinehurst United Methodist Church on the 1st and 3rd Tuesdays of the month at 1:00pm. All levels of knitters and crocheters are welcome to join the group. They have lots of yarn and project ideas!
URL:https://thepinestimes.com/event/yarns-of-love-group/2025-12-16/
LOCATION:Pinehurst United Methodist Church\, 4111 Airport Road\, Pinehurst\, NC\, 28376\, United States
CATEGORIES:Adults,Art/Photography,Clubs,Crafts,Hobby/Enthusiast,Meeting,Pinehurst Events,Senior,Social,Yoga
ATTACH;FMTTYPE=image/png:https://thepinestimes.com/wp-content/uploads/Pinehurst-United-Methodist-Church.png
ORGANIZER;CN="Pinehurst United Methodist Church":MAILTO:pumc@pinehurstumc.org
END:VEVENT
BEGIN:VEVENT
DTSTART;TZID=America/New_York:20251202T130000
DTEND;TZID=America/New_York:20251202T150000
DTSTAMP:20260423T012400
CREATED:20250114T132759Z
LAST-MODIFIED:20251114T222846Z
UID:10075336-1764680400-1764687600@thepinestimes.com
SUMMARY:Yarns of Love Group
DESCRIPTION:The Yarns of Love group meets at the Pinehurst United Methodist Church on the 1st and 3rd Tuesdays of the month at 1:00pm. All levels of knitters and crocheters are welcome to join the group. They have lots of yarn and project ideas!
URL:https://thepinestimes.com/event/yarns-of-love-group/2025-12-02/
LOCATION:Pinehurst United Methodist Church\, 4111 Airport Road\, Pinehurst\, NC\, 28376\, United States
CATEGORIES:Adults,Art/Photography,Clubs,Crafts,Hobby/Enthusiast,Meeting,Pinehurst Events,Senior,Social,Yoga
ATTACH;FMTTYPE=image/png:https://thepinestimes.com/wp-content/uploads/Pinehurst-United-Methodist-Church.png
ORGANIZER;CN="Pinehurst United Methodist Church":MAILTO:pumc@pinehurstumc.org
END:VEVENT
BEGIN:VEVENT
DTSTART;TZID=America/New_York:20251118T130000
DTEND;TZID=America/New_York:20251118T150000
DTSTAMP:20260423T012400
CREATED:20250114T132759Z
LAST-MODIFIED:20251114T222846Z
UID:10075332-1763470800-1763478000@thepinestimes.com
SUMMARY:Yarns of Love Group
DESCRIPTION:The Yarns of Love group meets at the Pinehurst United Methodist Church on the 1st and 3rd Tuesdays of the month at 1:00pm. All levels of knitters and crocheters are welcome to join the group. They have lots of yarn and project ideas!
URL:https://thepinestimes.com/event/yarns-of-love-group/2025-11-18/
LOCATION:Pinehurst United Methodist Church\, 4111 Airport Road\, Pinehurst\, NC\, 28376\, United States
CATEGORIES:Adults,Art/Photography,Clubs,Crafts,Hobby/Enthusiast,Meeting,Pinehurst Events,Senior,Social,Yoga
ATTACH;FMTTYPE=image/png:https://thepinestimes.com/wp-content/uploads/Pinehurst-United-Methodist-Church.png
ORGANIZER;CN="Pinehurst United Methodist Church":MAILTO:pumc@pinehurstumc.org
END:VEVENT
BEGIN:VEVENT
DTSTART;TZID=America/New_York:20251005T153000
DTEND;TZID=America/New_York:20251005T170000
DTSTAMP:20260423T012400
CREATED:20250922T133504Z
LAST-MODIFIED:20250922T133504Z
UID:10070071-1759678200-1759683600@thepinestimes.com
SUMMARY:Family Fall Fest
DESCRIPTION:Join Pinehurst United Methodist Church for their annual Family Fall Fest on Sunday\, October 5th | 3:30pm-5pm! Enjoy an afternoon filled with games\, crafts\, face painting\, a bounce house\, an inflatable obstacle course\, tasty snacks\, and more. Bring the whole family and celebrate the season with fun for all ages!
URL:https://thepinestimes.com/event/family-fall-fest/
LOCATION:Pinehurst United Methodist Church\, 4111 Airport Road\, Pinehurst\, NC\, 28376\, United States
CATEGORIES:Children,Crafts,Fair/Festival,Fall,Fall in the Sandhills,Family,Games,Halloween,Pinehurst Events,Piney's Kids,Piney's Tiny's,Social,Teen Activities,Young Adults
ATTACH;FMTTYPE=image/png:https://thepinestimes.com/wp-content/uploads/Pinehurst-United-Methodist-Church.png
ORGANIZER;CN="Pinehurst United Methodist Church":MAILTO:pumc@pinehurstumc.org
END:VEVENT
BEGIN:VEVENT
DTSTART;TZID=America/New_York:20250208T090000
DTEND;TZID=America/New_York:20250208T130000
DTSTAMP:20260423T012400
CREATED:20241115T230155Z
LAST-MODIFIED:20250113T212102Z
UID:10048315-1739005200-1739019600@thepinestimes.com
SUMMARY:Chocolate Festival 2025
DESCRIPTION:Attend the annual Chocolate Festival at Pinehurst Methodist Church on Saturday\, February 8th | 9am-1pm! There will be several activities included. The Festival will include chocolate baked goods and confections\, a gift boutique\, donuts\, hot chocolate\, and boxed lunches\, cooking and decorating with a local chef and a cake walk! Be sure to take part in the silent auction running 9am-12pm. Admission is free. Proceeds collected will benefit Sandhills/Moore County Coalition for Human Care\, Kind Souls\, Inc.\, and Family Promise of Moore County. For additional information\, follow the event website link provided below. \n 
URL:https://thepinestimes.com/event/chocolate-festival/
LOCATION:Pinehurst United Methodist Church\, 4111 Airport Road\, Pinehurst\, NC\, 28376\, United States
CATEGORIES:Adults
ATTACH;FMTTYPE=image/jpeg:https://thepinestimes.com/wp-content/uploads/ChocolateFestivalFeature.jpg
END:VEVENT
END:VCALENDAR