BEGIN:VCALENDAR
VERSION:2.0
PRODID:-//The Pines Times - ECPv6.15.20//NONSGML v1.0//EN
CALSCALE:GREGORIAN
METHOD:PUBLISH
X-ORIGINAL-URL:https://thepinestimes.com
X-WR-CALDESC:Events for The Pines Times
REFRESH-INTERVAL;VALUE=DURATION:PT1H
X-Robots-Tag:noindex
X-PUBLISHED-TTL:PT1H
BEGIN:VTIMEZONE
TZID:America/New_York
BEGIN:DAYLIGHT
TZOFFSETFROM:-0500
TZOFFSETTO:-0400
TZNAME:EDT
DTSTART:20240310T070000
END:DAYLIGHT
BEGIN:STANDARD
TZOFFSETFROM:-0400
TZOFFSETTO:-0500
TZNAME:EST
DTSTART:20241103T060000
END:STANDARD
BEGIN:DAYLIGHT
TZOFFSETFROM:-0500
TZOFFSETTO:-0400
TZNAME:EDT
DTSTART:20250309T070000
END:DAYLIGHT
BEGIN:STANDARD
TZOFFSETFROM:-0400
TZOFFSETTO:-0500
TZNAME:EST
DTSTART:20251102T060000
END:STANDARD
BEGIN:DAYLIGHT
TZOFFSETFROM:-0500
TZOFFSETTO:-0400
TZNAME:EDT
DTSTART:20260308T070000
END:DAYLIGHT
BEGIN:STANDARD
TZOFFSETFROM:-0400
TZOFFSETTO:-0500
TZNAME:EST
DTSTART:20261101T060000
END:STANDARD
BEGIN:DAYLIGHT
TZOFFSETFROM:-0500
TZOFFSETTO:-0400
TZNAME:EDT
DTSTART:20270314T070000
END:DAYLIGHT
BEGIN:STANDARD
TZOFFSETFROM:-0400
TZOFFSETTO:-0500
TZNAME:EST
DTSTART:20271107T060000
END:STANDARD
END:VTIMEZONE
BEGIN:VEVENT
DTSTART;TZID=America/New_York:20260122T170000
DTEND;TZID=America/New_York:20260122T190000
DTSTAMP:20260424T171949
CREATED:20260119T214017Z
LAST-MODIFIED:20260120T001710Z
UID:10079823-1769101200-1769108400@thepinestimes.com
SUMMARY:Putter Girl: Golf Tips with Donna Andrews
DESCRIPTION:Don’t miss our next FREE Donna Andrews clinic at Putter Girl! THURSDAY\, January 22nd from 5-7 pm! Everyone who comes will get a FREE pair of our Valentine’s Day socks\, wine and cheese\, great discounts and of course fabulous tips from Donna!\nCabi will also be joining us so there will be lots of fun and great shopping! Don’t miss it at 211 Central Park Avenue\, Suite F in Olmsted Village! #womensgolf #womensgolfapparel #womensgolfwear #ladiesgolf #ladiesgolfapparel #GolfLessons
URL:https://thepinestimes.com/event/putter-girl-christmas-party-and-tuesday-tips-with-donna-andrews/
LOCATION:Putter Girl\, 211 Central Park Ave. Suite F\, Pinehurst\, 28374\, United States
CATEGORIES:Adult Connections,Adults,Art/Craft Workshops,Beer and Wine,Educational,Golf,Health & Wellness,Hobby/Enthusiast,HOMEPAGE Featured,Moore County Events,Pinehurst Events,Senior,Social,Sports,Valentine's Day,Women
ATTACH;FMTTYPE=image/jpeg:https://thepinestimes.com/wp-content/uploads/PutterGirlFeature.jpg
END:VEVENT
BEGIN:VEVENT
DTSTART;TZID=America/New_York:20251211T160000
DTEND;TZID=America/New_York:20251211T190000
DTSTAMP:20260424T171949
CREATED:20251107T184921Z
LAST-MODIFIED:20251207T155027Z
UID:10074964-1765468800-1765479600@thepinestimes.com
SUMMARY:Putter Girl: Christmas Party and Tuesday Tips with Donna Andrews
DESCRIPTION:Come rock around the Xmas Tree with Putter Girl! Mark your calendar for Tuesday Tips with Donna Andrews returns December 11th\, 4:00pm-7:00pm at Putter Girl in Pinehurst! Join for a special holiday edition that is doubling as a Christmas party! It is the perfect mix of community\, learning\, and fun\, and this event is free and open to the public. \nGolf Insights will be provided as Donna Andrews gives tips from 5:00pm-6:00pm. You can enjoy festive refreshments including scones from Pine Scones\, wine\, and egg nog. Take advantage of exclusive discounts by receiving 25% off everything in the store\, and get a head start on holiday shopping by browsing lots of special gift bundles perfect for Christmas. Plus\, there will be Giveaways and more fun!
URL:https://thepinestimes.com/event/putter-girl/
LOCATION:Putter Girl\, 211 Central Park Ave. Suite F\, Pinehurst\, 28374\, United States
CATEGORIES:Adult Connections,Adults,Art/Craft Workshops,Beer and Wine,Christmas,Educational,Golf,Health & Wellness,Hobby/Enthusiast,Holiday Events,HOMEPAGE Featured,Moore County Events,Pinehurst Events,Senior,Social,Sports,Women
ATTACH;FMTTYPE=image/jpeg:https://thepinestimes.com/wp-content/uploads/PutterGirlFeature.jpg
END:VEVENT
END:VCALENDAR