BEGIN:VCALENDAR
VERSION:2.0
PRODID:-//The Pines Times - ECPv6.15.20//NONSGML v1.0//EN
CALSCALE:GREGORIAN
METHOD:PUBLISH
X-WR-CALNAME:The Pines Times
X-ORIGINAL-URL:https://thepinestimes.com
X-WR-CALDESC:Events for The Pines Times
REFRESH-INTERVAL;VALUE=DURATION:PT1H
X-Robots-Tag:noindex
X-PUBLISHED-TTL:PT1H
BEGIN:VTIMEZONE
TZID:America/New_York
BEGIN:DAYLIGHT
TZOFFSETFROM:-0500
TZOFFSETTO:-0400
TZNAME:EDT
DTSTART:20250309T070000
END:DAYLIGHT
BEGIN:STANDARD
TZOFFSETFROM:-0400
TZOFFSETTO:-0500
TZNAME:EST
DTSTART:20251102T060000
END:STANDARD
BEGIN:DAYLIGHT
TZOFFSETFROM:-0500
TZOFFSETTO:-0400
TZNAME:EDT
DTSTART:20260308T070000
END:DAYLIGHT
BEGIN:STANDARD
TZOFFSETFROM:-0400
TZOFFSETTO:-0500
TZNAME:EST
DTSTART:20261101T060000
END:STANDARD
BEGIN:DAYLIGHT
TZOFFSETFROM:-0500
TZOFFSETTO:-0400
TZNAME:EDT
DTSTART:20270314T070000
END:DAYLIGHT
BEGIN:STANDARD
TZOFFSETFROM:-0400
TZOFFSETTO:-0500
TZNAME:EST
DTSTART:20271107T060000
END:STANDARD
END:VTIMEZONE
BEGIN:VEVENT
DTSTART;TZID=America/New_York:20260423T190000
DTEND;TZID=America/New_York:20260423T210000
DTSTAMP:20260422T214115
CREATED:20230913T134107Z
LAST-MODIFIED:20260419T142550Z
UID:10086931-1776970800-1776978000@thepinestimes.com
SUMMARY:Trivia Thursday
DESCRIPTION:Enjoy Trivia at the Rec Room Bar & Arcade in Southern Pines! The fun takes place every Thursday\, from 7PM-9PM\, hosted by bartender\, Brio. Compete for Rec Room prizes and enjoy nightly drink specials! \n  \n  \n  \n 
URL:https://thepinestimes.com/event/trivia-thursday/2026-04-23/
LOCATION:Rec Room Bar + Arcade\, 750 SW Broad St\, Southern Pines\, NC\, 28387\, United States
CATEGORIES:Adult Connections,Adults,Games,Hobby/Enthusiast,Night Life,Pines Connector,Social,Southern Pines Events
ATTACH;FMTTYPE=image/png:https://thepinestimes.com/wp-content/uploads/Trivia-Night-e1754408009763.png
END:VEVENT
BEGIN:VEVENT
DTSTART;TZID=America/New_York:20260424T210000
DTEND;TZID=America/New_York:20260424T210000
DTSTAMP:20260422T214115
CREATED:20240316T123842Z
LAST-MODIFIED:20260408T210918Z
UID:10032520-1777064400-1777064400@thepinestimes.com
SUMMARY:High Score Comedy Night
DESCRIPTION:Rec Room Bar & Arcade in Southern Pines presents High Score Comedy on Friday\, September 19th! Enjoy the laughs on the patio provided by talented comedians starting at 9:00pm. Hosted by Antoine Norwood. It is free to join the fun; 21+ event. \n 
URL:https://thepinestimes.com/event/high-score-comedy-night/
LOCATION:Rec Room Bar + Arcade\, 750 SW Broad St\, Southern Pines\, NC\, 28387\, United States
CATEGORIES:Adults,Comedy,Hobby/Enthusiast,Live Entertainment,Social,Southern Pines Events
ATTACH;FMTTYPE=image/jpeg:https://thepinestimes.com/wp-content/uploads/RecRoomFeature.jpg
END:VEVENT
BEGIN:VEVENT
DTSTART;TZID=America/New_York:20260425T140000
DTEND;TZID=America/New_York:20260425T180000
DTSTAMP:20260422T214115
CREATED:20251121T164010Z
LAST-MODIFIED:20260413T150537Z
UID:10075485-1777125600-1777140000@thepinestimes.com
SUMMARY:Pokémon & Sports Card Trading Event
DESCRIPTION:Join the Pokémon & Sports Card Trading Event at Rec Room Bar & Arcade in Southern Pines where you can buy\, sell\, or trade your cards! The event takes place on Saturday\, April 25th\, from 2PM-6PM. All ages are welcome to attend. If you wish to reserve a table to sell or trade\, please email recroomreservations@gmail.com. \n \n 
URL:https://thepinestimes.com/event/pokemon-sports-card-trading-event/
LOCATION:Rec Room Bar + Arcade\, 750 SW Broad St\, Southern Pines\, NC\, 28387\, United States
CATEGORIES:Adults,Children,Family,Games,Hobby/Enthusiast,Piney's Kids,Social,Southern Pines Events,Teen Activities,Young Adults
ATTACH;FMTTYPE=image/jpeg:https://thepinestimes.com/wp-content/uploads/RecRoomPokemonFeature.jpg
END:VEVENT
BEGIN:VEVENT
DTSTART;TZID=America/New_York:20260425T210000
DTEND;TZID=America/New_York:20260425T235900
DTSTAMP:20260422T214115
CREATED:20260412T145242Z
LAST-MODIFIED:20260412T145242Z
UID:10086795-1777150800-1777161540@thepinestimes.com
SUMMARY:Roots\, Rec\, Reggae
DESCRIPTION:The Rec Room Bar and Arcade is bringing island vibes to the community with Roots\, Rec\, Reggae on Saturday\, April 25th. Featuring champion sound provided by DJ LUJ\, the event runs from 9:00PM-1:00AM for adults ages 21+. Free to attend. Whether you are a dedicated reggae fan or just looking for a fun Saturday night out\, come out and enjoy great energy and smooth rhythms.
URL:https://thepinestimes.com/event/roots-rec-reggae/
LOCATION:Rec Room Bar + Arcade\, 750 SW Broad St\, Southern Pines\, NC\, 28387\, United States
CATEGORIES:Adult Connections,Adults,Beer and Wine,Dance,Music,Social,Southern Pines Events
ATTACH;FMTTYPE=image/jpeg:https://thepinestimes.com/wp-content/uploads/LiveMusicFeature.jpg
END:VEVENT
BEGIN:VEVENT
DTSTART;TZID=America/New_York:20260430T190000
DTEND;TZID=America/New_York:20260430T210000
DTSTAMP:20260422T214115
CREATED:20230913T134107Z
LAST-MODIFIED:20260419T142550Z
UID:10086932-1777575600-1777582800@thepinestimes.com
SUMMARY:Trivia Thursday
DESCRIPTION:Enjoy Trivia at the Rec Room Bar & Arcade in Southern Pines! The fun takes place every Thursday\, from 7PM-9PM\, hosted by bartender\, Brio. Compete for Rec Room prizes and enjoy nightly drink specials! \n  \n  \n  \n 
URL:https://thepinestimes.com/event/trivia-thursday/2026-04-30/
LOCATION:Rec Room Bar + Arcade\, 750 SW Broad St\, Southern Pines\, NC\, 28387\, United States
CATEGORIES:Adult Connections,Adults,Games,Hobby/Enthusiast,Night Life,Pines Connector,Social,Southern Pines Events
ATTACH;FMTTYPE=image/png:https://thepinestimes.com/wp-content/uploads/Trivia-Night-e1754408009763.png
END:VEVENT
BEGIN:VEVENT
DTSTART;TZID=America/New_York:20260430T190000
DTEND;TZID=America/New_York:20260430T210000
DTSTAMP:20260422T214115
CREATED:20250217T205735Z
LAST-MODIFIED:20260116T180141Z
UID:10053953-1777575600-1777582800@thepinestimes.com
SUMMARY:Micro Wrestling
DESCRIPTION:The Original “Micro” Professional Wrestling Organization is coming to Rec Room Bar & Arcade in Southern Pines on Thursday\, April 30thth from 7pm-9pm! The show is for ages 18 and up. The Micro Wrestling Federation is a full-scale\, WWE type event supported by an entire cast under five feet tall. It’s going to be pandemonium as the Micro Wrestlers body slam\, bear hug and headlock throughout an evening of nonstop action. Two Single Matches with the Micro Brawl and Micro Rumble. The belt is on the line and only one Micro wrestler will leave as champion. For full details and online ticket purchases\, follow the event website link provided below. \n \n 
URL:https://thepinestimes.com/event/micro-wrestling/
LOCATION:Rec Room Bar + Arcade\, 750 SW Broad St\, Southern Pines\, NC\, 28387\, United States
CATEGORIES:Adults,Beer and Wine,Games,Hobby/Enthusiast,Live Entertainment,Southern Pines Events,Sports,Wrestling
ATTACH;FMTTYPE=image/jpeg:https://thepinestimes.com/wp-content/uploads/RecRoomFeature.jpg
END:VEVENT
BEGIN:VEVENT
DTSTART;TZID=America/New_York:20260507T190000
DTEND;TZID=America/New_York:20260507T210000
DTSTAMP:20260422T214115
CREATED:20230913T134107Z
LAST-MODIFIED:20260419T142550Z
UID:10086933-1778180400-1778187600@thepinestimes.com
SUMMARY:Trivia Thursday
DESCRIPTION:Enjoy Trivia at the Rec Room Bar & Arcade in Southern Pines! The fun takes place every Thursday\, from 7PM-9PM\, hosted by bartender\, Brio. Compete for Rec Room prizes and enjoy nightly drink specials! \n  \n  \n  \n 
URL:https://thepinestimes.com/event/trivia-thursday/2026-05-07/
LOCATION:Rec Room Bar + Arcade\, 750 SW Broad St\, Southern Pines\, NC\, 28387\, United States
CATEGORIES:Adult Connections,Adults,Games,Hobby/Enthusiast,Night Life,Pines Connector,Social,Southern Pines Events
ATTACH;FMTTYPE=image/png:https://thepinestimes.com/wp-content/uploads/Trivia-Night-e1754408009763.png
END:VEVENT
BEGIN:VEVENT
DTSTART;TZID=America/New_York:20260514T190000
DTEND;TZID=America/New_York:20260514T210000
DTSTAMP:20260422T214115
CREATED:20230913T134107Z
LAST-MODIFIED:20260419T142550Z
UID:10086934-1778785200-1778792400@thepinestimes.com
SUMMARY:Trivia Thursday
DESCRIPTION:Enjoy Trivia at the Rec Room Bar & Arcade in Southern Pines! The fun takes place every Thursday\, from 7PM-9PM\, hosted by bartender\, Brio. Compete for Rec Room prizes and enjoy nightly drink specials! \n  \n  \n  \n 
URL:https://thepinestimes.com/event/trivia-thursday/2026-05-14/
LOCATION:Rec Room Bar + Arcade\, 750 SW Broad St\, Southern Pines\, NC\, 28387\, United States
CATEGORIES:Adult Connections,Adults,Games,Hobby/Enthusiast,Night Life,Pines Connector,Social,Southern Pines Events
ATTACH;FMTTYPE=image/png:https://thepinestimes.com/wp-content/uploads/Trivia-Night-e1754408009763.png
END:VEVENT
BEGIN:VEVENT
DTSTART;TZID=America/New_York:20260521T190000
DTEND;TZID=America/New_York:20260521T210000
DTSTAMP:20260422T214115
CREATED:20230913T134107Z
LAST-MODIFIED:20260419T142550Z
UID:10086935-1779390000-1779397200@thepinestimes.com
SUMMARY:Trivia Thursday
DESCRIPTION:Enjoy Trivia at the Rec Room Bar & Arcade in Southern Pines! The fun takes place every Thursday\, from 7PM-9PM\, hosted by bartender\, Brio. Compete for Rec Room prizes and enjoy nightly drink specials! \n  \n  \n  \n 
URL:https://thepinestimes.com/event/trivia-thursday/2026-05-21/
LOCATION:Rec Room Bar + Arcade\, 750 SW Broad St\, Southern Pines\, NC\, 28387\, United States
CATEGORIES:Adult Connections,Adults,Games,Hobby/Enthusiast,Night Life,Pines Connector,Social,Southern Pines Events
ATTACH;FMTTYPE=image/png:https://thepinestimes.com/wp-content/uploads/Trivia-Night-e1754408009763.png
END:VEVENT
BEGIN:VEVENT
DTSTART;TZID=America/New_York:20260528T190000
DTEND;TZID=America/New_York:20260528T210000
DTSTAMP:20260422T214115
CREATED:20230913T134107Z
LAST-MODIFIED:20260419T142550Z
UID:10086936-1779994800-1780002000@thepinestimes.com
SUMMARY:Trivia Thursday
DESCRIPTION:Enjoy Trivia at the Rec Room Bar & Arcade in Southern Pines! The fun takes place every Thursday\, from 7PM-9PM\, hosted by bartender\, Brio. Compete for Rec Room prizes and enjoy nightly drink specials! \n  \n  \n  \n 
URL:https://thepinestimes.com/event/trivia-thursday/2026-05-28/
LOCATION:Rec Room Bar + Arcade\, 750 SW Broad St\, Southern Pines\, NC\, 28387\, United States
CATEGORIES:Adult Connections,Adults,Games,Hobby/Enthusiast,Night Life,Pines Connector,Social,Southern Pines Events
ATTACH;FMTTYPE=image/png:https://thepinestimes.com/wp-content/uploads/Trivia-Night-e1754408009763.png
END:VEVENT
END:VCALENDAR