BEGIN:VCALENDAR
VERSION:2.0
PRODID:-//The Pines Times - ECPv6.15.20//NONSGML v1.0//EN
CALSCALE:GREGORIAN
METHOD:PUBLISH
X-ORIGINAL-URL:https://thepinestimes.com
X-WR-CALDESC:Events for The Pines Times
REFRESH-INTERVAL;VALUE=DURATION:PT1H
X-Robots-Tag:noindex
X-PUBLISHED-TTL:PT1H
BEGIN:VTIMEZONE
TZID:America/New_York
BEGIN:DAYLIGHT
TZOFFSETFROM:-0500
TZOFFSETTO:-0400
TZNAME:EDT
DTSTART:20250309T070000
END:DAYLIGHT
BEGIN:STANDARD
TZOFFSETFROM:-0400
TZOFFSETTO:-0500
TZNAME:EST
DTSTART:20251102T060000
END:STANDARD
BEGIN:DAYLIGHT
TZOFFSETFROM:-0500
TZOFFSETTO:-0400
TZNAME:EDT
DTSTART:20260308T070000
END:DAYLIGHT
BEGIN:STANDARD
TZOFFSETFROM:-0400
TZOFFSETTO:-0500
TZNAME:EST
DTSTART:20261101T060000
END:STANDARD
BEGIN:DAYLIGHT
TZOFFSETFROM:-0500
TZOFFSETTO:-0400
TZNAME:EDT
DTSTART:20270314T070000
END:DAYLIGHT
BEGIN:STANDARD
TZOFFSETFROM:-0400
TZOFFSETTO:-0500
TZNAME:EST
DTSTART:20271107T060000
END:STANDARD
END:VTIMEZONE
BEGIN:VEVENT
DTSTART;TZID=America/New_York:20260423T180000
DTEND;TZID=America/New_York:20260423T203000
DTSTAMP:20260420T180514
CREATED:20260420T143529Z
LAST-MODIFIED:20260420T143529Z
UID:10086994-1776967200-1776976200@thepinestimes.com
SUMMARY:Live Music: Julia Golden
DESCRIPTION:Enjoy live music at Red’s Corner in Southern Pines! Julia Golden is performing this Thursday\, from 6:00PM-8:30PM. \n \n  \n  \n  \n  \n  \n  \n  \n  \n  \n  \n  \n  \n  \n 
URL:https://thepinestimes.com/event/live-music-julia-golden/
LOCATION:Red’s Corner\, 801 SW Broad St\, Southern Pines\, 28387
CATEGORIES:Adult Connections,Adults,Food,Hobby/Enthusiast,Live Music,Music,Night Life,Social,Southern Pines Events
ATTACH;FMTTYPE=image/jpeg:https://thepinestimes.com/wp-content/uploads/LiveMusicFeature.jpg
ORGANIZER;CN="Red's Corner":MAILTO:redscornersp@gmail.com
END:VEVENT
BEGIN:VEVENT
DTSTART;TZID=America/New_York:20260424T140000
DTEND;TZID=America/New_York:20260424T200000
DTSTAMP:20260420T180514
CREATED:20250409T164940Z
LAST-MODIFIED:20260401T135644Z
UID:10056359-1777039200-1777060800@thepinestimes.com
SUMMARY:Blood Drive in Honor of Avery Slatcher 2026
DESCRIPTION:Join at Red’s Corner\, as they host the 3rd annual Blood Drive in Honor of Avery Slatcher on Friday\, April 24th from 2PM-8PM. OneBlood buses will be on site for donations. \nHonor Avery Slatcher in the best way possible – by donating blood. Three years ago\, Avery was fighting for her life after being stabbed more than 20 times. Strangers she never met – through blood donations ensured she could survive. All across our state people are going to face unexpected tragedies and blood must be on the shelf. \nJoin the community to donate blood in honor of Avery Slatcher\, whose story of resilience and strength has inspired a mission to bring lifesaving blood to those in need. All donors will receive a $25 eGift card and an umbrella\, along with a complimentary wellness checkup that includes screenings for blood pressure\, pulse\, temperature\, iron count\, and cholesterol. \nYou can scan the QR code on the flyer to watch Avery’s story and learn how she is turning personal trauma into a source of light and positivity. To schedule an appointment or find more information\, call 888-936-6283 or visit the event website link provided below. \n \n 
URL:https://thepinestimes.com/event/blood-drive-in-honor-of-avery-slatcher-2026/
LOCATION:Red’s Corner\, 801 SW Broad St\, Southern Pines\, 28387
CATEGORIES:Blood Drive,Donation,Health & Wellness,Hobby/Enthusiast,Social,Southern Pines Events,Volunteer
ATTACH;FMTTYPE=image/jpeg:https://thepinestimes.com/wp-content/uploads/RedsAveryFeature.jpg
ORGANIZER;CN="Red's Corner":MAILTO:redscornersp@gmail.com
END:VEVENT
BEGIN:VEVENT
DTSTART;TZID=America/New_York:20260416T180000
DTEND;TZID=America/New_York:20260416T200000
DTSTAMP:20260420T180514
CREATED:20260406T184259Z
LAST-MODIFIED:20260413T213257Z
UID:10086349-1776362400-1776369600@thepinestimes.com
SUMMARY:Live Music: Chris Nelson
DESCRIPTION:Enjoy live music at Red’s Corner in Southern Pines! Chris Nelson is performing this Thursday\, from 6PM-8PM. \n \n  \n  \n  \n  \n  \n  \n  \n  \n  \n  \n  \n  \n  \n 
URL:https://thepinestimes.com/event/live-music-chris-nelson/
LOCATION:Red’s Corner\, 801 SW Broad St\, Southern Pines\, 28387
CATEGORIES:Adult Connections,Adults,Food,Hobby/Enthusiast,Live Music,Music,Night Life,Social,Southern Pines Events
ATTACH;FMTTYPE=image/jpeg:https://thepinestimes.com/wp-content/uploads/LiveMusicFeature.jpg
ORGANIZER;CN="Red's Corner":MAILTO:redscornersp@gmail.com
END:VEVENT
BEGIN:VEVENT
DTSTART;TZID=America/New_York:20260425T173000
DTEND;TZID=America/New_York:20260425T200000
DTSTAMP:20260420T180514
CREATED:20260420T143818Z
LAST-MODIFIED:20260420T143818Z
UID:10086995-1777138200-1777147200@thepinestimes.com
SUMMARY:Live Music: Mike Ganji
DESCRIPTION:Enjoy live music at Red’s Corner in Southern Pines! Mike Ganji is performing this Thursday\, from 5:30PM-8:00PM. \n \n  \n  \n  \n  \n  \n  \n  \n  \n  \n  \n  \n  \n  \n 
URL:https://thepinestimes.com/event/live-music-mike-ganji/
LOCATION:Red’s Corner\, 801 SW Broad St\, Southern Pines\, 28387
CATEGORIES:Adult Connections,Adults,Food,Hobby/Enthusiast,Live Music,Music,Night Life,Social,Southern Pines Events
ATTACH;FMTTYPE=image/jpeg:https://thepinestimes.com/wp-content/uploads/LiveMusicFeature.jpg
ORGANIZER;CN="Red's Corner":MAILTO:redscornersp@gmail.com
END:VEVENT
BEGIN:VEVENT
DTSTART;TZID=America/New_York:20260426T160000
DTEND;TZID=America/New_York:20260426T190000
DTSTAMP:20260420T180514
CREATED:20260420T144034Z
LAST-MODIFIED:20260420T144034Z
UID:10086996-1777219200-1777230000@thepinestimes.com
SUMMARY:Live Music: Qwister-Rustbelt Reggae
DESCRIPTION:Enjoy live music at Red’s Corner in Southern Pines! Qwister-Rustbelt Reggae is performing this Sunday\, from 4PM-7PM. \n \n  \n  \n  \n  \n  \n  \n  \n  \n  \n  \n  \n  \n  \n 
URL:https://thepinestimes.com/event/live-music-qwister-rustbelt-reggae/
LOCATION:Red’s Corner\, 801 SW Broad St\, Southern Pines\, 28387
CATEGORIES:Adult Connections,Adults,Food,Hobby/Enthusiast,Live Music,Music,Night Life,Social,Southern Pines Events
ATTACH;FMTTYPE=image/jpeg:https://thepinestimes.com/wp-content/uploads/LiveMusicFeature.jpg
ORGANIZER;CN="Red's Corner":MAILTO:redscornersp@gmail.com
END:VEVENT
END:VCALENDAR