BEGIN:VCALENDAR
VERSION:2.0
PRODID:-//The Pines Times - ECPv6.15.20//NONSGML v1.0//EN
CALSCALE:GREGORIAN
METHOD:PUBLISH
X-WR-CALNAME:The Pines Times
X-ORIGINAL-URL:https://thepinestimes.com
X-WR-CALDESC:Events for The Pines Times
REFRESH-INTERVAL;VALUE=DURATION:PT1H
X-Robots-Tag:noindex
X-PUBLISHED-TTL:PT1H
BEGIN:VTIMEZONE
TZID:America/New_York
BEGIN:DAYLIGHT
TZOFFSETFROM:-0500
TZOFFSETTO:-0400
TZNAME:EDT
DTSTART:20240310T070000
END:DAYLIGHT
BEGIN:STANDARD
TZOFFSETFROM:-0400
TZOFFSETTO:-0500
TZNAME:EST
DTSTART:20241103T060000
END:STANDARD
BEGIN:DAYLIGHT
TZOFFSETFROM:-0500
TZOFFSETTO:-0400
TZNAME:EDT
DTSTART:20250309T070000
END:DAYLIGHT
BEGIN:STANDARD
TZOFFSETFROM:-0400
TZOFFSETTO:-0500
TZNAME:EST
DTSTART:20251102T060000
END:STANDARD
BEGIN:DAYLIGHT
TZOFFSETFROM:-0500
TZOFFSETTO:-0400
TZNAME:EDT
DTSTART:20260308T070000
END:DAYLIGHT
BEGIN:STANDARD
TZOFFSETFROM:-0400
TZOFFSETTO:-0500
TZNAME:EST
DTSTART:20261101T060000
END:STANDARD
END:VTIMEZONE
BEGIN:VEVENT
DTSTART;TZID=America/New_York:20251219T100000
DTEND;TZID=America/New_York:20251219T120000
DTSTAMP:20260422T220338
CREATED:20251124T160916Z
LAST-MODIFIED:20251124T160916Z
UID:10075576-1766138400-1766145600@thepinestimes.com
SUMMARY:Dolly Parton’s Smoky Mountain Christmas Carol
DESCRIPTION:Join at Richmond Community College Cole Auditorium for Dolly Parton’s Smoky Mountain Christmas Carol! Enjoy this is heartwarming musical featuring music and lyrics by Dolly Parton and a new version of the classic Christmas story! \n“Set in the 1930s in the Smoky Mountains of East Tennessee\, this unforgettable production and amazing cast imagines Ebenezer Scrooge as the owner of a mining company town\, where his callous greed blinds him to the joys and gifts of the season.As a Christmas Eve snowstorm approaches\, Scrooge is visited by his deceased business partner and three ghosts who compel him to see life anew and discover that love is the greatest gift we have. The legendary holiday tale re-written as a new American classic features Dickens’ classic characters and Parton’s one-of-a-kind songwriting expertise\, making this a holiday event you’ll want to share with those you love.” \nPerformances take place on Thursday\, December 18th at 7:30pm and Friday\, December 19th at 10:00am. For full details and online ticket purchases\, follow the event website link provided below.
URL:https://thepinestimes.com/event/dolly-partons-smoky-mountain-christmas-carol/2025-12-19/
LOCATION:Richmond Community College Cole Auditorium\, 1042 W Hamlet Ave\, Hamlet\, NC\, 28345\, United States
CATEGORIES:Adult Connections,Adults,Christmas,Family,Hamlet,Hobby/Enthusiast,Holiday Events,Live Entertainment,Live Theater,Music,Out of Town,Play,Senior,Social,Young Adults
END:VEVENT
BEGIN:VEVENT
DTSTART;TZID=America/New_York:20251218T193000
DTEND;TZID=America/New_York:20251218T210000
DTSTAMP:20260422T220338
CREATED:20251124T160916Z
LAST-MODIFIED:20251124T160916Z
UID:10075575-1766086200-1766091600@thepinestimes.com
SUMMARY:Dolly Parton’s Smoky Mountain Christmas Carol
DESCRIPTION:Join at Richmond Community College Cole Auditorium for Dolly Parton’s Smoky Mountain Christmas Carol! Enjoy this is heartwarming musical featuring music and lyrics by Dolly Parton and a new version of the classic Christmas story! \n“Set in the 1930s in the Smoky Mountains of East Tennessee\, this unforgettable production and amazing cast imagines Ebenezer Scrooge as the owner of a mining company town\, where his callous greed blinds him to the joys and gifts of the season.As a Christmas Eve snowstorm approaches\, Scrooge is visited by his deceased business partner and three ghosts who compel him to see life anew and discover that love is the greatest gift we have. The legendary holiday tale re-written as a new American classic features Dickens’ classic characters and Parton’s one-of-a-kind songwriting expertise\, making this a holiday event you’ll want to share with those you love.” \nPerformances take place on Thursday\, December 18th at 7:30pm and Friday\, December 19th at 10:00am. For full details and online ticket purchases\, follow the event website link provided below.
URL:https://thepinestimes.com/event/dolly-partons-smoky-mountain-christmas-carol/2025-12-18/
LOCATION:Richmond Community College Cole Auditorium\, 1042 W Hamlet Ave\, Hamlet\, NC\, 28345\, United States
CATEGORIES:Adult Connections,Adults,Christmas,Family,Hamlet,Hobby/Enthusiast,Holiday Events,Live Entertainment,Live Theater,Music,Out of Town,Play,Senior,Social,Young Adults
END:VEVENT
BEGIN:VEVENT
DTSTART;TZID=America/New_York:20251203T180000
DTEND;TZID=America/New_York:20251203T190000
DTSTAMP:20260422T220338
CREATED:20241130T160913Z
LAST-MODIFIED:20251124T151547Z
UID:10048924-1764784800-1764788400@thepinestimes.com
SUMMARY:Richmond Community College Choir: Christmas Concert 2025
DESCRIPTION:Join for the RichmondCC Choir’s annual Christmas Concert on Wednesday\, December 3rd | 6pm-7pm at the Richmond Community College Cole Auditorium. Come get into the holiday spirit with all your Christmas song favorites. Admission is free and open to the public.
URL:https://thepinestimes.com/event/richmondcc-choirs-christmas-concert/
LOCATION:Richmond Community College Cole Auditorium\, 1042 W Hamlet Ave\, Hamlet\, NC\, 28345\, United States
CATEGORIES:Adults,Christmas,Concert,Family,Hamlet,Hobby/Enthusiast,Holiday Events,Live Entertainment,Music,School,Senior,Social,Young Adults
ATTACH;FMTTYPE=image/jpeg:https://thepinestimes.com/wp-content/uploads/RichmondCCChoirFeature.jpg
END:VEVENT
BEGIN:VEVENT
DTSTART;TZID=America/New_York:20251104T080000
DTEND;TZID=America/New_York:20251104T170000
DTSTAMP:20260422T220338
CREATED:20251001T171048Z
LAST-MODIFIED:20251001T171247Z
UID:10072228-1762243200-1762275600@thepinestimes.com
SUMMARY:70th Annual Rockingham Rotary Barbecue
DESCRIPTION:Mark your calendar for the 70th Annual Rockingham Rotary Barbecue on Tuesday\, November 4th at Cole Auditorium in Hamlet. Enjoy BBQ pork and chicken plates for just $10\, served from 11am-2pm for lunch and 4pm-6pm for dinner. Don’t miss the bake sale and raffles with great cash and gift card prizes! All proceeds benefit local charities.
URL:https://thepinestimes.com/event/70th-annual-rockingham-rotary-barbecue/
LOCATION:Richmond Community College Cole Auditorium\, 1042 W Hamlet Ave\, Hamlet\, NC\, 28345\, United States
CATEGORIES:Donation,Family,Food,Fundraiser,Out of Town,Rockingham,Social,Young Adults
END:VEVENT
BEGIN:VEVENT
DTSTART;TZID=America/New_York:20250925T100000
DTEND;TZID=America/New_York:20250925T110000
DTSTAMP:20260422T220338
CREATED:20250916T131041Z
LAST-MODIFIED:20250916T131041Z
UID:10069283-1758794400-1758798000@thepinestimes.com
SUMMARY:Our Heroes’ Tree Dedication Ceremony
DESCRIPTION:Join at the Richmond Community College Cole Auditorium for the Our Heroes’ Tree Celebration Ceremony\, a special event dedicated to honoring those who have served and are currently serving in our local communities. This is a wonderful opportunity to show gratitude and respect for our heroes. The event takes place on Thursday\, September 25th at 10am. Come and be a part of this dedication ceremony as we celebrate the heroes who make our community a better place!
URL:https://thepinestimes.com/event/our-heroes-tree-dedication-ceremony/
LOCATION:Richmond Community College Cole Auditorium\, 1042 W Hamlet Ave\, Hamlet\, NC\, 28345\, United States
CATEGORIES:Adults,Ceremony,Christmas,Crafts,Fall,Family,Hamlet,Holiday Events,Out of Town,Social
END:VEVENT
BEGIN:VEVENT
DTSTART;TZID=America/New_York:20250509T080000
DTEND;TZID=America/New_York:20250509T100000
DTSTAMP:20260422T220338
CREATED:20250305T205044Z
LAST-MODIFIED:20250505T203609Z
UID:10057448-1746777600-1746784800@thepinestimes.com
SUMMARY:Richmond Community College: Student Visual Art Showcase
DESCRIPTION:Richmond Community College’s Visual Art Showcase will be on display at the Cole Auditorium for a limited three-day exhibit this May. Featuring artwork from the spring semester\, the showcase highlights the creativity and talent of student artists. Admission is free and open to the public. Stop by to enjoy and support these inspiring young creators. The exhibit will be open May 7th| 4:00pm-7:30pm\, May 8th | 8:00am-7:00pm and May 9th | 8:00am-10:00am.
URL:https://thepinestimes.com/event/113075/2025-05-09/
LOCATION:Richmond Community College Cole Auditorium\, 1042 W Hamlet Ave\, Hamlet\, NC\, 28345\, United States
CATEGORIES:Adults,Art/Photography,Arts,Children,Concert,Educational,Exhibits,Family,Live Entertainment,Live Music,Rockingham,School,Senior,Social
ATTACH;FMTTYPE=image/jpeg:https://thepinestimes.com/wp-content/uploads/RichmondCommunityCollegeFeature.jpg
END:VEVENT
BEGIN:VEVENT
DTSTART;TZID=America/New_York:20250508T080000
DTEND;TZID=America/New_York:20250508T190000
DTSTAMP:20260422T220338
CREATED:20250305T205044Z
LAST-MODIFIED:20250505T203609Z
UID:10057447-1746691200-1746730800@thepinestimes.com
SUMMARY:Richmond Community College: Student Visual Art Showcase
DESCRIPTION:Richmond Community College’s Visual Art Showcase will be on display at the Cole Auditorium for a limited three-day exhibit this May. Featuring artwork from the spring semester\, the showcase highlights the creativity and talent of student artists. Admission is free and open to the public. Stop by to enjoy and support these inspiring young creators. The exhibit will be open May 7th| 4:00pm-7:30pm\, May 8th | 8:00am-7:00pm and May 9th | 8:00am-10:00am.
URL:https://thepinestimes.com/event/113075/2025-05-08/
LOCATION:Richmond Community College Cole Auditorium\, 1042 W Hamlet Ave\, Hamlet\, NC\, 28345\, United States
CATEGORIES:Adults,Art/Photography,Arts,Children,Concert,Educational,Exhibits,Family,Live Entertainment,Live Music,Rockingham,School,Senior,Social
ATTACH;FMTTYPE=image/jpeg:https://thepinestimes.com/wp-content/uploads/RichmondCommunityCollegeFeature.jpg
END:VEVENT
BEGIN:VEVENT
DTSTART;TZID=America/New_York:20250507T180000
DTEND;TZID=America/New_York:20250507T190000
DTSTAMP:20260422T220338
CREATED:20250422T192408Z
LAST-MODIFIED:20250422T192408Z
UID:10056911-1746640800-1746644400@thepinestimes.com
SUMMARY:RichmondCC Chorus Spring Concert
DESCRIPTION:Join for the RichmondCC Choir’s annual Spring Concert on Wednesday\, May 7th | 6pm-7pm at the Richmond Community College Cole Auditorium. Enjoy music with special guest performers and celebrate the spring season. Admission is free and open to the public.
URL:https://thepinestimes.com/event/richmondcc-chorus-spring-concert/
LOCATION:Richmond Community College Cole Auditorium\, 1042 W Hamlet Ave\, Hamlet\, NC\, 28345\, United States
CATEGORIES:Adults,Christmas,Concert,Family,Hamlet,Hobby/Enthusiast,Holiday Events,Live Entertainment,Live Music,School,Senior,Social
ATTACH;FMTTYPE=image/jpeg:https://thepinestimes.com/wp-content/uploads/RichmondCCChoirFeature.jpg
END:VEVENT
BEGIN:VEVENT
DTSTART;TZID=America/New_York:20250507T160000
DTEND;TZID=America/New_York:20250507T193000
DTSTAMP:20260422T220338
CREATED:20250305T205044Z
LAST-MODIFIED:20250505T203609Z
UID:10057446-1746633600-1746646200@thepinestimes.com
SUMMARY:Richmond Community College: Student Visual Art Showcase
DESCRIPTION:Richmond Community College’s Visual Art Showcase will be on display at the Cole Auditorium for a limited three-day exhibit this May. Featuring artwork from the spring semester\, the showcase highlights the creativity and talent of student artists. Admission is free and open to the public. Stop by to enjoy and support these inspiring young creators. The exhibit will be open May 7th| 4:00pm-7:30pm\, May 8th | 8:00am-7:00pm and May 9th | 8:00am-10:00am.
URL:https://thepinestimes.com/event/113075/2025-05-07/
LOCATION:Richmond Community College Cole Auditorium\, 1042 W Hamlet Ave\, Hamlet\, NC\, 28345\, United States
CATEGORIES:Adults,Art/Photography,Arts,Children,Concert,Educational,Exhibits,Family,Live Entertainment,Live Music,Rockingham,School,Senior,Social
ATTACH;FMTTYPE=image/jpeg:https://thepinestimes.com/wp-content/uploads/RichmondCommunityCollegeFeature.jpg
END:VEVENT
END:VCALENDAR