BEGIN:VCALENDAR
VERSION:2.0
PRODID:-//The Pines Times - ECPv6.15.20//NONSGML v1.0//EN
CALSCALE:GREGORIAN
METHOD:PUBLISH
X-ORIGINAL-URL:https://thepinestimes.com
X-WR-CALDESC:Events for The Pines Times
REFRESH-INTERVAL;VALUE=DURATION:PT1H
X-Robots-Tag:noindex
X-PUBLISHED-TTL:PT1H
BEGIN:VTIMEZONE
TZID:America/New_York
BEGIN:DAYLIGHT
TZOFFSETFROM:-0500
TZOFFSETTO:-0400
TZNAME:EDT
DTSTART:20240310T070000
END:DAYLIGHT
BEGIN:STANDARD
TZOFFSETFROM:-0400
TZOFFSETTO:-0500
TZNAME:EST
DTSTART:20241103T060000
END:STANDARD
BEGIN:DAYLIGHT
TZOFFSETFROM:-0500
TZOFFSETTO:-0400
TZNAME:EDT
DTSTART:20250309T070000
END:DAYLIGHT
BEGIN:STANDARD
TZOFFSETFROM:-0400
TZOFFSETTO:-0500
TZNAME:EST
DTSTART:20251102T060000
END:STANDARD
BEGIN:DAYLIGHT
TZOFFSETFROM:-0500
TZOFFSETTO:-0400
TZNAME:EDT
DTSTART:20260308T070000
END:DAYLIGHT
BEGIN:STANDARD
TZOFFSETFROM:-0400
TZOFFSETTO:-0500
TZNAME:EST
DTSTART:20261101T060000
END:STANDARD
END:VTIMEZONE
BEGIN:VEVENT
DTSTART;TZID=America/New_York:20251209T180000
DTEND;TZID=America/New_York:20251209T180000
DTSTAMP:20260423T163353
CREATED:20251129T204629Z
LAST-MODIFIED:20251129T204753Z
UID:10076711-1765303200-1765303200@thepinestimes.com
SUMMARY:Forever Tree Lighting 2025
DESCRIPTION:Richmond County Hospice\, Inc. invites the community to the annual Forever Tree Lighting on Tuesday\, December 9th at 6:00pm. This service give members of our community the opportunity to remember or honor a loved one by making a $10 donation for a Forever Tree ornament. A beautiful\, personalized ornament will be designated for the loved one and placed on the Forever Tree. The Forever Tree Lighting is open to all members of the community\, so please join us for this service of remembrance during the holiday season to honor and remember many beloved family members and friends. If you are unable to attend the lighting ceremony\, please drop by anytime during the holiday season and take a moment to remember all the names on the tree.
URL:https://thepinestimes.com/event/forever-tree-lighting-2025/
LOCATION:Richmond County Hospice\, Inc.\, 1119 N US Highway 1\, Rockingham\, NC\, 28379\, United States
CATEGORIES:Adults,Ceremony,Christmas,Donation,Family,Fundraiser,Holiday Events,Out of Town,Rockingham,Senior,Social,Young Adults
ATTACH;FMTTYPE=image/jpeg:https://thepinestimes.com/wp-content/uploads/RichmondCountyHospiceIncFeature.jpg
END:VEVENT
BEGIN:VEVENT
DTSTART;TZID=America/New_York:20251107T110000
DTEND;TZID=America/New_York:20251107T130000
DTSTAMP:20260423T163353
CREATED:20250915T150229Z
LAST-MODIFIED:20250915T150307Z
UID:10069248-1762513200-1762520400@thepinestimes.com
SUMMARY:Salute to Veterans
DESCRIPTION:Richmond County Hospice will host its annual Salute to Veterans event on Friday\, November 7th from 11:00am-1:00pm. This free community event honors the service and sacrifice of our nation’s veterans with music\, guest speakers\, demonstrations\, and lunch. All are welcome to attend. Please call the office at 910-997-4464 to RSVP and receive location details.
URL:https://thepinestimes.com/event/salute-to-veterans/
LOCATION:Richmond County Hospice\, Inc.\, 1119 N US Highway 1\, Rockingham\, NC\, 28379\, United States
CATEGORIES:Adult Connections,Adults,Ceremony,Demonstrations,Family,Food,Historical,Hobby/Enthusiast,Music,Out of Town,Presentation,Rockingham,Senior,Social,Veterans,Veterans Day
ATTACH;FMTTYPE=image/jpeg:https://thepinestimes.com/wp-content/uploads/RichmondCountyHospiceIncFeature.jpg
END:VEVENT
BEGIN:VEVENT
DTSTART;TZID=America/New_York:20251023T170000
DTEND;TZID=America/New_York:20251023T200000
DTSTAMP:20260423T163353
CREATED:20251015T170154Z
LAST-MODIFIED:20251015T170540Z
UID:10072719-1761238800-1761249600@thepinestimes.com
SUMMARY:Candy Cavalcade Trunk or Treat
DESCRIPTION:Join Richmond County Hospice\, Inc. for their Candy Cavalcade\, a spooky and safe multi-agency/group Trunk or Treat event on Thursday\, October 23rd\, from 5:00pm-8:00pm\, hosted on their campus at 1119 N US Hwy 1 in Rockingham. Be sure to stick around\, as Halloween characters will arrive for meet and greets starting at 6:00pm. If you are interested in setting up a trunk\, call 910-997-4464 for more information.
URL:https://thepinestimes.com/event/candy-cavalcade-trunk-or-treat/
LOCATION:Richmond County Hospice\, Inc.\, 1119 N US Highway 1\, Rockingham\, NC\, 28379\, United States
CATEGORIES:Adults,Children,Fall,Fall in the Sandhills,Family,Games,Halloween,Piney's Kids,Piney's Tiny's,Rockingham,Social,Teen Activities,Young Adults
ATTACH;FMTTYPE=image/jpeg:https://thepinestimes.com/wp-content/uploads/RichmondCountyHospiceIncFeature.jpg
END:VEVENT
END:VCALENDAR