BEGIN:VCALENDAR
VERSION:2.0
PRODID:-//The Pines Times - ECPv6.15.20//NONSGML v1.0//EN
CALSCALE:GREGORIAN
METHOD:PUBLISH
X-WR-CALNAME:The Pines Times
X-ORIGINAL-URL:https://thepinestimes.com
X-WR-CALDESC:Events for The Pines Times
REFRESH-INTERVAL;VALUE=DURATION:PT1H
X-Robots-Tag:noindex
X-PUBLISHED-TTL:PT1H
BEGIN:VTIMEZONE
TZID:America/New_York
BEGIN:DAYLIGHT
TZOFFSETFROM:-0500
TZOFFSETTO:-0400
TZNAME:EDT
DTSTART:20240310T070000
END:DAYLIGHT
BEGIN:STANDARD
TZOFFSETFROM:-0400
TZOFFSETTO:-0500
TZNAME:EST
DTSTART:20241103T060000
END:STANDARD
BEGIN:DAYLIGHT
TZOFFSETFROM:-0500
TZOFFSETTO:-0400
TZNAME:EDT
DTSTART:20250309T070000
END:DAYLIGHT
BEGIN:STANDARD
TZOFFSETFROM:-0400
TZOFFSETTO:-0500
TZNAME:EST
DTSTART:20251102T060000
END:STANDARD
BEGIN:DAYLIGHT
TZOFFSETFROM:-0500
TZOFFSETTO:-0400
TZNAME:EDT
DTSTART:20260308T070000
END:DAYLIGHT
BEGIN:STANDARD
TZOFFSETFROM:-0400
TZOFFSETTO:-0500
TZNAME:EST
DTSTART:20261101T060000
END:STANDARD
END:VTIMEZONE
BEGIN:VEVENT
DTSTART;TZID=America/New_York:20251206T180000
DTEND;TZID=America/New_York:20251206T200000
DTSTAMP:20260419T205754
CREATED:20251205T232546Z
LAST-MODIFIED:20251205T232612Z
UID:10077020-1765044000-1765051200@thepinestimes.com
SUMMARY:Dinner Theater: "A Complicated Christmas"
DESCRIPTION:Attend a special Dinner Theater presentation of “A Complicated Christmas” at Robbins – First Wesleyan Church on Friday\, December 5th and Saturday\, December 6th. The Dinner Meal is served at 6:00pm for a ticket price of $10. Dinner main courses include Chicken ‘n Dumplin’s on Friday and Soup & more Soups on Saturday. The Story will be presented in the Sanctuary at 7:00pm. Tickets can be purchased now or at the door. You can call 910-515-4115 or 910-690-2697 for ticket information. Come share the Right Spirit of Christmas!
URL:https://thepinestimes.com/event/dinner-theater-a-complicated-christmas/2025-12-06/
LOCATION:Robbins First Wesleyan Church\, 240 E Moore St.\, Robbins\, 27325\, United States
CATEGORIES:Adults,Christmas,Family,Food,Holiday Events,Live Entertainment,Live Theater,Religious/Spiritual,Robbins Events,Senior,Social,Young Adults
ATTACH;FMTTYPE=image/jpeg:https://thepinestimes.com/wp-content/uploads/DinnerTheaterFeature.jpg
END:VEVENT
BEGIN:VEVENT
DTSTART;TZID=America/New_York:20251205T180000
DTEND;TZID=America/New_York:20251205T200000
DTSTAMP:20260419T205754
CREATED:20251205T232546Z
LAST-MODIFIED:20251205T232612Z
UID:10077019-1764957600-1764964800@thepinestimes.com
SUMMARY:Dinner Theater: "A Complicated Christmas"
DESCRIPTION:Attend a special Dinner Theater presentation of “A Complicated Christmas” at Robbins – First Wesleyan Church on Friday\, December 5th and Saturday\, December 6th. The Dinner Meal is served at 6:00pm for a ticket price of $10. Dinner main courses include Chicken ‘n Dumplin’s on Friday and Soup & more Soups on Saturday. The Story will be presented in the Sanctuary at 7:00pm. Tickets can be purchased now or at the door. You can call 910-515-4115 or 910-690-2697 for ticket information. Come share the Right Spirit of Christmas!
URL:https://thepinestimes.com/event/dinner-theater-a-complicated-christmas/2025-12-05/
LOCATION:Robbins First Wesleyan Church\, 240 E Moore St.\, Robbins\, 27325\, United States
CATEGORIES:Adults,Christmas,Family,Food,Holiday Events,Live Entertainment,Live Theater,Religious/Spiritual,Robbins Events,Senior,Social,Young Adults
ATTACH;FMTTYPE=image/jpeg:https://thepinestimes.com/wp-content/uploads/DinnerTheaterFeature.jpg
END:VEVENT
BEGIN:VEVENT
DTSTART;TZID=America/New_York:20250905T110000
DTEND;TZID=America/New_York:20250905T110000
DTSTAMP:20260419T205754
CREATED:20250903T160549Z
LAST-MODIFIED:20250903T160549Z
UID:10067535-1757070000-1757070000@thepinestimes.com
SUMMARY:BBQ Chicken Plate Fundraiser
DESCRIPTION:Join Robbins First Wesleyan Church for a BBQ Chicken Plate fundraiser on September 5th. Plates can be picked up starting at 11:00am. You can either bring a ticket or purchase your plate on-site. You also have the option to “eat-in” or “take-out.” \nFor just $10.00\, you’ll get a plate with: Barbecue chicken\, Baked beans\, Cole slaw & roll\, Can drink & dessert \nThe church is located at 240 East Moore St.\, Robbins. All proceeds will go toward the General Fund.
URL:https://thepinestimes.com/event/bbq-chicken-plate-fundraiser/
LOCATION:Robbins First Wesleyan Church\, 240 E Moore St.\, Robbins\, 27325\, United States
CATEGORIES:Adults,Donation,Family,Food,Fundraiser,Robbins Events,Senior,Social
ATTACH;FMTTYPE=image/jpeg:https://thepinestimes.com/wp-content/uploads/RobbinsFirstWesleyanChurchFeature.jpg
END:VEVENT
BEGIN:VEVENT
DTSTART;TZID=America/New_York:20250517T063000
DTEND;TZID=America/New_York:20250517T110000
DTSTAMP:20260419T205754
CREATED:20250512T200021Z
LAST-MODIFIED:20250512T200021Z
UID:10058334-1747463400-1747479600@thepinestimes.com
SUMMARY:Pancake Breakfast and Yard Sale
DESCRIPTION:Robbins First Wesleyan Church will host a Pancake Breakfast and Yard Sale on Saturday\, May 17th. Breakfast begins at 6:30am. Come out for a morning of good food and great finds!
URL:https://thepinestimes.com/event/pancake-breakfast-and-yard-sale/
LOCATION:Robbins First Wesleyan Church\, 240 E Moore St.\, Robbins\, 27325\, United States
CATEGORIES:Adults,Donation,Family,Food,Fundraiser,Robbins Events,Senior,Shopping,Social,Yard Sale
ATTACH;FMTTYPE=image/jpeg:https://thepinestimes.com/wp-content/uploads/PancakeBreakfastFeature.jpg
END:VEVENT
END:VCALENDAR