BEGIN:VCALENDAR
VERSION:2.0
PRODID:-//The Pines Times - ECPv6.15.20//NONSGML v1.0//EN
CALSCALE:GREGORIAN
METHOD:PUBLISH
X-WR-CALNAME:The Pines Times
X-ORIGINAL-URL:https://thepinestimes.com
X-WR-CALDESC:Events for The Pines Times
REFRESH-INTERVAL;VALUE=DURATION:PT1H
X-Robots-Tag:noindex
X-PUBLISHED-TTL:PT1H
BEGIN:VTIMEZONE
TZID:America/New_York
BEGIN:DAYLIGHT
TZOFFSETFROM:-0500
TZOFFSETTO:-0400
TZNAME:EDT
DTSTART:20250309T070000
END:DAYLIGHT
BEGIN:STANDARD
TZOFFSETFROM:-0400
TZOFFSETTO:-0500
TZNAME:EST
DTSTART:20251102T060000
END:STANDARD
BEGIN:DAYLIGHT
TZOFFSETFROM:-0500
TZOFFSETTO:-0400
TZNAME:EDT
DTSTART:20260308T070000
END:DAYLIGHT
BEGIN:STANDARD
TZOFFSETFROM:-0400
TZOFFSETTO:-0500
TZNAME:EST
DTSTART:20261101T060000
END:STANDARD
BEGIN:DAYLIGHT
TZOFFSETFROM:-0500
TZOFFSETTO:-0400
TZNAME:EDT
DTSTART:20270314T070000
END:DAYLIGHT
BEGIN:STANDARD
TZOFFSETFROM:-0400
TZOFFSETTO:-0500
TZNAME:EST
DTSTART:20271107T060000
END:STANDARD
END:VTIMEZONE
BEGIN:VEVENT
DTSTART;TZID=America/New_York:20260516T110000
DTEND;TZID=America/New_York:20260516T170000
DTSTAMP:20260422T173859
CREATED:20260422T142907Z
LAST-MODIFIED:20260422T142907Z
UID:10087101-1778929200-1778950800@thepinestimes.com
SUMMARY:North Moore High School Marching Band Fundraiser: "Support Our Sound"
DESCRIPTION:Support the sound of the North Moore High School Marching Band by participating in their upcoming fundraiser on Saturday\, May 16th. The event kicks off at Green Space Robbins with a BBQ lunch featuring sandwiches\, fries\, and a drink for $10.00 served from 11:00AM-5:00PM\, alongside a car wash held at First Bank. \nTake part in the Band Reverse Raffle at 4:00PM\, where only 200 tickets are being sold for $50.00 each for a chance to win a grand prize of $5\,000. Participants have the option to split the prize among the last five tickets for $1\,000 each\, and those holding the 1st\, 50th\, 100th\, and 150th tickets drawn will get their money back. You do not need to be present to win\, so find a band member today to purchase your ticket and help the Mustangs make a difference!
URL:https://thepinestimes.com/event/north-moore-high-school-marching-band-fundraiser-support-our-sound/
LOCATION:Robbins Greenspace\, 100 S. Middleton Street\, Robbins\, NC\, 27325\, United States
CATEGORIES:Adults,Benefit,Donation,Family,Food,Fundraiser,Raffle,Robbins Events,School,Social
ATTACH;FMTTYPE=image/jpeg:https://thepinestimes.com/wp-content/uploads/NorthMooreFundraiserFeature.jpg
END:VEVENT
BEGIN:VEVENT
DTSTART;TZID=America/New_York:20260702T190000
DTEND;TZID=America/New_York:20260702T210000
DTSTAMP:20260422T173859
CREATED:20260421T161630Z
LAST-MODIFIED:20260421T161630Z
UID:10087029-1783018800-1783026000@thepinestimes.com
SUMMARY:Town of Robbins: Freedom Fest 2026
DESCRIPTION:Join the Town of Robbins for the annual 4th of July Freedom Fest! Come celebrate Independence Day on Thursday\, July 2nd\, from 6PM-9PM! There will be kid’s activities with bounce houses and more. The Embers will be hitting the stage at 7:00pm! Grab your favorite food from Robbins Food Park and come dance the night away! The evening will end with the big firework show. It is a family-friendly event with fun for all ages and free to attend. Be sure to bring your lawn chairs or blankets.
URL:https://thepinestimes.com/event/town-of-robbins-freedom-fest-2026/
LOCATION:Robbins Greenspace\, 100 S. Middleton Street\, Robbins\, NC\, 27325\, United States
CATEGORIES:4th of July,Adults,Children,Fair/Festival,Family,Food,Hobby/Enthusiast,Live Entertainment,Live Music,Nature/Outdoors,Robbins Events,Senior,Social
ATTACH;FMTTYPE=image/jpeg:https://thepinestimes.com/wp-content/uploads/Town-of-Robbins-feature.jpg
END:VEVENT
END:VCALENDAR