BEGIN:VCALENDAR
VERSION:2.0
PRODID:-//The Pines Times - ECPv6.15.20//NONSGML v1.0//EN
CALSCALE:GREGORIAN
METHOD:PUBLISH
X-ORIGINAL-URL:https://thepinestimes.com
X-WR-CALDESC:Events for The Pines Times
REFRESH-INTERVAL;VALUE=DURATION:PT1H
X-Robots-Tag:noindex
X-PUBLISHED-TTL:PT1H
BEGIN:VTIMEZONE
TZID:America/New_York
BEGIN:DAYLIGHT
TZOFFSETFROM:-0500
TZOFFSETTO:-0400
TZNAME:EDT
DTSTART:20240310T070000
END:DAYLIGHT
BEGIN:STANDARD
TZOFFSETFROM:-0400
TZOFFSETTO:-0500
TZNAME:EST
DTSTART:20241103T060000
END:STANDARD
BEGIN:DAYLIGHT
TZOFFSETFROM:-0500
TZOFFSETTO:-0400
TZNAME:EDT
DTSTART:20250309T070000
END:DAYLIGHT
BEGIN:STANDARD
TZOFFSETFROM:-0400
TZOFFSETTO:-0500
TZNAME:EST
DTSTART:20251102T060000
END:STANDARD
BEGIN:DAYLIGHT
TZOFFSETFROM:-0500
TZOFFSETTO:-0400
TZNAME:EDT
DTSTART:20260308T070000
END:DAYLIGHT
BEGIN:STANDARD
TZOFFSETFROM:-0400
TZOFFSETTO:-0500
TZNAME:EST
DTSTART:20261101T060000
END:STANDARD
END:VTIMEZONE
BEGIN:VEVENT
DTSTART;TZID=America/New_York:20250607T100000
DTEND;TZID=America/New_York:20250607T140000
DTSTAMP:20260423T210931
CREATED:20250516T121038Z
LAST-MODIFIED:20250528T191935Z
UID:10058845-1749290400-1749304800@thepinestimes.com
SUMMARY:VIP Paddle Day for the Visually Impaired
DESCRIPTION:The 4th annual VIP Paddle Day will be held on Friday\, June 7th | 10am-2pm at the Mill Pond in Robbins. This special event invites visually impaired individuals to enjoy a day on the water with canoes\, kayaks\, stand-up paddleboards\, life jackets and instruction—all provided free of charge. A pizza lunch and drinks will also be served. \nThe event gives participants a chance to experience something they might not otherwise get to enjoy. Each visually impaired guest is paired with a partner who describes the surroundings as they explore the water\, creating a memorable sensory experience through nature. Volunteers are welcome to come out and help. If you know someone who is visually impaired and would like to attend\, please contact Lynne McDuffie at Llmcduffie@gmail.com. \nThis event is sponsored by the North Moore Lions Club.
URL:https://thepinestimes.com/event/vip-paddle-day-for-the-visually-impaired/
LOCATION:Robbins Mill Pond Park\, South Shore Drive\, Robbins\, 27325\, United States
CATEGORIES:Adults,Art/Craft Workshops,Educational,Family,Food,Games,Health & Wellness,Hobby/Enthusiast,Nature/Outdoors,Robbins Events,Social,Volunteer
ATTACH;FMTTYPE=image/jpeg:https://thepinestimes.com/wp-content/uploads/NorthMooreLionsClubFeature.jpg
END:VEVENT
END:VCALENDAR