BEGIN:VCALENDAR
VERSION:2.0
PRODID:-//The Pines Times - ECPv6.15.20//NONSGML v1.0//EN
CALSCALE:GREGORIAN
METHOD:PUBLISH
X-WR-CALNAME:The Pines Times
X-ORIGINAL-URL:https://thepinestimes.com
X-WR-CALDESC:Events for The Pines Times
REFRESH-INTERVAL;VALUE=DURATION:PT1H
X-Robots-Tag:noindex
X-PUBLISHED-TTL:PT1H
BEGIN:VTIMEZONE
TZID:America/New_York
BEGIN:DAYLIGHT
TZOFFSETFROM:-0500
TZOFFSETTO:-0400
TZNAME:EDT
DTSTART:20240310T070000
END:DAYLIGHT
BEGIN:STANDARD
TZOFFSETFROM:-0400
TZOFFSETTO:-0500
TZNAME:EST
DTSTART:20241103T060000
END:STANDARD
BEGIN:DAYLIGHT
TZOFFSETFROM:-0500
TZOFFSETTO:-0400
TZNAME:EDT
DTSTART:20250309T070000
END:DAYLIGHT
BEGIN:STANDARD
TZOFFSETFROM:-0400
TZOFFSETTO:-0500
TZNAME:EST
DTSTART:20251102T060000
END:STANDARD
BEGIN:DAYLIGHT
TZOFFSETFROM:-0500
TZOFFSETTO:-0400
TZNAME:EDT
DTSTART:20260308T070000
END:DAYLIGHT
BEGIN:STANDARD
TZOFFSETFROM:-0400
TZOFFSETTO:-0500
TZNAME:EST
DTSTART:20261101T060000
END:STANDARD
END:VTIMEZONE
BEGIN:VEVENT
DTSTART;TZID=America/New_York:20251025T080000
DTEND;TZID=America/New_York:20251025T120000
DTSTAMP:20260421T103240
CREATED:20250710T175300Z
LAST-MODIFIED:20250710T180258Z
UID:10063184-1761379200-1761393600@thepinestimes.com
SUMMARY:Rockingham Farmers Market
DESCRIPTION:The Rockingham Farmers Market is a grower/maker only market located in downtown Rockingham\, Richmond County. Produce\, plants\, crafts\, baked goods and honey are typically for sale during the season which runs from late April/early May to the end of October/early November.
URL:https://thepinestimes.com/event/rockingham-farmers-market/2025-10-25/
LOCATION:Rockingham Farmers Market\, 305 E. Washington St.\, Rockingham\, 28379\, United States
CATEGORIES:Adults,Family,Food,Markets,Out of Town,Rockingham,Senior,Shopping,Social,Vendors
ATTACH;FMTTYPE=image/jpeg:https://thepinestimes.com/wp-content/uploads/RockinghamFarmersMarketFeature.jpg
ORGANIZER;CN="Rockingham Farmers Market":MAILTO:richmondces@ncsu.edu
END:VEVENT
BEGIN:VEVENT
DTSTART;TZID=America/New_York:20251018T080000
DTEND;TZID=America/New_York:20251018T120000
DTSTAMP:20260421T103240
CREATED:20250710T175300Z
LAST-MODIFIED:20250710T180258Z
UID:10063183-1760774400-1760788800@thepinestimes.com
SUMMARY:Rockingham Farmers Market
DESCRIPTION:The Rockingham Farmers Market is a grower/maker only market located in downtown Rockingham\, Richmond County. Produce\, plants\, crafts\, baked goods and honey are typically for sale during the season which runs from late April/early May to the end of October/early November.
URL:https://thepinestimes.com/event/rockingham-farmers-market/2025-10-18/
LOCATION:Rockingham Farmers Market\, 305 E. Washington St.\, Rockingham\, 28379\, United States
CATEGORIES:Adults,Family,Food,Markets,Out of Town,Rockingham,Senior,Shopping,Social,Vendors
ATTACH;FMTTYPE=image/jpeg:https://thepinestimes.com/wp-content/uploads/RockinghamFarmersMarketFeature.jpg
ORGANIZER;CN="Rockingham Farmers Market":MAILTO:richmondces@ncsu.edu
END:VEVENT
BEGIN:VEVENT
DTSTART;TZID=America/New_York:20251011T080000
DTEND;TZID=America/New_York:20251011T120000
DTSTAMP:20260421T103240
CREATED:20250710T175300Z
LAST-MODIFIED:20250710T180258Z
UID:10063182-1760169600-1760184000@thepinestimes.com
SUMMARY:Rockingham Farmers Market
DESCRIPTION:The Rockingham Farmers Market is a grower/maker only market located in downtown Rockingham\, Richmond County. Produce\, plants\, crafts\, baked goods and honey are typically for sale during the season which runs from late April/early May to the end of October/early November.
URL:https://thepinestimes.com/event/rockingham-farmers-market/2025-10-11/
LOCATION:Rockingham Farmers Market\, 305 E. Washington St.\, Rockingham\, 28379\, United States
CATEGORIES:Adults,Family,Food,Markets,Out of Town,Rockingham,Senior,Shopping,Social,Vendors
ATTACH;FMTTYPE=image/jpeg:https://thepinestimes.com/wp-content/uploads/RockinghamFarmersMarketFeature.jpg
ORGANIZER;CN="Rockingham Farmers Market":MAILTO:richmondces@ncsu.edu
END:VEVENT
BEGIN:VEVENT
DTSTART;TZID=America/New_York:20251004T080000
DTEND;TZID=America/New_York:20251004T120000
DTSTAMP:20260421T103240
CREATED:20250710T175300Z
LAST-MODIFIED:20250710T180258Z
UID:10063181-1759564800-1759579200@thepinestimes.com
SUMMARY:Rockingham Farmers Market
DESCRIPTION:The Rockingham Farmers Market is a grower/maker only market located in downtown Rockingham\, Richmond County. Produce\, plants\, crafts\, baked goods and honey are typically for sale during the season which runs from late April/early May to the end of October/early November.
URL:https://thepinestimes.com/event/rockingham-farmers-market/2025-10-04/
LOCATION:Rockingham Farmers Market\, 305 E. Washington St.\, Rockingham\, 28379\, United States
CATEGORIES:Adults,Family,Food,Markets,Out of Town,Rockingham,Senior,Shopping,Social,Vendors
ATTACH;FMTTYPE=image/jpeg:https://thepinestimes.com/wp-content/uploads/RockinghamFarmersMarketFeature.jpg
ORGANIZER;CN="Rockingham Farmers Market":MAILTO:richmondces@ncsu.edu
END:VEVENT
BEGIN:VEVENT
DTSTART;TZID=America/New_York:20250927T080000
DTEND;TZID=America/New_York:20250927T120000
DTSTAMP:20260421T103240
CREATED:20250710T175300Z
LAST-MODIFIED:20250710T180258Z
UID:10063180-1758960000-1758974400@thepinestimes.com
SUMMARY:Rockingham Farmers Market
DESCRIPTION:The Rockingham Farmers Market is a grower/maker only market located in downtown Rockingham\, Richmond County. Produce\, plants\, crafts\, baked goods and honey are typically for sale during the season which runs from late April/early May to the end of October/early November.
URL:https://thepinestimes.com/event/rockingham-farmers-market/2025-09-27/
LOCATION:Rockingham Farmers Market\, 305 E. Washington St.\, Rockingham\, 28379\, United States
CATEGORIES:Adults,Family,Food,Markets,Out of Town,Rockingham,Senior,Shopping,Social,Vendors
ATTACH;FMTTYPE=image/jpeg:https://thepinestimes.com/wp-content/uploads/RockinghamFarmersMarketFeature.jpg
ORGANIZER;CN="Rockingham Farmers Market":MAILTO:richmondces@ncsu.edu
END:VEVENT
BEGIN:VEVENT
DTSTART;TZID=America/New_York:20250920T080000
DTEND;TZID=America/New_York:20250920T120000
DTSTAMP:20260421T103240
CREATED:20250710T175300Z
LAST-MODIFIED:20250710T180258Z
UID:10063179-1758355200-1758369600@thepinestimes.com
SUMMARY:Rockingham Farmers Market
DESCRIPTION:The Rockingham Farmers Market is a grower/maker only market located in downtown Rockingham\, Richmond County. Produce\, plants\, crafts\, baked goods and honey are typically for sale during the season which runs from late April/early May to the end of October/early November.
URL:https://thepinestimes.com/event/rockingham-farmers-market/2025-09-20/
LOCATION:Rockingham Farmers Market\, 305 E. Washington St.\, Rockingham\, 28379\, United States
CATEGORIES:Adults,Family,Food,Markets,Out of Town,Rockingham,Senior,Shopping,Social,Vendors
ATTACH;FMTTYPE=image/jpeg:https://thepinestimes.com/wp-content/uploads/RockinghamFarmersMarketFeature.jpg
ORGANIZER;CN="Rockingham Farmers Market":MAILTO:richmondces@ncsu.edu
END:VEVENT
BEGIN:VEVENT
DTSTART;TZID=America/New_York:20250913T080000
DTEND;TZID=America/New_York:20250913T120000
DTSTAMP:20260421T103240
CREATED:20250710T175300Z
LAST-MODIFIED:20250710T180258Z
UID:10063178-1757750400-1757764800@thepinestimes.com
SUMMARY:Rockingham Farmers Market
DESCRIPTION:The Rockingham Farmers Market is a grower/maker only market located in downtown Rockingham\, Richmond County. Produce\, plants\, crafts\, baked goods and honey are typically for sale during the season which runs from late April/early May to the end of October/early November.
URL:https://thepinestimes.com/event/rockingham-farmers-market/2025-09-13/
LOCATION:Rockingham Farmers Market\, 305 E. Washington St.\, Rockingham\, 28379\, United States
CATEGORIES:Adults,Family,Food,Markets,Out of Town,Rockingham,Senior,Shopping,Social,Vendors
ATTACH;FMTTYPE=image/jpeg:https://thepinestimes.com/wp-content/uploads/RockinghamFarmersMarketFeature.jpg
ORGANIZER;CN="Rockingham Farmers Market":MAILTO:richmondces@ncsu.edu
END:VEVENT
BEGIN:VEVENT
DTSTART;TZID=America/New_York:20250906T080000
DTEND;TZID=America/New_York:20250906T120000
DTSTAMP:20260421T103240
CREATED:20250710T175300Z
LAST-MODIFIED:20250710T180258Z
UID:10063177-1757145600-1757160000@thepinestimes.com
SUMMARY:Rockingham Farmers Market
DESCRIPTION:The Rockingham Farmers Market is a grower/maker only market located in downtown Rockingham\, Richmond County. Produce\, plants\, crafts\, baked goods and honey are typically for sale during the season which runs from late April/early May to the end of October/early November.
URL:https://thepinestimes.com/event/rockingham-farmers-market/2025-09-06/
LOCATION:Rockingham Farmers Market\, 305 E. Washington St.\, Rockingham\, 28379\, United States
CATEGORIES:Adults,Family,Food,Markets,Out of Town,Rockingham,Senior,Shopping,Social,Vendors
ATTACH;FMTTYPE=image/jpeg:https://thepinestimes.com/wp-content/uploads/RockinghamFarmersMarketFeature.jpg
ORGANIZER;CN="Rockingham Farmers Market":MAILTO:richmondces@ncsu.edu
END:VEVENT
BEGIN:VEVENT
DTSTART;TZID=America/New_York:20250830T080000
DTEND;TZID=America/New_York:20250830T120000
DTSTAMP:20260421T103240
CREATED:20250710T175300Z
LAST-MODIFIED:20250710T180258Z
UID:10063176-1756540800-1756555200@thepinestimes.com
SUMMARY:Rockingham Farmers Market
DESCRIPTION:The Rockingham Farmers Market is a grower/maker only market located in downtown Rockingham\, Richmond County. Produce\, plants\, crafts\, baked goods and honey are typically for sale during the season which runs from late April/early May to the end of October/early November.
URL:https://thepinestimes.com/event/rockingham-farmers-market/2025-08-30/
LOCATION:Rockingham Farmers Market\, 305 E. Washington St.\, Rockingham\, 28379\, United States
CATEGORIES:Adults,Family,Food,Markets,Out of Town,Rockingham,Senior,Shopping,Social,Vendors
ATTACH;FMTTYPE=image/jpeg:https://thepinestimes.com/wp-content/uploads/RockinghamFarmersMarketFeature.jpg
ORGANIZER;CN="Rockingham Farmers Market":MAILTO:richmondces@ncsu.edu
END:VEVENT
BEGIN:VEVENT
DTSTART;TZID=America/New_York:20250823T080000
DTEND;TZID=America/New_York:20250823T120000
DTSTAMP:20260421T103240
CREATED:20250710T175300Z
LAST-MODIFIED:20250710T180258Z
UID:10063175-1755936000-1755950400@thepinestimes.com
SUMMARY:Rockingham Farmers Market
DESCRIPTION:The Rockingham Farmers Market is a grower/maker only market located in downtown Rockingham\, Richmond County. Produce\, plants\, crafts\, baked goods and honey are typically for sale during the season which runs from late April/early May to the end of October/early November.
URL:https://thepinestimes.com/event/rockingham-farmers-market/2025-08-23/
LOCATION:Rockingham Farmers Market\, 305 E. Washington St.\, Rockingham\, 28379\, United States
CATEGORIES:Adults,Family,Food,Markets,Out of Town,Rockingham,Senior,Shopping,Social,Vendors
ATTACH;FMTTYPE=image/jpeg:https://thepinestimes.com/wp-content/uploads/RockinghamFarmersMarketFeature.jpg
ORGANIZER;CN="Rockingham Farmers Market":MAILTO:richmondces@ncsu.edu
END:VEVENT
BEGIN:VEVENT
DTSTART;TZID=America/New_York:20250816T080000
DTEND;TZID=America/New_York:20250816T120000
DTSTAMP:20260421T103240
CREATED:20250710T175300Z
LAST-MODIFIED:20250710T180258Z
UID:10063174-1755331200-1755345600@thepinestimes.com
SUMMARY:Rockingham Farmers Market
DESCRIPTION:The Rockingham Farmers Market is a grower/maker only market located in downtown Rockingham\, Richmond County. Produce\, plants\, crafts\, baked goods and honey are typically for sale during the season which runs from late April/early May to the end of October/early November.
URL:https://thepinestimes.com/event/rockingham-farmers-market/2025-08-16/
LOCATION:Rockingham Farmers Market\, 305 E. Washington St.\, Rockingham\, 28379\, United States
CATEGORIES:Adults,Family,Food,Markets,Out of Town,Rockingham,Senior,Shopping,Social,Vendors
ATTACH;FMTTYPE=image/jpeg:https://thepinestimes.com/wp-content/uploads/RockinghamFarmersMarketFeature.jpg
ORGANIZER;CN="Rockingham Farmers Market":MAILTO:richmondces@ncsu.edu
END:VEVENT
BEGIN:VEVENT
DTSTART;TZID=America/New_York:20250809T080000
DTEND;TZID=America/New_York:20250809T120000
DTSTAMP:20260421T103240
CREATED:20250710T175300Z
LAST-MODIFIED:20250710T180258Z
UID:10063173-1754726400-1754740800@thepinestimes.com
SUMMARY:Rockingham Farmers Market
DESCRIPTION:The Rockingham Farmers Market is a grower/maker only market located in downtown Rockingham\, Richmond County. Produce\, plants\, crafts\, baked goods and honey are typically for sale during the season which runs from late April/early May to the end of October/early November.
URL:https://thepinestimes.com/event/rockingham-farmers-market/2025-08-09/
LOCATION:Rockingham Farmers Market\, 305 E. Washington St.\, Rockingham\, 28379\, United States
CATEGORIES:Adults,Family,Food,Markets,Out of Town,Rockingham,Senior,Shopping,Social,Vendors
ATTACH;FMTTYPE=image/jpeg:https://thepinestimes.com/wp-content/uploads/RockinghamFarmersMarketFeature.jpg
ORGANIZER;CN="Rockingham Farmers Market":MAILTO:richmondces@ncsu.edu
END:VEVENT
BEGIN:VEVENT
DTSTART;TZID=America/New_York:20250802T080000
DTEND;TZID=America/New_York:20250802T120000
DTSTAMP:20260421T103240
CREATED:20250710T175300Z
LAST-MODIFIED:20250710T180258Z
UID:10063172-1754121600-1754136000@thepinestimes.com
SUMMARY:Rockingham Farmers Market
DESCRIPTION:The Rockingham Farmers Market is a grower/maker only market located in downtown Rockingham\, Richmond County. Produce\, plants\, crafts\, baked goods and honey are typically for sale during the season which runs from late April/early May to the end of October/early November.
URL:https://thepinestimes.com/event/rockingham-farmers-market/2025-08-02/
LOCATION:Rockingham Farmers Market\, 305 E. Washington St.\, Rockingham\, 28379\, United States
CATEGORIES:Adults,Family,Food,Markets,Out of Town,Rockingham,Senior,Shopping,Social,Vendors
ATTACH;FMTTYPE=image/jpeg:https://thepinestimes.com/wp-content/uploads/RockinghamFarmersMarketFeature.jpg
ORGANIZER;CN="Rockingham Farmers Market":MAILTO:richmondces@ncsu.edu
END:VEVENT
BEGIN:VEVENT
DTSTART;TZID=America/New_York:20250726T080000
DTEND;TZID=America/New_York:20250726T120000
DTSTAMP:20260421T103240
CREATED:20250710T175300Z
LAST-MODIFIED:20250710T180258Z
UID:10063171-1753516800-1753531200@thepinestimes.com
SUMMARY:Rockingham Farmers Market
DESCRIPTION:The Rockingham Farmers Market is a grower/maker only market located in downtown Rockingham\, Richmond County. Produce\, plants\, crafts\, baked goods and honey are typically for sale during the season which runs from late April/early May to the end of October/early November.
URL:https://thepinestimes.com/event/rockingham-farmers-market/2025-07-26/
LOCATION:Rockingham Farmers Market\, 305 E. Washington St.\, Rockingham\, 28379\, United States
CATEGORIES:Adults,Family,Food,Markets,Out of Town,Rockingham,Senior,Shopping,Social,Vendors
ATTACH;FMTTYPE=image/jpeg:https://thepinestimes.com/wp-content/uploads/RockinghamFarmersMarketFeature.jpg
ORGANIZER;CN="Rockingham Farmers Market":MAILTO:richmondces@ncsu.edu
END:VEVENT
BEGIN:VEVENT
DTSTART;TZID=America/New_York:20250719T080000
DTEND;TZID=America/New_York:20250719T120000
DTSTAMP:20260421T103240
CREATED:20250710T175300Z
LAST-MODIFIED:20250710T180258Z
UID:10063170-1752912000-1752926400@thepinestimes.com
SUMMARY:Rockingham Farmers Market
DESCRIPTION:The Rockingham Farmers Market is a grower/maker only market located in downtown Rockingham\, Richmond County. Produce\, plants\, crafts\, baked goods and honey are typically for sale during the season which runs from late April/early May to the end of October/early November.
URL:https://thepinestimes.com/event/rockingham-farmers-market/2025-07-19/
LOCATION:Rockingham Farmers Market\, 305 E. Washington St.\, Rockingham\, 28379\, United States
CATEGORIES:Adults,Family,Food,Markets,Out of Town,Rockingham,Senior,Shopping,Social,Vendors
ATTACH;FMTTYPE=image/jpeg:https://thepinestimes.com/wp-content/uploads/RockinghamFarmersMarketFeature.jpg
ORGANIZER;CN="Rockingham Farmers Market":MAILTO:richmondces@ncsu.edu
END:VEVENT
BEGIN:VEVENT
DTSTART;TZID=America/New_York:20250712T080000
DTEND;TZID=America/New_York:20250712T120000
DTSTAMP:20260421T103240
CREATED:20250710T175300Z
LAST-MODIFIED:20250710T180258Z
UID:10063169-1752307200-1752321600@thepinestimes.com
SUMMARY:Rockingham Farmers Market
DESCRIPTION:The Rockingham Farmers Market is a grower/maker only market located in downtown Rockingham\, Richmond County. Produce\, plants\, crafts\, baked goods and honey are typically for sale during the season which runs from late April/early May to the end of October/early November.
URL:https://thepinestimes.com/event/rockingham-farmers-market/2025-07-12/
LOCATION:Rockingham Farmers Market\, 305 E. Washington St.\, Rockingham\, 28379\, United States
CATEGORIES:Adults,Family,Food,Markets,Out of Town,Rockingham,Senior,Shopping,Social,Vendors
ATTACH;FMTTYPE=image/jpeg:https://thepinestimes.com/wp-content/uploads/RockinghamFarmersMarketFeature.jpg
ORGANIZER;CN="Rockingham Farmers Market":MAILTO:richmondces@ncsu.edu
END:VEVENT
END:VCALENDAR