BEGIN:VCALENDAR
VERSION:2.0
PRODID:-//The Pines Times - ECPv6.15.20//NONSGML v1.0//EN
CALSCALE:GREGORIAN
METHOD:PUBLISH
X-ORIGINAL-URL:https://thepinestimes.com
X-WR-CALDESC:Events for The Pines Times
REFRESH-INTERVAL;VALUE=DURATION:PT1H
X-Robots-Tag:noindex
X-PUBLISHED-TTL:PT1H
BEGIN:VTIMEZONE
TZID:America/New_York
BEGIN:DAYLIGHT
TZOFFSETFROM:-0500
TZOFFSETTO:-0400
TZNAME:EDT
DTSTART:20250309T070000
END:DAYLIGHT
BEGIN:STANDARD
TZOFFSETFROM:-0400
TZOFFSETTO:-0500
TZNAME:EST
DTSTART:20251102T060000
END:STANDARD
BEGIN:DAYLIGHT
TZOFFSETFROM:-0500
TZOFFSETTO:-0400
TZNAME:EDT
DTSTART:20260308T070000
END:DAYLIGHT
BEGIN:STANDARD
TZOFFSETFROM:-0400
TZOFFSETTO:-0500
TZNAME:EST
DTSTART:20261101T060000
END:STANDARD
BEGIN:DAYLIGHT
TZOFFSETFROM:-0500
TZOFFSETTO:-0400
TZNAME:EDT
DTSTART:20270314T070000
END:DAYLIGHT
BEGIN:STANDARD
TZOFFSETFROM:-0400
TZOFFSETTO:-0500
TZNAME:EST
DTSTART:20271107T060000
END:STANDARD
END:VTIMEZONE
BEGIN:VEVENT
DTSTART;TZID=America/New_York:20260521T190000
DTEND;TZID=America/New_York:20260521T220000
DTSTAMP:20260419T214501
CREATED:20260419T174744Z
LAST-MODIFIED:20260419T174744Z
UID:10086960-1779390000-1779400800@thepinestimes.com
SUMMARY:Sandhills Bogeys: Home Opener 2026
DESCRIPTION:Come out and support our Sandhills Bogeys at their first home game of the season on Thursday\, May 21st\, at 7PM at Dempsey Diamond at Bogey Ballpark! \nSandhills Bogeys vs. Moore County Post 12 \nTo purchase tickets\, follow the link provided below.
URL:https://thepinestimes.com/event/sandhills-bogeys-home-opener-2026/
LOCATION:Dempsey Diamond at Sandhills Bogeys Stadium\, 3395 Airport Road\, Pinehurst\, 28374
ATTACH;FMTTYPE=image/jpeg:https://thepinestimes.com/wp-content/uploads/SandhillsBogeysFeature.jpg
ORGANIZER;CN="Sandhills Bogeys":MAILTO:bogeys@oldnorthstateleague.com
END:VEVENT
BEGIN:VEVENT
DTSTART;TZID=America/New_York:20260522T190000
DTEND;TZID=America/New_York:20260522T220000
DTSTAMP:20260419T214501
CREATED:20260419T175124Z
LAST-MODIFIED:20260419T175124Z
UID:10086961-1779476400-1779487200@thepinestimes.com
SUMMARY:Sandhills Bogeys: Home Game
DESCRIPTION:Come out and support our Sandhills Bogeys at on Friday\, May 22nd\, at 7PM at Dempsey Diamond at Bogey Ballpark! \nSandhills Bogeys vs. Wake Forest Fungo \nTo purchase tickets\, follow the link provided below.
URL:https://thepinestimes.com/event/sandhills-bogeys-home-game/
LOCATION:Dempsey Diamond at Sandhills Bogeys Stadium\, 3395 Airport Road\, Pinehurst\, 28374
ATTACH;FMTTYPE=image/jpeg:https://thepinestimes.com/wp-content/uploads/SandhillsBogeysFeature.jpg
ORGANIZER;CN="Sandhills Bogeys":MAILTO:bogeys@oldnorthstateleague.com
END:VEVENT
END:VCALENDAR