BEGIN:VCALENDAR
VERSION:2.0
PRODID:-//The Pines Times - ECPv6.15.20//NONSGML v1.0//EN
CALSCALE:GREGORIAN
METHOD:PUBLISH
X-WR-CALNAME:The Pines Times
X-ORIGINAL-URL:https://thepinestimes.com
X-WR-CALDESC:Events for The Pines Times
REFRESH-INTERVAL;VALUE=DURATION:PT1H
X-Robots-Tag:noindex
X-PUBLISHED-TTL:PT1H
BEGIN:VTIMEZONE
TZID:America/New_York
BEGIN:DAYLIGHT
TZOFFSETFROM:-0500
TZOFFSETTO:-0400
TZNAME:EDT
DTSTART:20240310T070000
END:DAYLIGHT
BEGIN:STANDARD
TZOFFSETFROM:-0400
TZOFFSETTO:-0500
TZNAME:EST
DTSTART:20241103T060000
END:STANDARD
BEGIN:DAYLIGHT
TZOFFSETFROM:-0500
TZOFFSETTO:-0400
TZNAME:EDT
DTSTART:20250309T070000
END:DAYLIGHT
BEGIN:STANDARD
TZOFFSETFROM:-0400
TZOFFSETTO:-0500
TZNAME:EST
DTSTART:20251102T060000
END:STANDARD
BEGIN:DAYLIGHT
TZOFFSETFROM:-0500
TZOFFSETTO:-0400
TZNAME:EDT
DTSTART:20260308T070000
END:DAYLIGHT
BEGIN:STANDARD
TZOFFSETFROM:-0400
TZOFFSETTO:-0500
TZNAME:EST
DTSTART:20261101T060000
END:STANDARD
BEGIN:DAYLIGHT
TZOFFSETFROM:-0500
TZOFFSETTO:-0400
TZNAME:EDT
DTSTART:20270314T070000
END:DAYLIGHT
BEGIN:STANDARD
TZOFFSETFROM:-0400
TZOFFSETTO:-0500
TZNAME:EST
DTSTART:20271107T060000
END:STANDARD
END:VTIMEZONE
BEGIN:VEVENT
DTSTART;TZID=America/New_York:20260301T150000
DTEND;TZID=America/New_York:20260301T180000
DTSTAMP:20260419T181847
CREATED:20260227T205623Z
LAST-MODIFIED:20260227T205623Z
UID:10082102-1772377200-1772388000@thepinestimes.com
SUMMARY:American Legion Post 382-Sanford Fish Fry
DESCRIPTION:American Legion Post 382 in Sanford\, NC\, is hosting a Fish Fry where community members can purchase plates for $12 each. Each plate includes fish\, coleslaw\, fries\, and hush puppies\, though chicken tenders are also available for those who do not want fish or would like an additional side. The event begins at 3:00PM and will continue until 6:00PM or until all plates are sold out.
URL:https://thepinestimes.com/event/american-legion-post-382-sanford-fish-fry/
LOCATION:Sanford American Legion Post 382\, 305 Legion Dr\, Sanford\, NC\, 27330\, United States
CATEGORIES:Donation,Food,Fundraiser,Pop Ups,Senior,Social,Veterans
ATTACH;FMTTYPE=image/jpeg:https://thepinestimes.com/wp-content/uploads/FishFryAmericanLegionFeature.jpg
END:VEVENT
BEGIN:VEVENT
DTSTART;TZID=America/New_York:20260117T200000
DTEND;TZID=America/New_York:20260117T230000
DTSTAMP:20260419T181847
CREATED:20260113T151024Z
LAST-MODIFIED:20260113T151923Z
UID:10079339-1768680000-1768690800@thepinestimes.com
SUMMARY:Cosmic Karaoke Night
DESCRIPTION:Come on out and sing a song at American Legion Post 382 Sanford’s Cosmic Karaoke Night on Saturday\, January 17th from 8pm-11pm! DJ Mikey B will be in the house for your singing pleasure. It is always a good time and entertaining. This event is open to the public\, bring a friend\, tell a friend\, let’s pack the house!
URL:https://thepinestimes.com/event/cosmic-karaoke-night/
LOCATION:Sanford American Legion Post 382\, 305 Legion Dr\, Sanford\, NC\, 27330\, United States
CATEGORIES:Adults,Hobby/Enthusiast,Music,Sanford Events,Sanford Events,Senior,Social,Veterans,Young Adults
ATTACH;FMTTYPE=image/png:https://thepinestimes.com/wp-content/uploads/Karaoke-e1754409547503.png
END:VEVENT
BEGIN:VEVENT
DTSTART;TZID=America/New_York:20251114T190000
DTEND;TZID=America/New_York:20251114T220000
DTSTAMP:20260419T181847
CREATED:20241107T144336Z
LAST-MODIFIED:20251110T185919Z
UID:10047911-1763146800-1763157600@thepinestimes.com
SUMMARY:Live Music: Stone Dolls
DESCRIPTION:Join at the American Legion Post 382 in Sanford for live music provided by Stone Dolls\, back by popluar demand!
URL:https://thepinestimes.com/event/live-music-stone-dolls/
LOCATION:Sanford American Legion Post 382\, 305 Legion Dr\, Sanford\, NC\, 27330\, United States
CATEGORIES:Adults,Concert,Family,Food,Hobby/Enthusiast,Live Entertainment,Live Music,Out of Town,Sanford Events,Senior,Social,Veterans
ATTACH;FMTTYPE=image/jpeg:https://thepinestimes.com/wp-content/uploads/American-Legion-feature.jpg
END:VEVENT
BEGIN:VEVENT
DTSTART;TZID=America/New_York:20250622T150000
DTEND;TZID=America/New_York:20250622T180000
DTSTAMP:20260419T181847
CREATED:20250619T161453Z
LAST-MODIFIED:20250619T161453Z
UID:10061686-1750604400-1750615200@thepinestimes.com
SUMMARY:Live Music: Vinyl Vibes
DESCRIPTION:Vinyl Vibes will be playing this Sunday\, June 22nd | 3pm-6pm in conjunction with the American Legion Post 382 Sanford\, NC monthly meal! Eat\, drink and be merry. Paul and Ron bring the nostalgic tunes of the 60’s\, 70’s and 80’s to life with a pop-rock twist.
URL:https://thepinestimes.com/event/live-music-vinyl-vibes/
LOCATION:Sanford American Legion Post 382\, 305 Legion Dr\, Sanford\, NC\, 27330\, United States
CATEGORIES:Adults,Hobby/Enthusiast,Live Entertainment,Live Music,Senior,Social,Veterans
END:VEVENT
END:VCALENDAR