BEGIN:VCALENDAR
VERSION:2.0
PRODID:-//The Pines Times - ECPv6.15.20//NONSGML v1.0//EN
CALSCALE:GREGORIAN
METHOD:PUBLISH
X-ORIGINAL-URL:https://thepinestimes.com
X-WR-CALDESC:Events for The Pines Times
REFRESH-INTERVAL;VALUE=DURATION:PT1H
X-Robots-Tag:noindex
X-PUBLISHED-TTL:PT1H
BEGIN:VTIMEZONE
TZID:America/New_York
BEGIN:DAYLIGHT
TZOFFSETFROM:-0500
TZOFFSETTO:-0400
TZNAME:EDT
DTSTART:20240310T070000
END:DAYLIGHT
BEGIN:STANDARD
TZOFFSETFROM:-0400
TZOFFSETTO:-0500
TZNAME:EST
DTSTART:20241103T060000
END:STANDARD
BEGIN:DAYLIGHT
TZOFFSETFROM:-0500
TZOFFSETTO:-0400
TZNAME:EDT
DTSTART:20250309T070000
END:DAYLIGHT
BEGIN:STANDARD
TZOFFSETFROM:-0400
TZOFFSETTO:-0500
TZNAME:EST
DTSTART:20251102T060000
END:STANDARD
BEGIN:DAYLIGHT
TZOFFSETFROM:-0500
TZOFFSETTO:-0400
TZNAME:EDT
DTSTART:20260308T070000
END:DAYLIGHT
BEGIN:STANDARD
TZOFFSETFROM:-0400
TZOFFSETTO:-0500
TZNAME:EST
DTSTART:20261101T060000
END:STANDARD
BEGIN:DAYLIGHT
TZOFFSETFROM:-0500
TZOFFSETTO:-0400
TZNAME:EDT
DTSTART:20270314T070000
END:DAYLIGHT
BEGIN:STANDARD
TZOFFSETFROM:-0400
TZOFFSETTO:-0500
TZNAME:EST
DTSTART:20271107T060000
END:STANDARD
END:VTIMEZONE
BEGIN:VEVENT
DTSTART;TZID=America/New_York:20260331T180000
DTEND;TZID=America/New_York:20260331T210000
DTSTAMP:20260425T115412
CREATED:20250612T125722Z
LAST-MODIFIED:20260331T145832Z
UID:10061259-1774980000-1774990800@thepinestimes.com
SUMMARY:Supper Club: "Taste of the Valley: Walla Walla"
DESCRIPTION:Join at Santè Southern Pines for Supper Club! Santè Supper Club offers exclusive\, chef-driven dinners with unique menus\, curated wine pairings and an intimate atmosphere—every night is a one-of-a-kind experience. \nEnjoy an exquisite evening on Tuesday\, March 31st at 6PM. “Figgins Wines reflects the artistry and elegance of Walla Walla\, crafting wines that capture the essence of the region with precision and passion. Leonetti Cellars\, a pioneer in Washington state winemaking\, has long been celebrated for producing some of the finest\, most expressive wines in the valley.”
URL:https://thepinestimes.com/event/supper-club-taste-of-the-valley-walla-walla/
LOCATION:Santè Southern Pines\, 132 W Pennsylvania Ave.\, Southern Pines\, 28387\, United States
CATEGORIES:Adults,Beer and Wine,Food,Hobby/Enthusiast,Live Entertainment,Social,Southern Pines Events,Tasting,Valentine's Day
ATTACH;FMTTYPE=image/jpeg:https://thepinestimes.com/wp-content/uploads/TastingExperienceFeature-1-e1771886382497.jpg
END:VEVENT
BEGIN:VEVENT
DTSTART;TZID=America/New_York:20260314T160000
DTEND;TZID=America/New_York:20260314T170000
DTSTAMP:20260425T115412
CREATED:20260313T203340Z
LAST-MODIFIED:20260313T203340Z
UID:10083414-1773504000-1773507600@thepinestimes.com
SUMMARY:Pilates & Prosecco
DESCRIPTION:Move with purpose and sip for a cause. Join SANTE for a Pilates class led by Sue\, followed by a well-earned glass of Prosecco – all in support of the Vito Oddo Parkinson’s Fund. Your $30 ticket is a 100% donation\, helping fund three Rock Steady Boxing sessions or an entire week of classes for an individual living with Parkinson’s.\nBring your mat\, bring a friend\, and be part of something meaningful. Strong bodies. Strong community. Great cause. $30. Pilates & Prosecco on Saturday\, March 14th at 4PM.
URL:https://thepinestimes.com/event/pilates-prosecco/
LOCATION:Santè Southern Pines\, 132 W Pennsylvania Ave.\, Southern Pines\, 28387\, United States
CATEGORIES:Adults,Beer and Wine,Fundraiser,Health & Wellness,Social
ATTACH;FMTTYPE=image/jpeg:https://thepinestimes.com/wp-content/uploads/SanteFeature.jpg
END:VEVENT
BEGIN:VEVENT
DTSTART;TZID=America/New_York:20260227T180000
DTEND;TZID=America/New_York:20260227T200000
DTSTAMP:20260425T115412
CREATED:20250501T163110Z
LAST-MODIFIED:20260217T183955Z
UID:10059157-1772215200-1772222400@thepinestimes.com
SUMMARY:Keenan Wine Tasting
DESCRIPTION:Join at Santé for a guided tasting of four Keenan Winery wines on Friday\, February 27th at 6pm! Known for expressing Spring Mountain terroir and earning top honors from Wine & Spirits and Wine Advocate. Bread dip included. Email info@santesouthernpines.com for more information. The cost is $30. For additional information and online ticket purchases\, follow the event website link provided below. \n  \n 
URL:https://thepinestimes.com/event/keenan-wine-tasting/
LOCATION:Santè Southern Pines\, 132 W Pennsylvania Ave.\, Southern Pines\, 28387\, United States
CATEGORIES:Adults,Beer and Wine,Food,Hobby/Enthusiast,Social,Southern Pines Events,Tasting,Young Adults
ATTACH;FMTTYPE=image/jpeg:https://thepinestimes.com/wp-content/uploads/SanteFeature.jpg
END:VEVENT
BEGIN:VEVENT
DTSTART;TZID=America/New_York:20260218T180000
DTEND;TZID=America/New_York:20260218T200000
DTSTAMP:20260425T115412
CREATED:20260214T161021Z
LAST-MODIFIED:20260214T161021Z
UID:10080903-1771437600-1771444800@thepinestimes.com
SUMMARY:Open Floor: Mingle\, Meet and Connect with Moore County's Creative Community
DESCRIPTION:Mingle\, meet and connect with Moore County’s creative community at Open Floor with Avec Productions on February 18th at 6pm! This is a laid-back in-person gathering for performing and visual artists and supporters of the arts. It’s a place to share ideas\, connect with new folks\, and just have a great time. No pressure\, just good vibes and open conversations. \n*A suggested donation of $5+ is requested to RSVP but is not required to attend. Reserve your spot through the event website link provided below. \nContributions support avec Productions’ nonprofit programming\, which brings artists and community members together to foster lasting connections and collaborative infrastructure.
URL:https://thepinestimes.com/event/open-floor-mingle-meet-and-connect-with-moore-countys-creative-community/
LOCATION:Santè Southern Pines\, 132 W Pennsylvania Ave.\, Southern Pines\, 28387\, United States
CATEGORIES:Adults,Arts,Business/Networking,Hobby/Enthusiast,Social,Southern Pines Events,Young Adults
ATTACH;FMTTYPE=image/jpeg:https://thepinestimes.com/wp-content/uploads/OpenFloorFeature.jpg
ORGANIZER;CN="Avec Productions":MAILTO:avecproductionsnyc@gmail.com
END:VEVENT
BEGIN:VEVENT
DTSTART;TZID=America/New_York:20251220T190000
DTEND;TZID=America/New_York:20251220T210000
DTSTAMP:20260425T115412
CREATED:20241106T145900Z
LAST-MODIFIED:20251219T191408Z
UID:10077603-1766257200-1766264400@thepinestimes.com
SUMMARY:Live Music: Ari Pappalardo
DESCRIPTION:Enjoy live music at Santè Southern Pines! Ari Pappalardo is providing the live music at 7:00pm.
URL:https://thepinestimes.com/event/live-music-ari-pappalardo/2025-12-20/
LOCATION:Santè Southern Pines\, 132 W Pennsylvania Ave.\, Southern Pines\, 28387\, United States
CATEGORIES:Adult Connections,Adults,Beer and Wine,Hobby/Enthusiast,Live Music,Music,Night Life,Social,Southern Pines Events
ATTACH;FMTTYPE=image/jpeg:https://thepinestimes.com/wp-content/uploads/LiveMusicFeature.jpg
END:VEVENT
BEGIN:VEVENT
DTSTART;TZID=America/New_York:20251206T190000
DTEND;TZID=America/New_York:20251206T210000
DTSTAMP:20260425T115412
CREATED:20250121T001326Z
LAST-MODIFIED:20251129T195429Z
UID:10052847-1765047600-1765054800@thepinestimes.com
SUMMARY:Live Music: The Cover Society
DESCRIPTION:Enjoy live music at Santè Southern Pines! The Cover Society is providing the live music from 7:00pm-9:00pm.
URL:https://thepinestimes.com/event/live-music-the-cover-society/
LOCATION:Santè Southern Pines\, 132 W Pennsylvania Ave.\, Southern Pines\, 28387\, United States
CATEGORIES:Adult Connections,Adults,Beer and Wine,Hobby/Enthusiast,Live Music,Music,Night Life,Social,Southern Pines Events
ATTACH;FMTTYPE=image/jpeg:https://thepinestimes.com/wp-content/uploads/LiveMusicFeature.jpg
END:VEVENT
BEGIN:VEVENT
DTSTART;TZID=America/New_York:20251121T200000
DTEND;TZID=America/New_York:20251121T220000
DTSTAMP:20260425T115412
CREATED:20250121T000506Z
LAST-MODIFIED:20250908T203732Z
UID:10068587-1763755200-1763762400@thepinestimes.com
SUMMARY:Live Music: Scarlet Tantrum
DESCRIPTION:Enjoy live music at Santè Southern Pines! Scarlet Tantrum is providing the live music from 8:00pm-10:00pm.
URL:https://thepinestimes.com/event/live-music-scarlet-tantrum-5/2025-11-21/
LOCATION:Santè Southern Pines\, 132 W Pennsylvania Ave.\, Southern Pines\, 28387\, United States
CATEGORIES:Adults,Beer and Wine,Hobby/Enthusiast,Live Entertainment,Live Music,Social,Southern Pines Events
ATTACH;FMTTYPE=image/jpeg:https://thepinestimes.com/wp-content/uploads/LiveMusicFeature.jpg
END:VEVENT
BEGIN:VEVENT
DTSTART;TZID=America/New_York:20251003T200000
DTEND;TZID=America/New_York:20251003T220000
DTSTAMP:20260425T115412
CREATED:20250121T000506Z
LAST-MODIFIED:20250908T203732Z
UID:10052846-1759521600-1759528800@thepinestimes.com
SUMMARY:Live Music: Scarlet Tantrum
DESCRIPTION:Enjoy live music at Santè Southern Pines! Scarlet Tantrum is providing the live music from 8:00pm-10:00pm.
URL:https://thepinestimes.com/event/live-music-scarlet-tantrum-5/2025-10-03/
LOCATION:Santè Southern Pines\, 132 W Pennsylvania Ave.\, Southern Pines\, 28387\, United States
CATEGORIES:Adults,Beer and Wine,Hobby/Enthusiast,Live Entertainment,Live Music,Social,Southern Pines Events
ATTACH;FMTTYPE=image/jpeg:https://thepinestimes.com/wp-content/uploads/LiveMusicFeature.jpg
END:VEVENT
BEGIN:VEVENT
DTSTART;TZID=America/New_York:20250829T190000
DTEND;TZID=America/New_York:20250829T210000
DTSTAMP:20260425T115412
CREATED:20241106T145900Z
LAST-MODIFIED:20251219T191408Z
UID:10065139-1756494000-1756501200@thepinestimes.com
SUMMARY:Live Music: Ari Pappalardo
DESCRIPTION:Enjoy live music at Santè Southern Pines! Ari Pappalardo is providing the live music at 7:00pm.
URL:https://thepinestimes.com/event/live-music-ari-pappalardo/2025-08-29/
LOCATION:Santè Southern Pines\, 132 W Pennsylvania Ave.\, Southern Pines\, 28387\, United States
CATEGORIES:Adult Connections,Adults,Beer and Wine,Hobby/Enthusiast,Live Music,Music,Night Life,Social,Southern Pines Events
ATTACH;FMTTYPE=image/jpeg:https://thepinestimes.com/wp-content/uploads/LiveMusicFeature.jpg
END:VEVENT
END:VCALENDAR