BEGIN:VCALENDAR
VERSION:2.0
PRODID:-//The Pines Times - ECPv6.15.20//NONSGML v1.0//EN
CALSCALE:GREGORIAN
METHOD:PUBLISH
X-ORIGINAL-URL:https://thepinestimes.com
X-WR-CALDESC:Events for The Pines Times
REFRESH-INTERVAL;VALUE=DURATION:PT1H
X-Robots-Tag:noindex
X-PUBLISHED-TTL:PT1H
BEGIN:VTIMEZONE
TZID:America/New_York
BEGIN:DAYLIGHT
TZOFFSETFROM:-0500
TZOFFSETTO:-0400
TZNAME:EDT
DTSTART:20250309T070000
END:DAYLIGHT
BEGIN:STANDARD
TZOFFSETFROM:-0400
TZOFFSETTO:-0500
TZNAME:EST
DTSTART:20251102T060000
END:STANDARD
BEGIN:DAYLIGHT
TZOFFSETFROM:-0500
TZOFFSETTO:-0400
TZNAME:EDT
DTSTART:20260308T070000
END:DAYLIGHT
BEGIN:STANDARD
TZOFFSETFROM:-0400
TZOFFSETTO:-0500
TZNAME:EST
DTSTART:20261101T060000
END:STANDARD
BEGIN:DAYLIGHT
TZOFFSETFROM:-0500
TZOFFSETTO:-0400
TZNAME:EDT
DTSTART:20270314T070000
END:DAYLIGHT
BEGIN:STANDARD
TZOFFSETFROM:-0400
TZOFFSETTO:-0500
TZNAME:EST
DTSTART:20271107T060000
END:STANDARD
END:VTIMEZONE
BEGIN:VEVENT
DTSTART;TZID=America/New_York:20260516T200000
DTEND;TZID=America/New_York:20260516T220000
DTSTAMP:20260423T163806
CREATED:20250816T141456Z
LAST-MODIFIED:20260320T125253Z
UID:10064708-1778961600-1778968800@thepinestimes.com
SUMMARY:Singles Night
DESCRIPTION:“Can we pull you for a pour?” Join us for Singles Night at Santè in Southern Pines on Saturday\, May 16 from 8PM-10PM! Sip\, mingle\, and see if sparks (or bubbles) fly. The cost is $10 and includes your first drink of the evening. Register through the event website link provided below.
URL:https://thepinestimes.com/event/singles-night/
LOCATION:Santè Southern Pines\, 132 W Pennsylvania Ave.\, Southern Pines\, 28387\, United States
CATEGORIES:Adult Connections,Beer and Wine,Night Life,Social,Southern Pines Events
ATTACH;FMTTYPE=image/jpeg:https://thepinestimes.com/wp-content/uploads/SanteFeature.jpg
END:VEVENT
END:VCALENDAR