BEGIN:VCALENDAR
VERSION:2.0
PRODID:-//The Pines Times - ECPv6.15.20//NONSGML v1.0//EN
CALSCALE:GREGORIAN
METHOD:PUBLISH
X-WR-CALNAME:The Pines Times
X-ORIGINAL-URL:https://thepinestimes.com
X-WR-CALDESC:Events for The Pines Times
REFRESH-INTERVAL;VALUE=DURATION:PT1H
X-Robots-Tag:noindex
X-PUBLISHED-TTL:PT1H
BEGIN:VTIMEZONE
TZID:America/New_York
BEGIN:DAYLIGHT
TZOFFSETFROM:-0500
TZOFFSETTO:-0400
TZNAME:EDT
DTSTART:20240310T070000
END:DAYLIGHT
BEGIN:STANDARD
TZOFFSETFROM:-0400
TZOFFSETTO:-0500
TZNAME:EST
DTSTART:20241103T060000
END:STANDARD
BEGIN:DAYLIGHT
TZOFFSETFROM:-0500
TZOFFSETTO:-0400
TZNAME:EDT
DTSTART:20250309T070000
END:DAYLIGHT
BEGIN:STANDARD
TZOFFSETFROM:-0400
TZOFFSETTO:-0500
TZNAME:EST
DTSTART:20251102T060000
END:STANDARD
BEGIN:DAYLIGHT
TZOFFSETFROM:-0500
TZOFFSETTO:-0400
TZNAME:EDT
DTSTART:20260308T070000
END:DAYLIGHT
BEGIN:STANDARD
TZOFFSETFROM:-0400
TZOFFSETTO:-0500
TZNAME:EST
DTSTART:20261101T060000
END:STANDARD
END:VTIMEZONE
BEGIN:VEVENT
DTSTART;TZID=America/New_York:20250811T130000
DTEND;TZID=America/New_York:20250811T160000
DTSTAMP:20260421T155535
CREATED:20240802T000412Z
LAST-MODIFIED:20250728T155948Z
UID:10063799-1754917200-1754928000@thepinestimes.com
SUMMARY:"Donate Your Stuff" for the 2025 Shaw House Tag Sale
DESCRIPTION:“Donate Your Stuff” for the 2025 Tag Sale to benefit the preservation of our Moore County Historical Association! You may drop donations Monday-Friday from 1pm-4pm at the Shaw House in Southern Pines. You may also call 910-692-2051 to arrange for pickup of donations. The last day to donate is September 1st. \n 
URL:https://thepinestimes.com/event/donate-your-stuff-for-the-2025-shaw-house-tag-sale/2025-08-11/
LOCATION:Shaw House\, 110 Morganton Road\, Southern Pines\, NC\, 28387\, United States
CATEGORIES:Adults,Arts,Donation,Fundraiser,Historical,Hobby/Enthusiast,Moore County Events,Senior,Southern Pines Events
ATTACH;FMTTYPE=image/jpeg:https://thepinestimes.com/wp-content/uploads/Moore-County-Historical-Association-Feature.jpg
END:VEVENT
BEGIN:VEVENT
DTSTART;TZID=America/New_York:20250808T130000
DTEND;TZID=America/New_York:20250808T160000
DTSTAMP:20260421T155535
CREATED:20240802T000412Z
LAST-MODIFIED:20250728T155948Z
UID:10063798-1754658000-1754668800@thepinestimes.com
SUMMARY:"Donate Your Stuff" for the 2025 Shaw House Tag Sale
DESCRIPTION:“Donate Your Stuff” for the 2025 Tag Sale to benefit the preservation of our Moore County Historical Association! You may drop donations Monday-Friday from 1pm-4pm at the Shaw House in Southern Pines. You may also call 910-692-2051 to arrange for pickup of donations. The last day to donate is September 1st. \n 
URL:https://thepinestimes.com/event/donate-your-stuff-for-the-2025-shaw-house-tag-sale/2025-08-08/
LOCATION:Shaw House\, 110 Morganton Road\, Southern Pines\, NC\, 28387\, United States
CATEGORIES:Adults,Arts,Donation,Fundraiser,Historical,Hobby/Enthusiast,Moore County Events,Senior,Southern Pines Events
ATTACH;FMTTYPE=image/jpeg:https://thepinestimes.com/wp-content/uploads/Moore-County-Historical-Association-Feature.jpg
END:VEVENT
BEGIN:VEVENT
DTSTART;TZID=America/New_York:20250806T130000
DTEND;TZID=America/New_York:20250806T160000
DTSTAMP:20260421T155535
CREATED:20240802T000412Z
LAST-MODIFIED:20250728T155948Z
UID:10063797-1754485200-1754496000@thepinestimes.com
SUMMARY:"Donate Your Stuff" for the 2025 Shaw House Tag Sale
DESCRIPTION:“Donate Your Stuff” for the 2025 Tag Sale to benefit the preservation of our Moore County Historical Association! You may drop donations Monday-Friday from 1pm-4pm at the Shaw House in Southern Pines. You may also call 910-692-2051 to arrange for pickup of donations. The last day to donate is September 1st. \n 
URL:https://thepinestimes.com/event/donate-your-stuff-for-the-2025-shaw-house-tag-sale/2025-08-06/
LOCATION:Shaw House\, 110 Morganton Road\, Southern Pines\, NC\, 28387\, United States
CATEGORIES:Adults,Arts,Donation,Fundraiser,Historical,Hobby/Enthusiast,Moore County Events,Senior,Southern Pines Events
ATTACH;FMTTYPE=image/jpeg:https://thepinestimes.com/wp-content/uploads/Moore-County-Historical-Association-Feature.jpg
END:VEVENT
BEGIN:VEVENT
DTSTART;TZID=America/New_York:20250804T130000
DTEND;TZID=America/New_York:20250804T160000
DTSTAMP:20260421T155535
CREATED:20240802T000412Z
LAST-MODIFIED:20250728T155948Z
UID:10063796-1754312400-1754323200@thepinestimes.com
SUMMARY:"Donate Your Stuff" for the 2025 Shaw House Tag Sale
DESCRIPTION:“Donate Your Stuff” for the 2025 Tag Sale to benefit the preservation of our Moore County Historical Association! You may drop donations Monday-Friday from 1pm-4pm at the Shaw House in Southern Pines. You may also call 910-692-2051 to arrange for pickup of donations. The last day to donate is September 1st. \n 
URL:https://thepinestimes.com/event/donate-your-stuff-for-the-2025-shaw-house-tag-sale/2025-08-04/
LOCATION:Shaw House\, 110 Morganton Road\, Southern Pines\, NC\, 28387\, United States
CATEGORIES:Adults,Arts,Donation,Fundraiser,Historical,Hobby/Enthusiast,Moore County Events,Senior,Southern Pines Events
ATTACH;FMTTYPE=image/jpeg:https://thepinestimes.com/wp-content/uploads/Moore-County-Historical-Association-Feature.jpg
END:VEVENT
BEGIN:VEVENT
DTSTART;TZID=America/New_York:20250801T130000
DTEND;TZID=America/New_York:20250801T160000
DTSTAMP:20260421T155535
CREATED:20240802T000412Z
LAST-MODIFIED:20250728T155948Z
UID:10063795-1754053200-1754064000@thepinestimes.com
SUMMARY:"Donate Your Stuff" for the 2025 Shaw House Tag Sale
DESCRIPTION:“Donate Your Stuff” for the 2025 Tag Sale to benefit the preservation of our Moore County Historical Association! You may drop donations Monday-Friday from 1pm-4pm at the Shaw House in Southern Pines. You may also call 910-692-2051 to arrange for pickup of donations. The last day to donate is September 1st. \n 
URL:https://thepinestimes.com/event/donate-your-stuff-for-the-2025-shaw-house-tag-sale/2025-08-01/
LOCATION:Shaw House\, 110 Morganton Road\, Southern Pines\, NC\, 28387\, United States
CATEGORIES:Adults,Arts,Donation,Fundraiser,Historical,Hobby/Enthusiast,Moore County Events,Senior,Southern Pines Events
ATTACH;FMTTYPE=image/jpeg:https://thepinestimes.com/wp-content/uploads/Moore-County-Historical-Association-Feature.jpg
END:VEVENT
BEGIN:VEVENT
DTSTART;TZID=America/New_York:20250730T130000
DTEND;TZID=America/New_York:20250730T160000
DTSTAMP:20260421T155535
CREATED:20240802T000412Z
LAST-MODIFIED:20250728T155948Z
UID:10063794-1753880400-1753891200@thepinestimes.com
SUMMARY:"Donate Your Stuff" for the 2025 Shaw House Tag Sale
DESCRIPTION:“Donate Your Stuff” for the 2025 Tag Sale to benefit the preservation of our Moore County Historical Association! You may drop donations Monday-Friday from 1pm-4pm at the Shaw House in Southern Pines. You may also call 910-692-2051 to arrange for pickup of donations. The last day to donate is September 1st. \n 
URL:https://thepinestimes.com/event/donate-your-stuff-for-the-2025-shaw-house-tag-sale/2025-07-30/
LOCATION:Shaw House\, 110 Morganton Road\, Southern Pines\, NC\, 28387\, United States
CATEGORIES:Adults,Arts,Donation,Fundraiser,Historical,Hobby/Enthusiast,Moore County Events,Senior,Southern Pines Events
ATTACH;FMTTYPE=image/jpeg:https://thepinestimes.com/wp-content/uploads/Moore-County-Historical-Association-Feature.jpg
END:VEVENT
BEGIN:VEVENT
DTSTART;TZID=America/New_York:20250728T130000
DTEND;TZID=America/New_York:20250728T160000
DTSTAMP:20260421T155535
CREATED:20240802T000412Z
LAST-MODIFIED:20250728T155948Z
UID:10063793-1753707600-1753718400@thepinestimes.com
SUMMARY:"Donate Your Stuff" for the 2025 Shaw House Tag Sale
DESCRIPTION:“Donate Your Stuff” for the 2025 Tag Sale to benefit the preservation of our Moore County Historical Association! You may drop donations Monday-Friday from 1pm-4pm at the Shaw House in Southern Pines. You may also call 910-692-2051 to arrange for pickup of donations. The last day to donate is September 1st. \n 
URL:https://thepinestimes.com/event/donate-your-stuff-for-the-2025-shaw-house-tag-sale/2025-07-28/
LOCATION:Shaw House\, 110 Morganton Road\, Southern Pines\, NC\, 28387\, United States
CATEGORIES:Adults,Arts,Donation,Fundraiser,Historical,Hobby/Enthusiast,Moore County Events,Senior,Southern Pines Events
ATTACH;FMTTYPE=image/jpeg:https://thepinestimes.com/wp-content/uploads/Moore-County-Historical-Association-Feature.jpg
END:VEVENT
END:VCALENDAR