BEGIN:VCALENDAR
VERSION:2.0
PRODID:-//The Pines Times - ECPv6.15.20//NONSGML v1.0//EN
CALSCALE:GREGORIAN
METHOD:PUBLISH
X-ORIGINAL-URL:https://thepinestimes.com
X-WR-CALDESC:Events for The Pines Times
REFRESH-INTERVAL;VALUE=DURATION:PT1H
X-Robots-Tag:noindex
X-PUBLISHED-TTL:PT1H
BEGIN:VTIMEZONE
TZID:America/New_York
BEGIN:DAYLIGHT
TZOFFSETFROM:-0500
TZOFFSETTO:-0400
TZNAME:EDT
DTSTART:20240310T070000
END:DAYLIGHT
BEGIN:STANDARD
TZOFFSETFROM:-0400
TZOFFSETTO:-0500
TZNAME:EST
DTSTART:20241103T060000
END:STANDARD
BEGIN:DAYLIGHT
TZOFFSETFROM:-0500
TZOFFSETTO:-0400
TZNAME:EDT
DTSTART:20250309T070000
END:DAYLIGHT
BEGIN:STANDARD
TZOFFSETFROM:-0400
TZOFFSETTO:-0500
TZNAME:EST
DTSTART:20251102T060000
END:STANDARD
BEGIN:DAYLIGHT
TZOFFSETFROM:-0500
TZOFFSETTO:-0400
TZNAME:EDT
DTSTART:20260308T070000
END:DAYLIGHT
BEGIN:STANDARD
TZOFFSETFROM:-0400
TZOFFSETTO:-0500
TZNAME:EST
DTSTART:20261101T060000
END:STANDARD
END:VTIMEZONE
BEGIN:VEVENT
DTSTART;TZID=America/New_York:20251015T063000
DTEND;TZID=America/New_York:20251015T144500
DTSTAMP:20260425T090400
CREATED:20230418T124735Z
LAST-MODIFIED:20250916T171548Z
UID:10011579-1760509800-1760539500@thepinestimes.com
SUMMARY:Southern Pines Bike to School Day
DESCRIPTION:Students of Southern Pines Elementary School will enjoy biking to and from school on Bike to School Day on Wednesday\, October 15th! Parents and volunteers are encouraged to join in. Drop off is at the Southern Pines Pool Park. Drop off at 6:30am | pick up at 2:45pm. For more information and registration\, follow the link provided below. \n 
URL:https://thepinestimes.com/event/bike-to-school-day/
LOCATION:Southern Pines Elementary School\, 1015 S Carlisle Street\, Southern Pines\, NC\, 28387\, United States
CATEGORIES:Children,Cycling,Educational,Family,Health & Wellness,Hobby/Enthusiast,Nature/Outdoors,Piney's Kids,Piney's Tiny's,School,Social,Southern Pines Events,Volunteer
ATTACH;FMTTYPE=image/jpeg:https://thepinestimes.com/wp-content/uploads/SouthernPinesParksAndRecreationFeature.jpg
ORGANIZER;CN="Southern Pines Parks and Recreation":MAILTO:bsampson@southernpines.net
END:VEVENT
END:VCALENDAR