BEGIN:VCALENDAR
VERSION:2.0
PRODID:-//The Pines Times - ECPv6.15.20//NONSGML v1.0//EN
CALSCALE:GREGORIAN
METHOD:PUBLISH
X-WR-CALNAME:The Pines Times
X-ORIGINAL-URL:https://thepinestimes.com
X-WR-CALDESC:Events for The Pines Times
REFRESH-INTERVAL;VALUE=DURATION:PT1H
X-Robots-Tag:noindex
X-PUBLISHED-TTL:PT1H
BEGIN:VTIMEZONE
TZID:America/New_York
BEGIN:DAYLIGHT
TZOFFSETFROM:-0500
TZOFFSETTO:-0400
TZNAME:EDT
DTSTART:20250309T070000
END:DAYLIGHT
BEGIN:STANDARD
TZOFFSETFROM:-0400
TZOFFSETTO:-0500
TZNAME:EST
DTSTART:20251102T060000
END:STANDARD
BEGIN:DAYLIGHT
TZOFFSETFROM:-0500
TZOFFSETTO:-0400
TZNAME:EDT
DTSTART:20260308T070000
END:DAYLIGHT
BEGIN:STANDARD
TZOFFSETFROM:-0400
TZOFFSETTO:-0500
TZNAME:EST
DTSTART:20261101T060000
END:STANDARD
BEGIN:DAYLIGHT
TZOFFSETFROM:-0500
TZOFFSETTO:-0400
TZNAME:EDT
DTSTART:20270314T070000
END:DAYLIGHT
BEGIN:STANDARD
TZOFFSETFROM:-0400
TZOFFSETTO:-0500
TZNAME:EST
DTSTART:20271107T060000
END:STANDARD
END:VTIMEZONE
BEGIN:VEVENT
DTSTART;TZID=America/New_York:20260423T190000
DTEND;TZID=America/New_York:20260423T190000
DTSTAMP:20260423T084959
CREATED:20240505T130958Z
LAST-MODIFIED:20260407T172108Z
UID:10036260-1776970800-1776970800@thepinestimes.com
SUMMARY:Puzzles & Pints
DESCRIPTION:Puzzles\, Fun and Cheers! Join as Southern Pines Growler presents Puzzles & Pints! Form a team of four and put your problem-solving skills to the test! Groups will be tackling a 500-piece jigsaw puzzle. Winners receive Southern Pines Growler gift cards and will also take home the puzzle as a souvenir. The cost is $20 per team. For full details\, follow the social media event link provided below. \n  \n 
URL:https://thepinestimes.com/event/puzzles-pints/
LOCATION:Southern Pines Growler Company\, 160 W New York Ave\, Southern Pines\, NC\, 28387\, United States
CATEGORIES:Adult Connections,Adults,Beer and Wine,Games,Hobby/Enthusiast,Night Life,Pines Connector,Social,Southern Pines Events
ATTACH;FMTTYPE=image/jpeg:https://thepinestimes.com/wp-content/uploads/Southern-Pines-Growler-Company-Feature.jpg
END:VEVENT
BEGIN:VEVENT
DTSTART;TZID=America/New_York:20260425T130000
DTEND;TZID=America/New_York:20260425T180000
DTSTAMP:20260423T084959
CREATED:20260421T165801Z
LAST-MODIFIED:20260421T165834Z
UID:10087047-1777122000-1777140000@thepinestimes.com
SUMMARY:Vinyl Market
DESCRIPTION:Come out to Southern Pines Growler Company on Saturday\, April 25th\, from 1PM-6PM for a Vinyl Market! Music lovers\, collectors and vendors are invited to come together this afternoon to buy\, sell and trade. Come dig for vinyl and classic finds and vibe out with creatives! Vinyls\, CDs\, Tapes and such. Socialize and enjoy music. Harmony’s German food truck will be on site.
URL:https://thepinestimes.com/event/vinyl-market/
LOCATION:Southern Pines Growler Company\, 160 W New York Ave\, Southern Pines\, NC\, 28387\, United States
CATEGORIES:Adult Connections,Adults,Hobby/Enthusiast,Markets,Music,Night Life,Pop Ups,Shopping,Social,Southern Pines Events
ATTACH;FMTTYPE=image/jpeg:https://thepinestimes.com/wp-content/uploads/VinylMarketFeature.jpg
END:VEVENT
BEGIN:VEVENT
DTSTART;TZID=America/New_York:20260425T190000
DTEND;TZID=America/New_York:20260425T220000
DTSTAMP:20260423T084959
CREATED:20260407T171904Z
LAST-MODIFIED:20260407T171904Z
UID:10086558-1777143600-1777154400@thepinestimes.com
SUMMARY:Live Music: Pete O'Dea
DESCRIPTION:Enjoy the Saturday live music provided by Pete O’Dea at Southern Pines Growler Company!
URL:https://thepinestimes.com/event/live-music-pete-odea/
LOCATION:Southern Pines Growler Company\, 160 W New York Ave\, Southern Pines\, NC\, 28387\, United States
CATEGORIES:Adult Connections,Adults,Beer and Wine,Hobby/Enthusiast,Live Music,Music,Social,Southern Pines Events
ATTACH;FMTTYPE=image/jpeg:https://thepinestimes.com/wp-content/uploads/LiveMusicFeature.jpg
END:VEVENT
BEGIN:VEVENT
DTSTART;TZID=America/New_York:20260428T174500
DTEND;TZID=America/New_York:20260428T174500
DTSTAMP:20260423T084959
CREATED:20241008T184838Z
LAST-MODIFIED:20260405T133053Z
UID:10086254-1777398300-1777398300@thepinestimes.com
SUMMARY:Pedals & Pints
DESCRIPTION:Join Southern Pines Growler Company and Rainbow Cycles for a causal\, social bike ride around Southern Pines. After the ride\, enjoy a rewarding beer. This is a family-friendly event. Please be sure to wear a helmet. Rides are typically around five miles\, 30-45 minutes long.
URL:https://thepinestimes.com/event/pedals-pints-2/2026-04-28/
LOCATION:Southern Pines Growler Company\, 160 W New York Ave\, Southern Pines\, NC\, 28387\, United States
CATEGORIES:Adults,Beer and Wine,Family,Health & Wellness,Hobby/Enthusiast,Live Entertainment,Nature/Outdoors,Senior,Social,Southern Pines Events
ATTACH;FMTTYPE=image/jpeg:https://thepinestimes.com/wp-content/uploads/Southern-Pines-Growler-Company-Feature.jpg
END:VEVENT
BEGIN:VEVENT
DTSTART;TZID=America/New_York:20260428T190000
DTEND;TZID=America/New_York:20260428T210000
DTSTAMP:20260423T084959
CREATED:20230226T023921Z
LAST-MODIFIED:20260407T171616Z
UID:10086522-1777402800-1777410000@thepinestimes.com
SUMMARY:Tuesday Trivia Night
DESCRIPTION:Come out for the fun at Southern Pines Growler Company! British Mike’s Tuesday Trivia starts at 7:00PM!
URL:https://thepinestimes.com/event/tuesday-trivia-night/2026-04-28/
LOCATION:Southern Pines Growler Company\, 160 W New York Ave\, Southern Pines\, NC\, 28387\, United States
CATEGORIES:Adults,Beer and Wine,Games,Hobby/Enthusiast,Night Life,Social,Southern Pines Events,Young Adults
ATTACH;FMTTYPE=image/png:https://thepinestimes.com/wp-content/uploads/Trivia-Night-e1754408009763.png
END:VEVENT
BEGIN:VEVENT
DTSTART;TZID=America/New_York:20260505T190000
DTEND;TZID=America/New_York:20260505T210000
DTSTAMP:20260423T084959
CREATED:20230226T023921Z
LAST-MODIFIED:20260407T171616Z
UID:10086523-1778007600-1778014800@thepinestimes.com
SUMMARY:Tuesday Trivia Night
DESCRIPTION:Come out for the fun at Southern Pines Growler Company! British Mike’s Tuesday Trivia starts at 7:00PM!
URL:https://thepinestimes.com/event/tuesday-trivia-night/2026-05-05/
LOCATION:Southern Pines Growler Company\, 160 W New York Ave\, Southern Pines\, NC\, 28387\, United States
CATEGORIES:Adults,Beer and Wine,Games,Hobby/Enthusiast,Night Life,Social,Southern Pines Events,Young Adults
ATTACH;FMTTYPE=image/png:https://thepinestimes.com/wp-content/uploads/Trivia-Night-e1754408009763.png
END:VEVENT
BEGIN:VEVENT
DTSTART;TZID=America/New_York:20260512T190000
DTEND;TZID=America/New_York:20260512T210000
DTSTAMP:20260423T084959
CREATED:20230226T023921Z
LAST-MODIFIED:20260407T171616Z
UID:10086524-1778612400-1778619600@thepinestimes.com
SUMMARY:Tuesday Trivia Night
DESCRIPTION:Come out for the fun at Southern Pines Growler Company! British Mike’s Tuesday Trivia starts at 7:00PM!
URL:https://thepinestimes.com/event/tuesday-trivia-night/2026-05-12/
LOCATION:Southern Pines Growler Company\, 160 W New York Ave\, Southern Pines\, NC\, 28387\, United States
CATEGORIES:Adults,Beer and Wine,Games,Hobby/Enthusiast,Night Life,Social,Southern Pines Events,Young Adults
ATTACH;FMTTYPE=image/png:https://thepinestimes.com/wp-content/uploads/Trivia-Night-e1754408009763.png
END:VEVENT
BEGIN:VEVENT
DTSTART;TZID=America/New_York:20260519T190000
DTEND;TZID=America/New_York:20260519T210000
DTSTAMP:20260423T084959
CREATED:20230226T023921Z
LAST-MODIFIED:20260407T171616Z
UID:10086525-1779217200-1779224400@thepinestimes.com
SUMMARY:Tuesday Trivia Night
DESCRIPTION:Come out for the fun at Southern Pines Growler Company! British Mike’s Tuesday Trivia starts at 7:00PM!
URL:https://thepinestimes.com/event/tuesday-trivia-night/2026-05-19/
LOCATION:Southern Pines Growler Company\, 160 W New York Ave\, Southern Pines\, NC\, 28387\, United States
CATEGORIES:Adults,Beer and Wine,Games,Hobby/Enthusiast,Night Life,Social,Southern Pines Events,Young Adults
ATTACH;FMTTYPE=image/png:https://thepinestimes.com/wp-content/uploads/Trivia-Night-e1754408009763.png
END:VEVENT
BEGIN:VEVENT
DTSTART;TZID=America/New_York:20260526T190000
DTEND;TZID=America/New_York:20260526T210000
DTSTAMP:20260423T084959
CREATED:20230226T023921Z
LAST-MODIFIED:20260407T171616Z
UID:10086526-1779822000-1779829200@thepinestimes.com
SUMMARY:Tuesday Trivia Night
DESCRIPTION:Come out for the fun at Southern Pines Growler Company! British Mike’s Tuesday Trivia starts at 7:00PM!
URL:https://thepinestimes.com/event/tuesday-trivia-night/2026-05-26/
LOCATION:Southern Pines Growler Company\, 160 W New York Ave\, Southern Pines\, NC\, 28387\, United States
CATEGORIES:Adults,Beer and Wine,Games,Hobby/Enthusiast,Night Life,Social,Southern Pines Events,Young Adults
ATTACH;FMTTYPE=image/png:https://thepinestimes.com/wp-content/uploads/Trivia-Night-e1754408009763.png
END:VEVENT
BEGIN:VEVENT
DTSTART;TZID=America/New_York:20260602T190000
DTEND;TZID=America/New_York:20260602T210000
DTSTAMP:20260423T084959
CREATED:20230226T023921Z
LAST-MODIFIED:20260407T171616Z
UID:10086527-1780426800-1780434000@thepinestimes.com
SUMMARY:Tuesday Trivia Night
DESCRIPTION:Come out for the fun at Southern Pines Growler Company! British Mike’s Tuesday Trivia starts at 7:00PM!
URL:https://thepinestimes.com/event/tuesday-trivia-night/2026-06-02/
LOCATION:Southern Pines Growler Company\, 160 W New York Ave\, Southern Pines\, NC\, 28387\, United States
CATEGORIES:Adults,Beer and Wine,Games,Hobby/Enthusiast,Night Life,Social,Southern Pines Events,Young Adults
ATTACH;FMTTYPE=image/png:https://thepinestimes.com/wp-content/uploads/Trivia-Night-e1754408009763.png
END:VEVENT
BEGIN:VEVENT
DTSTART;TZID=America/New_York:20260609T190000
DTEND;TZID=America/New_York:20260609T210000
DTSTAMP:20260423T084959
CREATED:20230226T023921Z
LAST-MODIFIED:20260407T171616Z
UID:10086528-1781031600-1781038800@thepinestimes.com
SUMMARY:Tuesday Trivia Night
DESCRIPTION:Come out for the fun at Southern Pines Growler Company! British Mike’s Tuesday Trivia starts at 7:00PM!
URL:https://thepinestimes.com/event/tuesday-trivia-night/2026-06-09/
LOCATION:Southern Pines Growler Company\, 160 W New York Ave\, Southern Pines\, NC\, 28387\, United States
CATEGORIES:Adults,Beer and Wine,Games,Hobby/Enthusiast,Night Life,Social,Southern Pines Events,Young Adults
ATTACH;FMTTYPE=image/png:https://thepinestimes.com/wp-content/uploads/Trivia-Night-e1754408009763.png
END:VEVENT
BEGIN:VEVENT
DTSTART;TZID=America/New_York:20260616T190000
DTEND;TZID=America/New_York:20260616T210000
DTSTAMP:20260423T084959
CREATED:20230226T023921Z
LAST-MODIFIED:20260407T171616Z
UID:10086529-1781636400-1781643600@thepinestimes.com
SUMMARY:Tuesday Trivia Night
DESCRIPTION:Come out for the fun at Southern Pines Growler Company! British Mike’s Tuesday Trivia starts at 7:00PM!
URL:https://thepinestimes.com/event/tuesday-trivia-night/2026-06-16/
LOCATION:Southern Pines Growler Company\, 160 W New York Ave\, Southern Pines\, NC\, 28387\, United States
CATEGORIES:Adults,Beer and Wine,Games,Hobby/Enthusiast,Night Life,Social,Southern Pines Events,Young Adults
ATTACH;FMTTYPE=image/png:https://thepinestimes.com/wp-content/uploads/Trivia-Night-e1754408009763.png
END:VEVENT
BEGIN:VEVENT
DTSTART;TZID=America/New_York:20260623T190000
DTEND;TZID=America/New_York:20260623T210000
DTSTAMP:20260423T084959
CREATED:20230226T023921Z
LAST-MODIFIED:20260407T171616Z
UID:10086530-1782241200-1782248400@thepinestimes.com
SUMMARY:Tuesday Trivia Night
DESCRIPTION:Come out for the fun at Southern Pines Growler Company! British Mike’s Tuesday Trivia starts at 7:00PM!
URL:https://thepinestimes.com/event/tuesday-trivia-night/2026-06-23/
LOCATION:Southern Pines Growler Company\, 160 W New York Ave\, Southern Pines\, NC\, 28387\, United States
CATEGORIES:Adults,Beer and Wine,Games,Hobby/Enthusiast,Night Life,Social,Southern Pines Events,Young Adults
ATTACH;FMTTYPE=image/png:https://thepinestimes.com/wp-content/uploads/Trivia-Night-e1754408009763.png
END:VEVENT
BEGIN:VEVENT
DTSTART;TZID=America/New_York:20260630T190000
DTEND;TZID=America/New_York:20260630T210000
DTSTAMP:20260423T084959
CREATED:20230226T023921Z
LAST-MODIFIED:20260407T171616Z
UID:10086531-1782846000-1782853200@thepinestimes.com
SUMMARY:Tuesday Trivia Night
DESCRIPTION:Come out for the fun at Southern Pines Growler Company! British Mike’s Tuesday Trivia starts at 7:00PM!
URL:https://thepinestimes.com/event/tuesday-trivia-night/2026-06-30/
LOCATION:Southern Pines Growler Company\, 160 W New York Ave\, Southern Pines\, NC\, 28387\, United States
CATEGORIES:Adults,Beer and Wine,Games,Hobby/Enthusiast,Night Life,Social,Southern Pines Events,Young Adults
ATTACH;FMTTYPE=image/png:https://thepinestimes.com/wp-content/uploads/Trivia-Night-e1754408009763.png
END:VEVENT
BEGIN:VEVENT
DTSTART;TZID=America/New_York:20260707T190000
DTEND;TZID=America/New_York:20260707T210000
DTSTAMP:20260423T084959
CREATED:20230226T023921Z
LAST-MODIFIED:20260407T171616Z
UID:10086532-1783450800-1783458000@thepinestimes.com
SUMMARY:Tuesday Trivia Night
DESCRIPTION:Come out for the fun at Southern Pines Growler Company! British Mike’s Tuesday Trivia starts at 7:00PM!
URL:https://thepinestimes.com/event/tuesday-trivia-night/2026-07-07/
LOCATION:Southern Pines Growler Company\, 160 W New York Ave\, Southern Pines\, NC\, 28387\, United States
CATEGORIES:Adults,Beer and Wine,Games,Hobby/Enthusiast,Night Life,Social,Southern Pines Events,Young Adults
ATTACH;FMTTYPE=image/png:https://thepinestimes.com/wp-content/uploads/Trivia-Night-e1754408009763.png
END:VEVENT
BEGIN:VEVENT
DTSTART;TZID=America/New_York:20260714T190000
DTEND;TZID=America/New_York:20260714T210000
DTSTAMP:20260423T084959
CREATED:20230226T023921Z
LAST-MODIFIED:20260407T171616Z
UID:10086533-1784055600-1784062800@thepinestimes.com
SUMMARY:Tuesday Trivia Night
DESCRIPTION:Come out for the fun at Southern Pines Growler Company! British Mike’s Tuesday Trivia starts at 7:00PM!
URL:https://thepinestimes.com/event/tuesday-trivia-night/2026-07-14/
LOCATION:Southern Pines Growler Company\, 160 W New York Ave\, Southern Pines\, NC\, 28387\, United States
CATEGORIES:Adults,Beer and Wine,Games,Hobby/Enthusiast,Night Life,Social,Southern Pines Events,Young Adults
ATTACH;FMTTYPE=image/png:https://thepinestimes.com/wp-content/uploads/Trivia-Night-e1754408009763.png
END:VEVENT
BEGIN:VEVENT
DTSTART;TZID=America/New_York:20260721T190000
DTEND;TZID=America/New_York:20260721T210000
DTSTAMP:20260423T085000
CREATED:20230226T023921Z
LAST-MODIFIED:20260407T171616Z
UID:10086534-1784660400-1784667600@thepinestimes.com
SUMMARY:Tuesday Trivia Night
DESCRIPTION:Come out for the fun at Southern Pines Growler Company! British Mike’s Tuesday Trivia starts at 7:00PM!
URL:https://thepinestimes.com/event/tuesday-trivia-night/2026-07-21/
LOCATION:Southern Pines Growler Company\, 160 W New York Ave\, Southern Pines\, NC\, 28387\, United States
CATEGORIES:Adults,Beer and Wine,Games,Hobby/Enthusiast,Night Life,Social,Southern Pines Events,Young Adults
ATTACH;FMTTYPE=image/png:https://thepinestimes.com/wp-content/uploads/Trivia-Night-e1754408009763.png
END:VEVENT
BEGIN:VEVENT
DTSTART;TZID=America/New_York:20260728T190000
DTEND;TZID=America/New_York:20260728T210000
DTSTAMP:20260423T085000
CREATED:20230226T023921Z
LAST-MODIFIED:20260407T171616Z
UID:10086535-1785265200-1785272400@thepinestimes.com
SUMMARY:Tuesday Trivia Night
DESCRIPTION:Come out for the fun at Southern Pines Growler Company! British Mike’s Tuesday Trivia starts at 7:00PM!
URL:https://thepinestimes.com/event/tuesday-trivia-night/2026-07-28/
LOCATION:Southern Pines Growler Company\, 160 W New York Ave\, Southern Pines\, NC\, 28387\, United States
CATEGORIES:Adults,Beer and Wine,Games,Hobby/Enthusiast,Night Life,Social,Southern Pines Events,Young Adults
ATTACH;FMTTYPE=image/png:https://thepinestimes.com/wp-content/uploads/Trivia-Night-e1754408009763.png
END:VEVENT
BEGIN:VEVENT
DTSTART;TZID=America/New_York:20260804T190000
DTEND;TZID=America/New_York:20260804T210000
DTSTAMP:20260423T085000
CREATED:20230226T023921Z
LAST-MODIFIED:20260407T171616Z
UID:10086536-1785870000-1785877200@thepinestimes.com
SUMMARY:Tuesday Trivia Night
DESCRIPTION:Come out for the fun at Southern Pines Growler Company! British Mike’s Tuesday Trivia starts at 7:00PM!
URL:https://thepinestimes.com/event/tuesday-trivia-night/2026-08-04/
LOCATION:Southern Pines Growler Company\, 160 W New York Ave\, Southern Pines\, NC\, 28387\, United States
CATEGORIES:Adults,Beer and Wine,Games,Hobby/Enthusiast,Night Life,Social,Southern Pines Events,Young Adults
ATTACH;FMTTYPE=image/png:https://thepinestimes.com/wp-content/uploads/Trivia-Night-e1754408009763.png
END:VEVENT
BEGIN:VEVENT
DTSTART;TZID=America/New_York:20260811T190000
DTEND;TZID=America/New_York:20260811T210000
DTSTAMP:20260423T085000
CREATED:20230226T023921Z
LAST-MODIFIED:20260407T171616Z
UID:10086537-1786474800-1786482000@thepinestimes.com
SUMMARY:Tuesday Trivia Night
DESCRIPTION:Come out for the fun at Southern Pines Growler Company! British Mike’s Tuesday Trivia starts at 7:00PM!
URL:https://thepinestimes.com/event/tuesday-trivia-night/2026-08-11/
LOCATION:Southern Pines Growler Company\, 160 W New York Ave\, Southern Pines\, NC\, 28387\, United States
CATEGORIES:Adults,Beer and Wine,Games,Hobby/Enthusiast,Night Life,Social,Southern Pines Events,Young Adults
ATTACH;FMTTYPE=image/png:https://thepinestimes.com/wp-content/uploads/Trivia-Night-e1754408009763.png
END:VEVENT
BEGIN:VEVENT
DTSTART;TZID=America/New_York:20260818T190000
DTEND;TZID=America/New_York:20260818T210000
DTSTAMP:20260423T085000
CREATED:20230226T023921Z
LAST-MODIFIED:20260407T171616Z
UID:10086538-1787079600-1787086800@thepinestimes.com
SUMMARY:Tuesday Trivia Night
DESCRIPTION:Come out for the fun at Southern Pines Growler Company! British Mike’s Tuesday Trivia starts at 7:00PM!
URL:https://thepinestimes.com/event/tuesday-trivia-night/2026-08-18/
LOCATION:Southern Pines Growler Company\, 160 W New York Ave\, Southern Pines\, NC\, 28387\, United States
CATEGORIES:Adults,Beer and Wine,Games,Hobby/Enthusiast,Night Life,Social,Southern Pines Events,Young Adults
ATTACH;FMTTYPE=image/png:https://thepinestimes.com/wp-content/uploads/Trivia-Night-e1754408009763.png
END:VEVENT
BEGIN:VEVENT
DTSTART;TZID=America/New_York:20260825T190000
DTEND;TZID=America/New_York:20260825T210000
DTSTAMP:20260423T085000
CREATED:20230226T023921Z
LAST-MODIFIED:20260407T171616Z
UID:10086539-1787684400-1787691600@thepinestimes.com
SUMMARY:Tuesday Trivia Night
DESCRIPTION:Come out for the fun at Southern Pines Growler Company! British Mike’s Tuesday Trivia starts at 7:00PM!
URL:https://thepinestimes.com/event/tuesday-trivia-night/2026-08-25/
LOCATION:Southern Pines Growler Company\, 160 W New York Ave\, Southern Pines\, NC\, 28387\, United States
CATEGORIES:Adults,Beer and Wine,Games,Hobby/Enthusiast,Night Life,Social,Southern Pines Events,Young Adults
ATTACH;FMTTYPE=image/png:https://thepinestimes.com/wp-content/uploads/Trivia-Night-e1754408009763.png
END:VEVENT
BEGIN:VEVENT
DTSTART;TZID=America/New_York:20260901T190000
DTEND;TZID=America/New_York:20260901T210000
DTSTAMP:20260423T085000
CREATED:20230226T023921Z
LAST-MODIFIED:20260407T171616Z
UID:10086540-1788289200-1788296400@thepinestimes.com
SUMMARY:Tuesday Trivia Night
DESCRIPTION:Come out for the fun at Southern Pines Growler Company! British Mike’s Tuesday Trivia starts at 7:00PM!
URL:https://thepinestimes.com/event/tuesday-trivia-night/2026-09-01/
LOCATION:Southern Pines Growler Company\, 160 W New York Ave\, Southern Pines\, NC\, 28387\, United States
CATEGORIES:Adults,Beer and Wine,Games,Hobby/Enthusiast,Night Life,Social,Southern Pines Events,Young Adults
ATTACH;FMTTYPE=image/png:https://thepinestimes.com/wp-content/uploads/Trivia-Night-e1754408009763.png
END:VEVENT
BEGIN:VEVENT
DTSTART;TZID=America/New_York:20260908T190000
DTEND;TZID=America/New_York:20260908T210000
DTSTAMP:20260423T085000
CREATED:20230226T023921Z
LAST-MODIFIED:20260407T171616Z
UID:10086541-1788894000-1788901200@thepinestimes.com
SUMMARY:Tuesday Trivia Night
DESCRIPTION:Come out for the fun at Southern Pines Growler Company! British Mike’s Tuesday Trivia starts at 7:00PM!
URL:https://thepinestimes.com/event/tuesday-trivia-night/2026-09-08/
LOCATION:Southern Pines Growler Company\, 160 W New York Ave\, Southern Pines\, NC\, 28387\, United States
CATEGORIES:Adults,Beer and Wine,Games,Hobby/Enthusiast,Night Life,Social,Southern Pines Events,Young Adults
ATTACH;FMTTYPE=image/png:https://thepinestimes.com/wp-content/uploads/Trivia-Night-e1754408009763.png
END:VEVENT
BEGIN:VEVENT
DTSTART;TZID=America/New_York:20260915T190000
DTEND;TZID=America/New_York:20260915T210000
DTSTAMP:20260423T085000
CREATED:20230226T023921Z
LAST-MODIFIED:20260407T171616Z
UID:10086542-1789498800-1789506000@thepinestimes.com
SUMMARY:Tuesday Trivia Night
DESCRIPTION:Come out for the fun at Southern Pines Growler Company! British Mike’s Tuesday Trivia starts at 7:00PM!
URL:https://thepinestimes.com/event/tuesday-trivia-night/2026-09-15/
LOCATION:Southern Pines Growler Company\, 160 W New York Ave\, Southern Pines\, NC\, 28387\, United States
CATEGORIES:Adults,Beer and Wine,Games,Hobby/Enthusiast,Night Life,Social,Southern Pines Events,Young Adults
ATTACH;FMTTYPE=image/png:https://thepinestimes.com/wp-content/uploads/Trivia-Night-e1754408009763.png
END:VEVENT
BEGIN:VEVENT
DTSTART;TZID=America/New_York:20260922T190000
DTEND;TZID=America/New_York:20260922T210000
DTSTAMP:20260423T085000
CREATED:20230226T023921Z
LAST-MODIFIED:20260407T171616Z
UID:10086543-1790103600-1790110800@thepinestimes.com
SUMMARY:Tuesday Trivia Night
DESCRIPTION:Come out for the fun at Southern Pines Growler Company! British Mike’s Tuesday Trivia starts at 7:00PM!
URL:https://thepinestimes.com/event/tuesday-trivia-night/2026-09-22/
LOCATION:Southern Pines Growler Company\, 160 W New York Ave\, Southern Pines\, NC\, 28387\, United States
CATEGORIES:Adults,Beer and Wine,Games,Hobby/Enthusiast,Night Life,Social,Southern Pines Events,Young Adults
ATTACH;FMTTYPE=image/png:https://thepinestimes.com/wp-content/uploads/Trivia-Night-e1754408009763.png
END:VEVENT
BEGIN:VEVENT
DTSTART;TZID=America/New_York:20260929T190000
DTEND;TZID=America/New_York:20260929T210000
DTSTAMP:20260423T085000
CREATED:20230226T023921Z
LAST-MODIFIED:20260407T171616Z
UID:10086544-1790708400-1790715600@thepinestimes.com
SUMMARY:Tuesday Trivia Night
DESCRIPTION:Come out for the fun at Southern Pines Growler Company! British Mike’s Tuesday Trivia starts at 7:00PM!
URL:https://thepinestimes.com/event/tuesday-trivia-night/2026-09-29/
LOCATION:Southern Pines Growler Company\, 160 W New York Ave\, Southern Pines\, NC\, 28387\, United States
CATEGORIES:Adults,Beer and Wine,Games,Hobby/Enthusiast,Night Life,Social,Southern Pines Events,Young Adults
ATTACH;FMTTYPE=image/png:https://thepinestimes.com/wp-content/uploads/Trivia-Night-e1754408009763.png
END:VEVENT
BEGIN:VEVENT
DTSTART;TZID=America/New_York:20261006T190000
DTEND;TZID=America/New_York:20261006T210000
DTSTAMP:20260423T085000
CREATED:20230226T023921Z
LAST-MODIFIED:20260407T171616Z
UID:10086545-1791313200-1791320400@thepinestimes.com
SUMMARY:Tuesday Trivia Night
DESCRIPTION:Come out for the fun at Southern Pines Growler Company! British Mike’s Tuesday Trivia starts at 7:00PM!
URL:https://thepinestimes.com/event/tuesday-trivia-night/2026-10-06/
LOCATION:Southern Pines Growler Company\, 160 W New York Ave\, Southern Pines\, NC\, 28387\, United States
CATEGORIES:Adults,Beer and Wine,Games,Hobby/Enthusiast,Night Life,Social,Southern Pines Events,Young Adults
ATTACH;FMTTYPE=image/png:https://thepinestimes.com/wp-content/uploads/Trivia-Night-e1754408009763.png
END:VEVENT
BEGIN:VEVENT
DTSTART;TZID=America/New_York:20261013T190000
DTEND;TZID=America/New_York:20261013T210000
DTSTAMP:20260423T085000
CREATED:20230226T023921Z
LAST-MODIFIED:20260407T171616Z
UID:10086546-1791918000-1791925200@thepinestimes.com
SUMMARY:Tuesday Trivia Night
DESCRIPTION:Come out for the fun at Southern Pines Growler Company! British Mike’s Tuesday Trivia starts at 7:00PM!
URL:https://thepinestimes.com/event/tuesday-trivia-night/2026-10-13/
LOCATION:Southern Pines Growler Company\, 160 W New York Ave\, Southern Pines\, NC\, 28387\, United States
CATEGORIES:Adults,Beer and Wine,Games,Hobby/Enthusiast,Night Life,Social,Southern Pines Events,Young Adults
ATTACH;FMTTYPE=image/png:https://thepinestimes.com/wp-content/uploads/Trivia-Night-e1754408009763.png
END:VEVENT
BEGIN:VEVENT
DTSTART;TZID=America/New_York:20261020T190000
DTEND;TZID=America/New_York:20261020T210000
DTSTAMP:20260423T085000
CREATED:20230226T023921Z
LAST-MODIFIED:20260407T171616Z
UID:10086547-1792522800-1792530000@thepinestimes.com
SUMMARY:Tuesday Trivia Night
DESCRIPTION:Come out for the fun at Southern Pines Growler Company! British Mike’s Tuesday Trivia starts at 7:00PM!
URL:https://thepinestimes.com/event/tuesday-trivia-night/2026-10-20/
LOCATION:Southern Pines Growler Company\, 160 W New York Ave\, Southern Pines\, NC\, 28387\, United States
CATEGORIES:Adults,Beer and Wine,Games,Hobby/Enthusiast,Night Life,Social,Southern Pines Events,Young Adults
ATTACH;FMTTYPE=image/png:https://thepinestimes.com/wp-content/uploads/Trivia-Night-e1754408009763.png
END:VEVENT
END:VCALENDAR