BEGIN:VCALENDAR
VERSION:2.0
PRODID:-//The Pines Times - ECPv6.15.20//NONSGML v1.0//EN
CALSCALE:GREGORIAN
METHOD:PUBLISH
X-WR-CALNAME:The Pines Times
X-ORIGINAL-URL:https://thepinestimes.com
X-WR-CALDESC:Events for The Pines Times
REFRESH-INTERVAL;VALUE=DURATION:PT1H
X-Robots-Tag:noindex
X-PUBLISHED-TTL:PT1H
BEGIN:VTIMEZONE
TZID:America/New_York
BEGIN:DAYLIGHT
TZOFFSETFROM:-0500
TZOFFSETTO:-0400
TZNAME:EDT
DTSTART:20240310T070000
END:DAYLIGHT
BEGIN:STANDARD
TZOFFSETFROM:-0400
TZOFFSETTO:-0500
TZNAME:EST
DTSTART:20241103T060000
END:STANDARD
BEGIN:DAYLIGHT
TZOFFSETFROM:-0500
TZOFFSETTO:-0400
TZNAME:EDT
DTSTART:20250309T070000
END:DAYLIGHT
BEGIN:STANDARD
TZOFFSETFROM:-0400
TZOFFSETTO:-0500
TZNAME:EST
DTSTART:20251102T060000
END:STANDARD
BEGIN:DAYLIGHT
TZOFFSETFROM:-0500
TZOFFSETTO:-0400
TZNAME:EDT
DTSTART:20260308T070000
END:DAYLIGHT
BEGIN:STANDARD
TZOFFSETFROM:-0400
TZOFFSETTO:-0500
TZNAME:EST
DTSTART:20261101T060000
END:STANDARD
END:VTIMEZONE
BEGIN:VEVENT
DTSTART;TZID=America/New_York:20250622T090000
DTEND;TZID=America/New_York:20250622T160000
DTSTAMP:20260424T213918
CREATED:20250618T134242Z
LAST-MODIFIED:20250618T134450Z
UID:10061577-1750582800-1750608000@thepinestimes.com
SUMMARY:“Battle of the Broad” Kickball Tournament to Benefit Friend to Friend
DESCRIPTION:The First Annual “Battle of the Broad” Kickball Tournament to benefit Friend to Friend is happening this Sunday\, June 22nd | 10am–4pm at Memorial Park Fields B and C! Local businesses are teaming up for a day of friendly competition and fundraising\, all to support the vital work of Friend to Friend. Even if you’re not playing\, you can still get involved by sponsoring a team. Spectators are invited to come out and cheer on the teams. Whether you’re playing or cheering from the sidelines\, it’s going to be a day full of fun\, laughter and community spirit—all for a great cause! Check out the full list of teams and make your donation by visiting the event website link provided below.
URL:https://thepinestimes.com/event/battle-of-the-broad-kickball-tournament-to-benefit-friend-to-friend/
LOCATION:Southern Pines Memorial Park\, 210 Memorial Park Court\, Southern Pines\, 28387\, United States
CATEGORIES:Adults,Donation,Fundraiser,Games,Hobby/Enthusiast,Kickball,Live Entertainment,Nature/Outdoors,Social,Southern Pines Events,Sports,Volunteer
ATTACH;FMTTYPE=image/jpeg:https://thepinestimes.com/wp-content/uploads/BattleOfTheBroadFeature.jpg
END:VEVENT
END:VCALENDAR