BEGIN:VCALENDAR
VERSION:2.0
PRODID:-//The Pines Times - ECPv6.15.20//NONSGML v1.0//EN
CALSCALE:GREGORIAN
METHOD:PUBLISH
X-ORIGINAL-URL:https://thepinestimes.com
X-WR-CALDESC:Events for The Pines Times
REFRESH-INTERVAL;VALUE=DURATION:PT1H
X-Robots-Tag:noindex
X-PUBLISHED-TTL:PT1H
BEGIN:VTIMEZONE
TZID:America/New_York
BEGIN:DAYLIGHT
TZOFFSETFROM:-0500
TZOFFSETTO:-0400
TZNAME:EDT
DTSTART:20250309T070000
END:DAYLIGHT
BEGIN:STANDARD
TZOFFSETFROM:-0400
TZOFFSETTO:-0500
TZNAME:EST
DTSTART:20251102T060000
END:STANDARD
BEGIN:DAYLIGHT
TZOFFSETFROM:-0500
TZOFFSETTO:-0400
TZNAME:EDT
DTSTART:20260308T070000
END:DAYLIGHT
BEGIN:STANDARD
TZOFFSETFROM:-0400
TZOFFSETTO:-0500
TZNAME:EST
DTSTART:20261101T060000
END:STANDARD
BEGIN:DAYLIGHT
TZOFFSETFROM:-0500
TZOFFSETTO:-0400
TZNAME:EDT
DTSTART:20270314T070000
END:DAYLIGHT
BEGIN:STANDARD
TZOFFSETFROM:-0400
TZOFFSETTO:-0500
TZNAME:EST
DTSTART:20271107T060000
END:STANDARD
END:VTIMEZONE
BEGIN:VEVENT
DTSTART;TZID=America/New_York:20260503T100000
DTEND;TZID=America/New_York:20260503T120000
DTSTAMP:20260420T182004
CREATED:20260419T164020Z
LAST-MODIFIED:20260419T164020Z
UID:10086951-1777802400-1777809600@thepinestimes.com
SUMMARY:Stand Up Paddleboard (SUP) Yoga
DESCRIPTION:Southern Pines Parks & Recreation is partnering with Hot Asana Sweat & Soul to offer a unique yoga experience on the water at Reservoir Park. These Stand Up Paddleboard (SUP) Yoga sessions are open to all skill levels\, providing a peaceful way to practice balance and mindfulness while enjoying the natural surroundings of the lake. \nThe sessions are scheduled for Sunday\, May 3rd and Sunday\, June 7th from 10AM-12PM\, with an evening option on Wednesday\, June 24th starting at 6PM. Participants must be at least 16 years old to join. The cost for the class is $38 for residents and $53 for non-residents\, and necessary equipment is available for an additional fee. \n \n 
URL:https://thepinestimes.com/event/stand-up-paddleboard-sup-yoga/2026-05-03/
LOCATION:Southern Pines Reservoir Park\, 300 Reservoir Park Dr.\, Southern Pines\, NC\, 28387\, United States
CATEGORIES:Adults,Health & Wellness,Hobby/Enthusiast,Nature/Outdoors,Social,Southern Pines Events,Yoga,Young Adults
END:VEVENT
BEGIN:VEVENT
DTSTART;TZID=America/New_York:20260607T100000
DTEND;TZID=America/New_York:20260607T120000
DTSTAMP:20260420T182004
CREATED:20260419T164020Z
LAST-MODIFIED:20260419T164020Z
UID:10086952-1780826400-1780833600@thepinestimes.com
SUMMARY:Stand Up Paddleboard (SUP) Yoga
DESCRIPTION:Southern Pines Parks & Recreation is partnering with Hot Asana Sweat & Soul to offer a unique yoga experience on the water at Reservoir Park. These Stand Up Paddleboard (SUP) Yoga sessions are open to all skill levels\, providing a peaceful way to practice balance and mindfulness while enjoying the natural surroundings of the lake. \nThe sessions are scheduled for Sunday\, May 3rd and Sunday\, June 7th from 10AM-12PM\, with an evening option on Wednesday\, June 24th starting at 6PM. Participants must be at least 16 years old to join. The cost for the class is $38 for residents and $53 for non-residents\, and necessary equipment is available for an additional fee. \n \n 
URL:https://thepinestimes.com/event/stand-up-paddleboard-sup-yoga/2026-06-07/
LOCATION:Southern Pines Reservoir Park\, 300 Reservoir Park Dr.\, Southern Pines\, NC\, 28387\, United States
CATEGORIES:Adults,Health & Wellness,Hobby/Enthusiast,Nature/Outdoors,Social,Southern Pines Events,Yoga,Young Adults
END:VEVENT
BEGIN:VEVENT
DTSTART;TZID=America/New_York:20260624T180000
DTEND;TZID=America/New_York:20260624T200000
DTSTAMP:20260420T182004
CREATED:20260419T164020Z
LAST-MODIFIED:20260419T164020Z
UID:10086953-1782324000-1782331200@thepinestimes.com
SUMMARY:Stand Up Paddleboard (SUP) Yoga
DESCRIPTION:Southern Pines Parks & Recreation is partnering with Hot Asana Sweat & Soul to offer a unique yoga experience on the water at Reservoir Park. These Stand Up Paddleboard (SUP) Yoga sessions are open to all skill levels\, providing a peaceful way to practice balance and mindfulness while enjoying the natural surroundings of the lake. \nThe sessions are scheduled for Sunday\, May 3rd and Sunday\, June 7th from 10AM-12PM\, with an evening option on Wednesday\, June 24th starting at 6PM. Participants must be at least 16 years old to join. The cost for the class is $38 for residents and $53 for non-residents\, and necessary equipment is available for an additional fee. \n \n 
URL:https://thepinestimes.com/event/stand-up-paddleboard-sup-yoga/2026-06-24/
LOCATION:Southern Pines Reservoir Park\, 300 Reservoir Park Dr.\, Southern Pines\, NC\, 28387\, United States
CATEGORIES:Adults,Health & Wellness,Hobby/Enthusiast,Nature/Outdoors,Social,Southern Pines Events,Yoga,Young Adults
END:VEVENT
END:VCALENDAR