BEGIN:VCALENDAR
VERSION:2.0
PRODID:-//The Pines Times - ECPv6.15.20//NONSGML v1.0//EN
CALSCALE:GREGORIAN
METHOD:PUBLISH
X-ORIGINAL-URL:https://thepinestimes.com
X-WR-CALDESC:Events for The Pines Times
REFRESH-INTERVAL;VALUE=DURATION:PT1H
X-Robots-Tag:noindex
X-PUBLISHED-TTL:PT1H
BEGIN:VTIMEZONE
TZID:America/New_York
BEGIN:DAYLIGHT
TZOFFSETFROM:-0500
TZOFFSETTO:-0400
TZNAME:EDT
DTSTART:20240310T070000
END:DAYLIGHT
BEGIN:STANDARD
TZOFFSETFROM:-0400
TZOFFSETTO:-0500
TZNAME:EST
DTSTART:20241103T060000
END:STANDARD
BEGIN:DAYLIGHT
TZOFFSETFROM:-0500
TZOFFSETTO:-0400
TZNAME:EDT
DTSTART:20250309T070000
END:DAYLIGHT
BEGIN:STANDARD
TZOFFSETFROM:-0400
TZOFFSETTO:-0500
TZNAME:EST
DTSTART:20251102T060000
END:STANDARD
BEGIN:DAYLIGHT
TZOFFSETFROM:-0500
TZOFFSETTO:-0400
TZNAME:EDT
DTSTART:20260308T070000
END:DAYLIGHT
BEGIN:STANDARD
TZOFFSETFROM:-0400
TZOFFSETTO:-0500
TZNAME:EST
DTSTART:20261101T060000
END:STANDARD
END:VTIMEZONE
BEGIN:VEVENT
DTSTART;TZID=America/New_York:20251014T133000
DTEND;TZID=America/New_York:20251014T153000
DTSTAMP:20260419T225438
CREATED:20250904T010343Z
LAST-MODIFIED:20250904T010437Z
UID:10067215-1760448600-1760455800@thepinestimes.com
SUMMARY:Senior Social Paint Party
DESCRIPTION:Splattered Hue invites seniors 55 and older to join in for Creative Tuesdays\, a Senior Social Paint Party designed as a midday art escape. Each Tuesday from 1:30pm-4:30pm\, participants can enjoy a relaxed and welcoming environment filled with painting\, laughter\, and community. The session includes all supplies\, along with coffee\, tea\, and light refreshments. The cost is $20-$25. With background music\, friendly conversation\, and plenty of good vibes\, it’s the perfect place to unwind\, connect\, and create. No pressure\, just paint! To register\, follow the event website link provided below.
URL:https://thepinestimes.com/event/senior-social-paint-party/2025-10-14/
LOCATION:Splattered Hue\, 8301 Main Street\, Suite D\, West End\, 27376\, United States
CATEGORIES:Art/Photography,Arts,Crafts,Golden Age,Hobby/Enthusiast,Senior
ATTACH;FMTTYPE=image/jpeg:https://thepinestimes.com/wp-content/uploads/SplatteredHueFeature.jpg
ORGANIZER;CN="Splattered Hue":MAILTO:splatteredhue@gmail.com
END:VEVENT
BEGIN:VEVENT
DTSTART;TZID=America/New_York:20251007T133000
DTEND;TZID=America/New_York:20251007T153000
DTSTAMP:20260419T225438
CREATED:20250904T010343Z
LAST-MODIFIED:20250904T010437Z
UID:10067214-1759843800-1759851000@thepinestimes.com
SUMMARY:Senior Social Paint Party
DESCRIPTION:Splattered Hue invites seniors 55 and older to join in for Creative Tuesdays\, a Senior Social Paint Party designed as a midday art escape. Each Tuesday from 1:30pm-4:30pm\, participants can enjoy a relaxed and welcoming environment filled with painting\, laughter\, and community. The session includes all supplies\, along with coffee\, tea\, and light refreshments. The cost is $20-$25. With background music\, friendly conversation\, and plenty of good vibes\, it’s the perfect place to unwind\, connect\, and create. No pressure\, just paint! To register\, follow the event website link provided below.
URL:https://thepinestimes.com/event/senior-social-paint-party/2025-10-07/
LOCATION:Splattered Hue\, 8301 Main Street\, Suite D\, West End\, 27376\, United States
CATEGORIES:Art/Photography,Arts,Crafts,Golden Age,Hobby/Enthusiast,Senior
ATTACH;FMTTYPE=image/jpeg:https://thepinestimes.com/wp-content/uploads/SplatteredHueFeature.jpg
ORGANIZER;CN="Splattered Hue":MAILTO:splatteredhue@gmail.com
END:VEVENT
BEGIN:VEVENT
DTSTART;TZID=America/New_York:20251004T140000
DTEND;TZID=America/New_York:20251004T150000
DTSTAMP:20260419T225438
CREATED:20250904T113223Z
LAST-MODIFIED:20250904T130104Z
UID:10067471-1759586400-1759590000@thepinestimes.com
SUMMARY:Create-A-Book Club
DESCRIPTION:Inspire Young Creators with Splattered Hue’s Create-A-Book Club! Give your child the opportunity to bring their imagination to life. Designed for ages 6–12\, this four-week club guides young creators as they write and illustrate their very own storybook using fun\, colorful materials like crayons\, markers\, and colored pencils. \nEach age group will grow in their storytelling and artistic skills: \nAges 6–7: Building simple sentences while enjoying coloring and drawing \nAges 8–9: Writing full paragraphs and adding their own illustrations \nAges 10–12: Developing detailed stories with more refined artwork \nTo regiser\, follow the event website link provided below.
URL:https://thepinestimes.com/event/create-a-book-club/2025-10-04/
LOCATION:Splattered Hue\, 8301 Main Street\, Suite D\, West End\, 27376\, United States
CATEGORIES:Art/Photography,Arts,Children,Clubs,Crafts,Piney's Kids
ATTACH;FMTTYPE=image/jpeg:https://thepinestimes.com/wp-content/uploads/SplatteredHueFeature.jpg
ORGANIZER;CN="Splattered Hue":MAILTO:splatteredhue@gmail.com
END:VEVENT
BEGIN:VEVENT
DTSTART;TZID=America/New_York:20250930T133000
DTEND;TZID=America/New_York:20250930T153000
DTSTAMP:20260419T225438
CREATED:20250904T010343Z
LAST-MODIFIED:20250904T010437Z
UID:10067213-1759239000-1759246200@thepinestimes.com
SUMMARY:Senior Social Paint Party
DESCRIPTION:Splattered Hue invites seniors 55 and older to join in for Creative Tuesdays\, a Senior Social Paint Party designed as a midday art escape. Each Tuesday from 1:30pm-4:30pm\, participants can enjoy a relaxed and welcoming environment filled with painting\, laughter\, and community. The session includes all supplies\, along with coffee\, tea\, and light refreshments. The cost is $20-$25. With background music\, friendly conversation\, and plenty of good vibes\, it’s the perfect place to unwind\, connect\, and create. No pressure\, just paint! To register\, follow the event website link provided below.
URL:https://thepinestimes.com/event/senior-social-paint-party/2025-09-30/
LOCATION:Splattered Hue\, 8301 Main Street\, Suite D\, West End\, 27376\, United States
CATEGORIES:Art/Photography,Arts,Crafts,Golden Age,Hobby/Enthusiast,Senior
ATTACH;FMTTYPE=image/jpeg:https://thepinestimes.com/wp-content/uploads/SplatteredHueFeature.jpg
ORGANIZER;CN="Splattered Hue":MAILTO:splatteredhue@gmail.com
END:VEVENT
BEGIN:VEVENT
DTSTART;TZID=America/New_York:20250923T133000
DTEND;TZID=America/New_York:20250923T153000
DTSTAMP:20260419T225438
CREATED:20250904T010343Z
LAST-MODIFIED:20250904T010437Z
UID:10067212-1758634200-1758641400@thepinestimes.com
SUMMARY:Senior Social Paint Party
DESCRIPTION:Splattered Hue invites seniors 55 and older to join in for Creative Tuesdays\, a Senior Social Paint Party designed as a midday art escape. Each Tuesday from 1:30pm-4:30pm\, participants can enjoy a relaxed and welcoming environment filled with painting\, laughter\, and community. The session includes all supplies\, along with coffee\, tea\, and light refreshments. The cost is $20-$25. With background music\, friendly conversation\, and plenty of good vibes\, it’s the perfect place to unwind\, connect\, and create. No pressure\, just paint! To register\, follow the event website link provided below.
URL:https://thepinestimes.com/event/senior-social-paint-party/2025-09-23/
LOCATION:Splattered Hue\, 8301 Main Street\, Suite D\, West End\, 27376\, United States
CATEGORIES:Art/Photography,Arts,Crafts,Golden Age,Hobby/Enthusiast,Senior
ATTACH;FMTTYPE=image/jpeg:https://thepinestimes.com/wp-content/uploads/SplatteredHueFeature.jpg
ORGANIZER;CN="Splattered Hue":MAILTO:splatteredhue@gmail.com
END:VEVENT
BEGIN:VEVENT
DTSTART;TZID=America/New_York:20250906T140000
DTEND;TZID=America/New_York:20250906T150000
DTSTAMP:20260419T225438
CREATED:20250904T113223Z
LAST-MODIFIED:20250904T130104Z
UID:10067470-1757167200-1757170800@thepinestimes.com
SUMMARY:Create-A-Book Club
DESCRIPTION:Inspire Young Creators with Splattered Hue’s Create-A-Book Club! Give your child the opportunity to bring their imagination to life. Designed for ages 6–12\, this four-week club guides young creators as they write and illustrate their very own storybook using fun\, colorful materials like crayons\, markers\, and colored pencils. \nEach age group will grow in their storytelling and artistic skills: \nAges 6–7: Building simple sentences while enjoying coloring and drawing \nAges 8–9: Writing full paragraphs and adding their own illustrations \nAges 10–12: Developing detailed stories with more refined artwork \nTo regiser\, follow the event website link provided below.
URL:https://thepinestimes.com/event/create-a-book-club/2025-09-06/
LOCATION:Splattered Hue\, 8301 Main Street\, Suite D\, West End\, 27376\, United States
CATEGORIES:Art/Photography,Arts,Children,Clubs,Crafts,Piney's Kids
ATTACH;FMTTYPE=image/jpeg:https://thepinestimes.com/wp-content/uploads/SplatteredHueFeature.jpg
ORGANIZER;CN="Splattered Hue":MAILTO:splatteredhue@gmail.com
END:VEVENT
END:VCALENDAR