BEGIN:VCALENDAR
VERSION:2.0
PRODID:-//The Pines Times - ECPv6.15.20//NONSGML v1.0//EN
CALSCALE:GREGORIAN
METHOD:PUBLISH
X-ORIGINAL-URL:https://thepinestimes.com
X-WR-CALDESC:Events for The Pines Times
REFRESH-INTERVAL;VALUE=DURATION:PT1H
X-Robots-Tag:noindex
X-PUBLISHED-TTL:PT1H
BEGIN:VTIMEZONE
TZID:America/New_York
BEGIN:DAYLIGHT
TZOFFSETFROM:-0500
TZOFFSETTO:-0400
TZNAME:EDT
DTSTART:20250309T070000
END:DAYLIGHT
BEGIN:STANDARD
TZOFFSETFROM:-0400
TZOFFSETTO:-0500
TZNAME:EST
DTSTART:20251102T060000
END:STANDARD
BEGIN:DAYLIGHT
TZOFFSETFROM:-0500
TZOFFSETTO:-0400
TZNAME:EDT
DTSTART:20260308T070000
END:DAYLIGHT
BEGIN:STANDARD
TZOFFSETFROM:-0400
TZOFFSETTO:-0500
TZNAME:EST
DTSTART:20261101T060000
END:STANDARD
BEGIN:DAYLIGHT
TZOFFSETFROM:-0500
TZOFFSETTO:-0400
TZNAME:EDT
DTSTART:20270314T070000
END:DAYLIGHT
BEGIN:STANDARD
TZOFFSETFROM:-0400
TZOFFSETTO:-0500
TZNAME:EST
DTSTART:20271107T060000
END:STANDARD
END:VTIMEZONE
BEGIN:VEVENT
DTSTART;TZID=America/New_York:20260416T170000
DTEND;TZID=America/New_York:20260416T190000
DTSTAMP:20260423T193900
CREATED:20260326T142838Z
LAST-MODIFIED:20260326T142838Z
UID:10084311-1776358800-1776366000@thepinestimes.com
SUMMARY:Third Thursday: She Shines-A Community Fashion Show Celebrating the Women of Sanford
DESCRIPTION:Third Thursday: She Shines\, A Community Fashion Show Celebrating the Women of Sanford on April 16th\, Third Thursday transforms Downtown Sanford into the runway for She Shines—a special ticketed fashion show honoring nominated women from our community. Join for an unforgettable evening of fashion\, celebration\, and local pride as we applaud the women who shape our city every day! \nLocal women who inspire\, lead\, and uplift Sanford will take the spotlight\, styled head-to-toe by our downtown shops. Each look tells a story of confidence\, creativity\, and community—showcasing both the women who make Sanford shine and the businesses that dress our downtown with style. \n📍 Stanley’s Home Center\n🗓️ Third Thursday in April 16th | 5PM-7PM\n👗 Fashion Show featuring community-nominated women\n🎟️ Ticketed Event (limited availability) \nCome celebrate strength\, style\, and sisterhood—because when she shines\, we all do! Secure your ticket through the event website link below and be part of this inspiring night.
URL:https://thepinestimes.com/event/third-thursday-she-shines-a-community-fashion-show-celebrating-the-women-of-sanford/
LOCATION:Stanley’s Home Center\, 232 Wicker Street\, Sanford\, 27330\, United States
CATEGORIES:Family,Fashion Show,Live Entertainment,Sanford Events,Shopping,Social
ATTACH;FMTTYPE=image/jpeg:https://thepinestimes.com/wp-content/uploads/SanfordThirdThursdaySheShinesFeature.jpg
END:VEVENT
END:VCALENDAR