BEGIN:VCALENDAR
VERSION:2.0
PRODID:-//The Pines Times - ECPv6.15.20//NONSGML v1.0//EN
CALSCALE:GREGORIAN
METHOD:PUBLISH
X-ORIGINAL-URL:https://thepinestimes.com
X-WR-CALDESC:Events for The Pines Times
REFRESH-INTERVAL;VALUE=DURATION:PT1H
X-Robots-Tag:noindex
X-PUBLISHED-TTL:PT1H
BEGIN:VTIMEZONE
TZID:America/New_York
BEGIN:DAYLIGHT
TZOFFSETFROM:-0500
TZOFFSETTO:-0400
TZNAME:EDT
DTSTART:20240310T070000
END:DAYLIGHT
BEGIN:STANDARD
TZOFFSETFROM:-0400
TZOFFSETTO:-0500
TZNAME:EST
DTSTART:20241103T060000
END:STANDARD
BEGIN:DAYLIGHT
TZOFFSETFROM:-0500
TZOFFSETTO:-0400
TZNAME:EDT
DTSTART:20250309T070000
END:DAYLIGHT
BEGIN:STANDARD
TZOFFSETFROM:-0400
TZOFFSETTO:-0500
TZNAME:EST
DTSTART:20251102T060000
END:STANDARD
BEGIN:DAYLIGHT
TZOFFSETFROM:-0500
TZOFFSETTO:-0400
TZNAME:EDT
DTSTART:20260308T070000
END:DAYLIGHT
BEGIN:STANDARD
TZOFFSETFROM:-0400
TZOFFSETTO:-0500
TZNAME:EST
DTSTART:20261101T060000
END:STANDARD
BEGIN:DAYLIGHT
TZOFFSETFROM:-0500
TZOFFSETTO:-0400
TZNAME:EDT
DTSTART:20270314T070000
END:DAYLIGHT
BEGIN:STANDARD
TZOFFSETFROM:-0400
TZOFFSETTO:-0500
TZNAME:EST
DTSTART:20271107T060000
END:STANDARD
END:VTIMEZONE
BEGIN:VEVENT
DTSTART;TZID=America/New_York:20260320T183000
DTEND;TZID=America/New_York:20260320T203000
DTSTAMP:20260422T101435
CREATED:20260112T213259Z
LAST-MODIFIED:20260112T213259Z
UID:10079320-1774031400-1774038600@thepinestimes.com
SUMMARY:Star Saloon Classic Country Vinyl Night
DESCRIPTION:Dust off your boots and head over to Starworks Cafe & Taproom for a night of timeless tunes. Star Saloon will feature a classic country vinyl night featuring DJ Rounder spinning all your favorite vintage tracks\, taking place every third Friday. The music kicks off Friday\, January 16th\, from 6:30pm-8:30pm. This event is free and open to the public. Whether you are a die-hard vinyl collector or just looking for a fun evening out\, the Star Saloon welcomes everyone.
URL:https://thepinestimes.com/event/star-saloon-classic-country-vinyl-night/2026-03-20/
LOCATION:STARworks Cafe and Taproom\, 100 Russell Drive\, Star\, NC\, 27356\, United States
CATEGORIES:Adult Connections,Adults,Beer and Wine,Dance,Hobby/Enthusiast,Music,Senior,Social,Star,Young Adults
ATTACH;FMTTYPE=image/jpeg:https://thepinestimes.com/wp-content/uploads/Starworks-Cafe-and-Taproom-Feature.jpg
END:VEVENT
BEGIN:VEVENT
DTSTART;TZID=America/New_York:20260220T183000
DTEND;TZID=America/New_York:20260220T203000
DTSTAMP:20260422T101435
CREATED:20260112T213259Z
LAST-MODIFIED:20260112T213259Z
UID:10079319-1771612200-1771619400@thepinestimes.com
SUMMARY:Star Saloon Classic Country Vinyl Night
DESCRIPTION:Dust off your boots and head over to Starworks Cafe & Taproom for a night of timeless tunes. Star Saloon will feature a classic country vinyl night featuring DJ Rounder spinning all your favorite vintage tracks\, taking place every third Friday. The music kicks off Friday\, January 16th\, from 6:30pm-8:30pm. This event is free and open to the public. Whether you are a die-hard vinyl collector or just looking for a fun evening out\, the Star Saloon welcomes everyone.
URL:https://thepinestimes.com/event/star-saloon-classic-country-vinyl-night/2026-02-20/
LOCATION:STARworks Cafe and Taproom\, 100 Russell Drive\, Star\, NC\, 27356\, United States
CATEGORIES:Adult Connections,Adults,Beer and Wine,Dance,Hobby/Enthusiast,Music,Senior,Social,Star,Young Adults
ATTACH;FMTTYPE=image/jpeg:https://thepinestimes.com/wp-content/uploads/Starworks-Cafe-and-Taproom-Feature.jpg
END:VEVENT
BEGIN:VEVENT
DTSTART;TZID=America/New_York:20260219T190000
DTEND;TZID=America/New_York:20260219T210000
DTSTAMP:20260422T101435
CREATED:20250709T161836Z
LAST-MODIFIED:20260105T175949Z
UID:10078808-1771527600-1771534800@thepinestimes.com
SUMMARY:Open Mic Night
DESCRIPTION:Join at Starworks Cafe and Taproom for Open Mic Night\, happening every third Thursday from 7pm-9pm! Singers\, poets\, comedians and performers of all kinds are welcome to take the stage. This free\, monthly event is open to the public and hosted by Rod Brady in a fun\, welcoming space. \n 
URL:https://thepinestimes.com/event/open-mic-night/2026-02-19/
LOCATION:STARworks Cafe and Taproom\, 100 Russell Drive\, Star\, NC\, 27356\, United States
CATEGORIES:Adults,Hobby/Enthusiast,Night Life,Out of Town,Senior,Social,Star
ATTACH;FMTTYPE=image/png:https://thepinestimes.com/wp-content/uploads/Oprn-Mic-Night.png
END:VEVENT
BEGIN:VEVENT
DTSTART;TZID=America/New_York:20260122T183000
DTEND;TZID=America/New_York:20260122T203000
DTSTAMP:20260422T101435
CREATED:20251122T154817Z
LAST-MODIFIED:20260112T215026Z
UID:10075512-1769106600-1769113800@thepinestimes.com
SUMMARY:Live Music: Jazz Duo Soul Noises
DESCRIPTION:Enjoy live music at Starworks Cafe & Taproom on Thursday\, January 22nd! Jazz Duo Soul Noises will be performing from 6:30pm-8:30pm. \n \n  \n 
URL:https://thepinestimes.com/event/live-music-jazz-duo-soul-noises/
LOCATION:STARworks Cafe and Taproom\, 100 Russell Drive\, Star\, NC\, 27356\, United States
CATEGORIES:Adult Connections,Adults,Beer and Wine,Hobby/Enthusiast,Live Music,Music,Night Life,Social,Star
ATTACH;FMTTYPE=image/jpeg:https://thepinestimes.com/wp-content/uploads/LiveMusicFeature.jpg
ORGANIZER;CN="Starworks":MAILTO:communications@starworksnc.org
END:VEVENT
BEGIN:VEVENT
DTSTART;TZID=America/New_York:20260116T183000
DTEND;TZID=America/New_York:20260116T203000
DTSTAMP:20260422T101435
CREATED:20260112T213259Z
LAST-MODIFIED:20260112T213259Z
UID:10079318-1768588200-1768595400@thepinestimes.com
SUMMARY:Star Saloon Classic Country Vinyl Night
DESCRIPTION:Dust off your boots and head over to Starworks Cafe & Taproom for a night of timeless tunes. Star Saloon will feature a classic country vinyl night featuring DJ Rounder spinning all your favorite vintage tracks\, taking place every third Friday. The music kicks off Friday\, January 16th\, from 6:30pm-8:30pm. This event is free and open to the public. Whether you are a die-hard vinyl collector or just looking for a fun evening out\, the Star Saloon welcomes everyone.
URL:https://thepinestimes.com/event/star-saloon-classic-country-vinyl-night/2026-01-16/
LOCATION:STARworks Cafe and Taproom\, 100 Russell Drive\, Star\, NC\, 27356\, United States
CATEGORIES:Adult Connections,Adults,Beer and Wine,Dance,Hobby/Enthusiast,Music,Senior,Social,Star,Young Adults
ATTACH;FMTTYPE=image/jpeg:https://thepinestimes.com/wp-content/uploads/Starworks-Cafe-and-Taproom-Feature.jpg
END:VEVENT
BEGIN:VEVENT
DTSTART;TZID=America/New_York:20260115T190000
DTEND;TZID=America/New_York:20260115T210000
DTSTAMP:20260422T101435
CREATED:20250709T161836Z
LAST-MODIFIED:20260105T175949Z
UID:10078807-1768503600-1768510800@thepinestimes.com
SUMMARY:Open Mic Night
DESCRIPTION:Join at Starworks Cafe and Taproom for Open Mic Night\, happening every third Thursday from 7pm-9pm! Singers\, poets\, comedians and performers of all kinds are welcome to take the stage. This free\, monthly event is open to the public and hosted by Rod Brady in a fun\, welcoming space. \n 
URL:https://thepinestimes.com/event/open-mic-night/2026-01-15/
LOCATION:STARworks Cafe and Taproom\, 100 Russell Drive\, Star\, NC\, 27356\, United States
CATEGORIES:Adults,Hobby/Enthusiast,Night Life,Out of Town,Senior,Social,Star
ATTACH;FMTTYPE=image/png:https://thepinestimes.com/wp-content/uploads/Oprn-Mic-Night.png
END:VEVENT
BEGIN:VEVENT
DTSTART;TZID=America/New_York:20251220T190000
DTEND;TZID=America/New_York:20251220T220000
DTSTAMP:20260422T101435
CREATED:20250709T163301Z
LAST-MODIFIED:20251218T180256Z
UID:10063094-1766257200-1766268000@thepinestimes.com
SUMMARY:Karaoke Night
DESCRIPTION:Join at Starworks Cafe and Taproom for Cosmic Karaoke on the first Friday of each month! Solos\, duets and groups are all encouraged to perform. Spectators are always welcome. Come early for a family friendly karaoke from 7pm-9pm. Adults Only (Cosmic Karaoke!) runs from 9pm-10pm.
URL:https://thepinestimes.com/event/karaoke-night/
LOCATION:STARworks Cafe and Taproom\, 100 Russell Drive\, Star\, NC\, 27356\, United States
CATEGORIES:Adults,Hobby/Enthusiast,Night Life,Out of Town,Senior,Social,Star
ATTACH;FMTTYPE=image/png:https://thepinestimes.com/wp-content/uploads/Karaoke-e1754409547503.png
END:VEVENT
BEGIN:VEVENT
DTSTART;TZID=America/New_York:20251218T190000
DTEND;TZID=America/New_York:20251218T210000
DTSTAMP:20260422T101435
CREATED:20250709T161836Z
LAST-MODIFIED:20260105T175949Z
UID:10063087-1766084400-1766091600@thepinestimes.com
SUMMARY:Open Mic Night
DESCRIPTION:Join at Starworks Cafe and Taproom for Open Mic Night\, happening every third Thursday from 7pm-9pm! Singers\, poets\, comedians and performers of all kinds are welcome to take the stage. This free\, monthly event is open to the public and hosted by Rod Brady in a fun\, welcoming space. \n 
URL:https://thepinestimes.com/event/open-mic-night/2025-12-18/
LOCATION:STARworks Cafe and Taproom\, 100 Russell Drive\, Star\, NC\, 27356\, United States
CATEGORIES:Adults,Hobby/Enthusiast,Night Life,Out of Town,Senior,Social,Star
ATTACH;FMTTYPE=image/png:https://thepinestimes.com/wp-content/uploads/Oprn-Mic-Night.png
END:VEVENT
BEGIN:VEVENT
DTSTART;TZID=America/New_York:20251122T090000
DTEND;TZID=America/New_York:20251122T090000
DTSTAMP:20260422T101435
CREATED:20251118T201853Z
LAST-MODIFIED:20251118T222548Z
UID:10075423-1763802000-1763802000@thepinestimes.com
SUMMARY:Starworks Holiday Market Opening 2025
DESCRIPTION:Experience the magical Starworks Holiday Market starting on Opening Day\, Saturday\, November 22nd\, from 9:00am-5:00pm. The talented glass artists have crafted thousands of hand-blown treasures\, including ornaments\, trees\, snowmen\, and angels\, all available for purchase. All proceeds support Starworks educational programs. \nThe Opening Day celebration will feature live glassblowing demonstrations throughout the afternoon\, with narrated sessions at 1:00pm and 3:00pm. Enjoy live music from Jamie Trout from 1:00pm-3:00on\, and savor delicious food from local trucks Las Cebollitas and Cookies & Moore from 11:00am-3:00pm. \nYou can shop in person at The School House Gallery at Starworks\, open Monday through Saturday\, 9:00am-5:00pm\, with late hours during the Carolina Christmas Train. \n \n 
URL:https://thepinestimes.com/event/starworks-holiday-market-2025/
LOCATION:STARworks Cafe and Taproom\, 100 Russell Drive\, Star\, NC\, 27356\, United States
CATEGORIES:Art/Photography,Arts,Christmas,Markets,Music,Star
ATTACH;FMTTYPE=image/jpeg:https://thepinestimes.com/wp-content/uploads/StarworksFeature.jpg
END:VEVENT
BEGIN:VEVENT
DTSTART;TZID=America/New_York:20251120T190000
DTEND;TZID=America/New_York:20251120T210000
DTSTAMP:20260422T101435
CREATED:20250709T161836Z
LAST-MODIFIED:20260105T175949Z
UID:10063086-1763665200-1763672400@thepinestimes.com
SUMMARY:Open Mic Night
DESCRIPTION:Join at Starworks Cafe and Taproom for Open Mic Night\, happening every third Thursday from 7pm-9pm! Singers\, poets\, comedians and performers of all kinds are welcome to take the stage. This free\, monthly event is open to the public and hosted by Rod Brady in a fun\, welcoming space. \n 
URL:https://thepinestimes.com/event/open-mic-night/2025-11-20/
LOCATION:STARworks Cafe and Taproom\, 100 Russell Drive\, Star\, NC\, 27356\, United States
CATEGORIES:Adults,Hobby/Enthusiast,Night Life,Out of Town,Senior,Social,Star
ATTACH;FMTTYPE=image/png:https://thepinestimes.com/wp-content/uploads/Oprn-Mic-Night.png
END:VEVENT
BEGIN:VEVENT
DTSTART;TZID=America/New_York:20251016T190000
DTEND;TZID=America/New_York:20251016T210000
DTSTAMP:20260422T101435
CREATED:20250709T161836Z
LAST-MODIFIED:20260105T175949Z
UID:10063085-1760641200-1760648400@thepinestimes.com
SUMMARY:Open Mic Night
DESCRIPTION:Join at Starworks Cafe and Taproom for Open Mic Night\, happening every third Thursday from 7pm-9pm! Singers\, poets\, comedians and performers of all kinds are welcome to take the stage. This free\, monthly event is open to the public and hosted by Rod Brady in a fun\, welcoming space. \n 
URL:https://thepinestimes.com/event/open-mic-night/2025-10-16/
LOCATION:STARworks Cafe and Taproom\, 100 Russell Drive\, Star\, NC\, 27356\, United States
CATEGORIES:Adults,Hobby/Enthusiast,Night Life,Out of Town,Senior,Social,Star
ATTACH;FMTTYPE=image/png:https://thepinestimes.com/wp-content/uploads/Oprn-Mic-Night.png
END:VEVENT
BEGIN:VEVENT
DTSTART;TZID=America/New_York:20250918T190000
DTEND;TZID=America/New_York:20250918T210000
DTSTAMP:20260422T101435
CREATED:20250709T161836Z
LAST-MODIFIED:20260105T175949Z
UID:10063084-1758222000-1758229200@thepinestimes.com
SUMMARY:Open Mic Night
DESCRIPTION:Join at Starworks Cafe and Taproom for Open Mic Night\, happening every third Thursday from 7pm-9pm! Singers\, poets\, comedians and performers of all kinds are welcome to take the stage. This free\, monthly event is open to the public and hosted by Rod Brady in a fun\, welcoming space. \n 
URL:https://thepinestimes.com/event/open-mic-night/2025-09-18/
LOCATION:STARworks Cafe and Taproom\, 100 Russell Drive\, Star\, NC\, 27356\, United States
CATEGORIES:Adults,Hobby/Enthusiast,Night Life,Out of Town,Senior,Social,Star
ATTACH;FMTTYPE=image/png:https://thepinestimes.com/wp-content/uploads/Oprn-Mic-Night.png
END:VEVENT
BEGIN:VEVENT
DTSTART;TZID=America/New_York:20250821T190000
DTEND;TZID=America/New_York:20250821T210000
DTSTAMP:20260422T101435
CREATED:20250709T161836Z
LAST-MODIFIED:20260105T175949Z
UID:10063083-1755802800-1755810000@thepinestimes.com
SUMMARY:Open Mic Night
DESCRIPTION:Join at Starworks Cafe and Taproom for Open Mic Night\, happening every third Thursday from 7pm-9pm! Singers\, poets\, comedians and performers of all kinds are welcome to take the stage. This free\, monthly event is open to the public and hosted by Rod Brady in a fun\, welcoming space. \n 
URL:https://thepinestimes.com/event/open-mic-night/2025-08-21/
LOCATION:STARworks Cafe and Taproom\, 100 Russell Drive\, Star\, NC\, 27356\, United States
CATEGORIES:Adults,Hobby/Enthusiast,Night Life,Out of Town,Senior,Social,Star
ATTACH;FMTTYPE=image/png:https://thepinestimes.com/wp-content/uploads/Oprn-Mic-Night.png
END:VEVENT
BEGIN:VEVENT
DTSTART;TZID=America/New_York:20250717T190000
DTEND;TZID=America/New_York:20250717T210000
DTSTAMP:20260422T101435
CREATED:20250709T161836Z
LAST-MODIFIED:20260105T175949Z
UID:10063082-1752778800-1752786000@thepinestimes.com
SUMMARY:Open Mic Night
DESCRIPTION:Join at Starworks Cafe and Taproom for Open Mic Night\, happening every third Thursday from 7pm-9pm! Singers\, poets\, comedians and performers of all kinds are welcome to take the stage. This free\, monthly event is open to the public and hosted by Rod Brady in a fun\, welcoming space. \n 
URL:https://thepinestimes.com/event/open-mic-night/2025-07-17/
LOCATION:STARworks Cafe and Taproom\, 100 Russell Drive\, Star\, NC\, 27356\, United States
CATEGORIES:Adults,Hobby/Enthusiast,Night Life,Out of Town,Senior,Social,Star
ATTACH;FMTTYPE=image/png:https://thepinestimes.com/wp-content/uploads/Oprn-Mic-Night.png
END:VEVENT
BEGIN:VEVENT
DTSTART;TZID=America/New_York:20250222T180000
DTEND;TZID=America/New_York:20250222T180000
DTSTAMP:20260422T101435
CREATED:20250101T163819Z
LAST-MODIFIED:20250101T163819Z
UID:10051924-1740247200-1740247200@thepinestimes.com
SUMMARY:Jigsaw Jamboree Puzzle Competition
DESCRIPTION:Join for the Starworks Jigsaw Jamboree puzzle competition on Saturday\, February 22nd at 6:00pm! Be the first of 8 teams to complete the 500-piece puzzle and win the grand prize! Hosted at Starworks Cafe & Taproom with special guest host\, puzzle designer Lois Sutton. There will be a grand prize for the winning team and each participating team will take their puzzle home. Teams must be 1-4 people; registration is $20 per team. Spectators are permitted. For full details and online registration\, follow the event website link provided below.
URL:https://thepinestimes.com/event/jigsaw-jamboree-puzzle-competition/
LOCATION:STARworks Cafe and Taproom\, 100 Russell Drive\, Star\, NC\, 27356\, United States
CATEGORIES:Adults,Contest,Games,Hobby/Enthusiast,Live Entertainment,Out of Town,Social,Star
ATTACH;FMTTYPE=image/jpeg:https://thepinestimes.com/wp-content/uploads/StarworksFeature.jpg
ORGANIZER;CN="Starworks":MAILTO:communications@starworksnc.org
END:VEVENT
BEGIN:VEVENT
DTSTART;TZID=America/New_York:20250123T190000
DTEND;TZID=America/New_York:20250123T210000
DTSTAMP:20260422T101435
CREATED:20241009T143728Z
LAST-MODIFIED:20250709T161205Z
UID:10045573-1737658800-1737666000@thepinestimes.com
SUMMARY:Old Time Jam
DESCRIPTION:Join at Starworks Cafe and Taproom for an Old Time Jam! All are welcome as folks bring in their instruments and strum along with new and old friends. The Old Time Jam takes place every 4th Thursday of the month 7pm-9pm. The event is family and dog friendly. \n 
URL:https://thepinestimes.com/event/old-time-jam-2/
LOCATION:STARworks Cafe and Taproom\, 100 Russell Drive\, Star\, NC\, 27356\, United States
CATEGORIES:Adults,Family,Hobby/Enthusiast,Live Entertainment,Live Music,Senior,Social,Star
ATTACH;FMTTYPE=image/jpeg:https://thepinestimes.com/wp-content/uploads/StarworksFeature.jpg
END:VEVENT
END:VCALENDAR