BEGIN:VCALENDAR
VERSION:2.0
PRODID:-//The Pines Times - ECPv6.15.20//NONSGML v1.0//EN
CALSCALE:GREGORIAN
METHOD:PUBLISH
X-ORIGINAL-URL:https://thepinestimes.com
X-WR-CALDESC:Events for The Pines Times
REFRESH-INTERVAL;VALUE=DURATION:PT1H
X-Robots-Tag:noindex
X-PUBLISHED-TTL:PT1H
BEGIN:VTIMEZONE
TZID:America/New_York
BEGIN:DAYLIGHT
TZOFFSETFROM:-0500
TZOFFSETTO:-0400
TZNAME:EDT
DTSTART:20250309T070000
END:DAYLIGHT
BEGIN:STANDARD
TZOFFSETFROM:-0400
TZOFFSETTO:-0500
TZNAME:EST
DTSTART:20251102T060000
END:STANDARD
BEGIN:DAYLIGHT
TZOFFSETFROM:-0500
TZOFFSETTO:-0400
TZNAME:EDT
DTSTART:20260308T070000
END:DAYLIGHT
BEGIN:STANDARD
TZOFFSETFROM:-0400
TZOFFSETTO:-0500
TZNAME:EST
DTSTART:20261101T060000
END:STANDARD
BEGIN:DAYLIGHT
TZOFFSETFROM:-0500
TZOFFSETTO:-0400
TZNAME:EDT
DTSTART:20270314T070000
END:DAYLIGHT
BEGIN:STANDARD
TZOFFSETFROM:-0400
TZOFFSETTO:-0500
TZNAME:EST
DTSTART:20271107T060000
END:STANDARD
END:VTIMEZONE
BEGIN:VEVENT
DTSTART;TZID=America/New_York:20260421T180000
DTEND;TZID=America/New_York:20260421T200000
DTSTAMP:20260419T141500
CREATED:20260419T155124Z
LAST-MODIFIED:20260419T155151Z
UID:10086947-1776794400-1776801600@thepinestimes.com
SUMMARY:Crafts & Laughs: Journal Club
DESCRIPTION:Join Journal Club at Tasting Queens Market in Sanford on Tuesday\, April 21st\, from 6PM-8PM! This craft meet up invites you to decorate your inside pages journal spreads to create one-of-a-kind junk\, bullet\, art\, or scrapbooking journal using collage materials\, paper\, stickers\, photos and fun embellishments—including a diverse group of tools! \nBring your own journal\, and/or supplies or I’ll bring it all for you! This beginner-friendly craft meet up is perfect for creatives\, journal lovers\, and anyone looking for a fun weeknight activity in Sanford—make some friends and zone out and relax by creating!\nNo experience needed—just come ready to relax\, laugh\, and make something beautiful and YOU! \nPerfect for fans of DIY crafts\, journaling\, creative workshops\, and community events.
URL:https://thepinestimes.com/event/journal-club/
LOCATION:Tasting Queens Market\, 1218 Hawkins Ave.\, Sanford\, 27330\, United States
ATTACH;FMTTYPE=image/jpeg:https://thepinestimes.com/wp-content/uploads/CraftsAndLaughsFeature.jpg
ORGANIZER;CN="Tasting Queens Market":MAILTO:tastingqueensmarket@gmail.com
END:VEVENT
END:VCALENDAR