BEGIN:VCALENDAR
VERSION:2.0
PRODID:-//The Pines Times - ECPv6.15.20//NONSGML v1.0//EN
CALSCALE:GREGORIAN
METHOD:PUBLISH
X-ORIGINAL-URL:https://thepinestimes.com
X-WR-CALDESC:Events for The Pines Times
REFRESH-INTERVAL;VALUE=DURATION:PT1H
X-Robots-Tag:noindex
X-PUBLISHED-TTL:PT1H
BEGIN:VTIMEZONE
TZID:America/New_York
BEGIN:DAYLIGHT
TZOFFSETFROM:-0500
TZOFFSETTO:-0400
TZNAME:EDT
DTSTART:20240310T070000
END:DAYLIGHT
BEGIN:STANDARD
TZOFFSETFROM:-0400
TZOFFSETTO:-0500
TZNAME:EST
DTSTART:20241103T060000
END:STANDARD
BEGIN:DAYLIGHT
TZOFFSETFROM:-0500
TZOFFSETTO:-0400
TZNAME:EDT
DTSTART:20250309T070000
END:DAYLIGHT
BEGIN:STANDARD
TZOFFSETFROM:-0400
TZOFFSETTO:-0500
TZNAME:EST
DTSTART:20251102T060000
END:STANDARD
BEGIN:DAYLIGHT
TZOFFSETFROM:-0500
TZOFFSETTO:-0400
TZNAME:EDT
DTSTART:20260308T070000
END:DAYLIGHT
BEGIN:STANDARD
TZOFFSETFROM:-0400
TZOFFSETTO:-0500
TZNAME:EST
DTSTART:20261101T060000
END:STANDARD
BEGIN:DAYLIGHT
TZOFFSETFROM:-0500
TZOFFSETTO:-0400
TZNAME:EDT
DTSTART:20270314T070000
END:DAYLIGHT
BEGIN:STANDARD
TZOFFSETFROM:-0400
TZOFFSETTO:-0500
TZNAME:EST
DTSTART:20271107T060000
END:STANDARD
END:VTIMEZONE
BEGIN:VEVENT
DTSTART;TZID=America/New_York:20260106T183000
DTEND;TZID=America/New_York:20260106T203000
DTSTAMP:20260424T104711
CREATED:20251202T180602Z
LAST-MODIFIED:20251231T144720Z
UID:10076839-1767724200-1767731400@thepinestimes.com
SUMMARY:New Year Snow Man Paint Party
DESCRIPTION:Celebrate the start of the year at the New Year Snowman Paint Party on Tuesday\, January 6th. Hosted by Ingrid Bullen with Brushes & Blessings Art\, this event begins at 6:30pm at Terrace Ridge Farm in Carthage. Paint a festive “Happy New Year Snowman” on an 11 x 14 canvas while enjoying light refreshments provided at the event. The cost to attend is $35 per person. To ensure your spot\, please register by January 4th by using the QR code on the flyer or contacting the host directly. You can reach Ingrid Bullen by phone at (910) 215-4609 or via email at ingridbrushesandblessingsart@gmail.com for more information. For full details and registration\, follow the event link provided below. \n \n 
URL:https://thepinestimes.com/event/new-year-snow-man-paint-party/
LOCATION:Terrace Ridge Farm\, 208 Ring Rd.\, Carthage\, 28327\, United States
CATEGORIES:Adults,Art/Photography,Arts,Carthage Events,Christmas,Crafts,Hobby/Enthusiast,Holiday Events,Social,Young Adults
ATTACH;FMTTYPE=image/jpeg:https://thepinestimes.com/wp-content/uploads/BrushesAndBlessingsArtFeature.jpg
END:VEVENT
BEGIN:VEVENT
DTSTART;TZID=America/New_York:20251206T110000
DTEND;TZID=America/New_York:20251206T150000
DTSTAMP:20260424T104711
CREATED:20251202T172651Z
LAST-MODIFIED:20251202T172651Z
UID:10076838-1765018800-1765033200@thepinestimes.com
SUMMARY:Christmas on the Farm
DESCRIPTION:Terrace Ridge Farm in Carthage invites you to celebrate the Christmas season this Saturday\, December 6th as a drop-in event from 11:00am-3:00pm. Come enjoy fellowship\, tasty treats\, hayrides\, and the warm country charm. A special visit from Santa will be available from 12:00pm-2:00pm. The organizers are asking for an RSVP to help with planning for the number of families attending. Call 910-639-8115 or email info@terraceridgefarm.com to rsvp.
URL:https://thepinestimes.com/event/christmas-on-the-farm/
LOCATION:Terrace Ridge Farm\, 208 Ring Rd.\, Carthage\, 28327\, United States
CATEGORIES:Carthage Events,Children,Christmas,Family,Farm Event,Finding Santa,Finding Santa,Holiday Events,Nature/Outdoors,Piney's Kids,Piney's Tiny's,Santa,Social,Teen Activities,Young Adults
ATTACH;FMTTYPE=image/jpeg:https://thepinestimes.com/wp-content/uploads/TerraceRidgeFarmFeature.jpg
ORGANIZER;CN="Terrace Ridge Farm%2C LLC":MAILTO:info@terraceridgefarm.com
END:VEVENT
BEGIN:VEVENT
DTSTART;TZID=America/New_York:20250923T183000
DTEND;TZID=America/New_York:20250923T203000
DTSTAMP:20260424T104711
CREATED:20250901T201005Z
LAST-MODIFIED:20250901T201005Z
UID:10067157-1758652200-1758659400@thepinestimes.com
SUMMARY:Brushes & Blessings Paint Party "Honey the Highlander"
DESCRIPTION:Terrace Ridge Farm will host a Brushes & Blessings Paint Party on Tuesday\, September 23rd | 6:30pm-8:30pm in the Big Red Barn. Kick off fall with a fun evening of painting “Honey the Highlander” on an 11×14 canvas\, while enjoying light refreshments. No experience needed—just come ready to relax and create! Cost is $35. Sign up by September 18th through the event website link provided below.
URL:https://thepinestimes.com/event/brushes-blessings-paint-party-honey-the-highlander/
LOCATION:Terrace Ridge Farm\, 208 Ring Rd.\, Carthage\, 28327\, United States
CATEGORIES:Art/Craft Workshops,Art/Photography,Arts,Carthage Events,Crafts,Educational,Hobby/Enthusiast,Social
ATTACH;FMTTYPE=image/jpeg:https://thepinestimes.com/wp-content/uploads/BrushesAndBlessingsArtFeature.jpg
END:VEVENT
END:VCALENDAR