BEGIN:VCALENDAR
VERSION:2.0
PRODID:-//The Pines Times - ECPv6.15.20//NONSGML v1.0//EN
CALSCALE:GREGORIAN
METHOD:PUBLISH
X-ORIGINAL-URL:https://thepinestimes.com
X-WR-CALDESC:Events for The Pines Times
REFRESH-INTERVAL;VALUE=DURATION:PT1H
X-Robots-Tag:noindex
X-PUBLISHED-TTL:PT1H
BEGIN:VTIMEZONE
TZID:America/New_York
BEGIN:DAYLIGHT
TZOFFSETFROM:-0500
TZOFFSETTO:-0400
TZNAME:EDT
DTSTART:20250309T070000
END:DAYLIGHT
BEGIN:STANDARD
TZOFFSETFROM:-0400
TZOFFSETTO:-0500
TZNAME:EST
DTSTART:20251102T060000
END:STANDARD
BEGIN:DAYLIGHT
TZOFFSETFROM:-0500
TZOFFSETTO:-0400
TZNAME:EDT
DTSTART:20260308T070000
END:DAYLIGHT
BEGIN:STANDARD
TZOFFSETFROM:-0400
TZOFFSETTO:-0500
TZNAME:EST
DTSTART:20261101T060000
END:STANDARD
BEGIN:DAYLIGHT
TZOFFSETFROM:-0500
TZOFFSETTO:-0400
TZNAME:EDT
DTSTART:20270314T070000
END:DAYLIGHT
BEGIN:STANDARD
TZOFFSETFROM:-0400
TZOFFSETTO:-0500
TZNAME:EST
DTSTART:20271107T060000
END:STANDARD
END:VTIMEZONE
BEGIN:VEVENT
DTSTART;TZID=America/New_York:20260404T193000
DTEND;TZID=America/New_York:20260404T230000
DTSTAMP:20260422T140420
CREATED:20260222T144558Z
LAST-MODIFIED:20260402T140255Z
UID:10081477-1775331000-1775343600@thepinestimes.com
SUMMARY:Easter Weekend Glow Golf
DESCRIPTION:Pinehurst Resort is hosting a Easter Weekend Glow Golf event at The Cradle Short Course on Saturday\, April 4th\, from 8PM-11PM! \n“Kick off Easter Weekend at The Cradle with one of the newest and coolest trends on the links\, Glow Golf. Just because the sun has set and the Carolina blue skies have waned does not mean golf at Pinehurst is done for the day. The Cradle and Thistle Dhu\, our 18-hole putting course\, will be lit and waiting as you take aim at glowing pin sticks utilizing the GlowV2 ball\, which performs just as well as a standard golf ball.” \nFull details can be found through the event website link provided below.
URL:https://thepinestimes.com/event/easter-weekend-glow-golf/
LOCATION:The Cradle\, 1 Carolina Vis.\, Pinehurst\, NC\, 28374\, United States
CATEGORIES:Adults,Easter,Family,Games,Hobby/Enthusiast,Holiday Events,Pinehurst Events,Senior,Social,Teen Activities,Young Adults
ATTACH;FMTTYPE=image/jpeg:https://thepinestimes.com/wp-content/uploads/GlowGolfFeature-1.jpg
END:VEVENT
BEGIN:VEVENT
DTSTART;TZID=America/New_York:20260301T130000
DTEND;TZID=America/New_York:20260301T183000
DTSTAMP:20260422T140420
CREATED:20240116T151720Z
LAST-MODIFIED:20260209T150226Z
UID:10027645-1772370000-1772389800@thepinestimes.com
SUMMARY:Kick Back at The Cradle 2026
DESCRIPTION:Join as First Tee Sandhills presents the annual Kick Back at The Cradle on Sunday\, March 1st from 1pm until dark! Where Family and Golf Come Together – Kick Back At The Cradle! Join at Pinehurst Resort & Country Club to Kick Back at The Cradle\, First Tee style! Designed with each of our kid-at-heart in mind\, it will be an event full of fun. \nYour Donation will include: \n-One (1) Round of Golf on The Cradle\n-One (1) Meal Voucher for a Grab & Go Afternoon Snack\n-One (1) 2026 Kick Back at The Cradle Surprise Gift\n-A round of Putt Putt on Thistle Dhu\n-Unlimited Shots at the Golfzilla and his friends and\, a Ton of Memories to Kick Off Spring in the Sandhills \nYouth tickets are $25 and adult tickets are $50. There are also Adult + Junior All Access Ticket & Six and Under Play Ticket options. Proceeds collected benefit First Tee Sandhills. For full details and online ticket purchases\, follow the event website link provided below. \n \n  \n 
URL:https://thepinestimes.com/event/kick-back-at-the-cradle-2026/
LOCATION:The Cradle\, 1 Carolina Vis.\, Pinehurst\, NC\, 28374\, United States
CATEGORIES:Children,Donation,Family,Fundraiser,Games,Golf,Health & Wellness,Hobby/Enthusiast,Nature/Outdoors,Pinehurst Events,Piney's Kids,Social,Sports,St. Patrick's Day,Teen Activities
ATTACH;FMTTYPE=image/jpeg:https://thepinestimes.com/wp-content/uploads/FirstTeeSandhillsFeature.jpg
END:VEVENT
END:VCALENDAR