BEGIN:VCALENDAR
VERSION:2.0
PRODID:-//The Pines Times - ECPv6.15.20//NONSGML v1.0//EN
CALSCALE:GREGORIAN
METHOD:PUBLISH
X-WR-CALNAME:The Pines Times
X-ORIGINAL-URL:https://thepinestimes.com
X-WR-CALDESC:Events for The Pines Times
REFRESH-INTERVAL;VALUE=DURATION:PT1H
X-Robots-Tag:noindex
X-PUBLISHED-TTL:PT1H
BEGIN:VTIMEZONE
TZID:America/New_York
BEGIN:DAYLIGHT
TZOFFSETFROM:-0500
TZOFFSETTO:-0400
TZNAME:EDT
DTSTART:20250309T070000
END:DAYLIGHT
BEGIN:STANDARD
TZOFFSETFROM:-0400
TZOFFSETTO:-0500
TZNAME:EST
DTSTART:20251102T060000
END:STANDARD
BEGIN:DAYLIGHT
TZOFFSETFROM:-0500
TZOFFSETTO:-0400
TZNAME:EDT
DTSTART:20260308T070000
END:DAYLIGHT
BEGIN:STANDARD
TZOFFSETFROM:-0400
TZOFFSETTO:-0500
TZNAME:EST
DTSTART:20261101T060000
END:STANDARD
BEGIN:DAYLIGHT
TZOFFSETFROM:-0500
TZOFFSETTO:-0400
TZNAME:EDT
DTSTART:20270314T070000
END:DAYLIGHT
BEGIN:STANDARD
TZOFFSETFROM:-0400
TZOFFSETTO:-0500
TZNAME:EST
DTSTART:20271107T060000
END:STANDARD
END:VTIMEZONE
BEGIN:VEVENT
DTSTART;TZID=America/New_York:20260426T160000
DTEND;TZID=America/New_York:20260426T190000
DTSTAMP:20260420T094315
CREATED:20260419T180244Z
LAST-MODIFIED:20260419T180244Z
UID:10086963-1777219200-1777230000@thepinestimes.com
SUMMARY:Daddy Daughter Royal Ball 2026
DESCRIPTION:Join for the 2026 Daddy Daughter Royal Ball with Once Upon a Fairytale! The event takes place on Sunday\, April 26th\, 4PM-7PM at The Fair Barn in Pinehurst. \nMoCo’s most magical & fabulous event celebrating one of the most important relationships in the world; a Dad & his daughter(s)! Prepare to be dazzled and entertained as you spend a wonderful evening with your daughter(s)\, in our enchanted forest wonderland! Spend time with their favorite princesses\, enjoy a horsedrawn carriage ride\, try a craft\, dance with fairies\, visit the storytime den\, dine on delicious food\, and then dance the evening away\, creating a cherished\, forever memory with her! \nVIP hour 3PM-4PM includes exclusive time with our princesses\, hair & makeup\, a swag bag\, ‘champagne’ and cookies\, and early access to the carriages. Main event doors open promptly at 4pm.
URL:https://thepinestimes.com/event/daddy-daughter-royal-ball-2026/
LOCATION:The Fair Barn\, 200 Beulah Hill Rd.\, Pinehurst\, NC North Carolina\, 28374
CATEGORIES:Children,Dance,Family,Music,Pinehurst Events,Piney's Kids,Piney's Tiny's,Social,Teen Activities
ATTACH;FMTTYPE=image/jpeg:https://thepinestimes.com/wp-content/uploads/DaddyDaughterRoyalBallFeature.jpg
END:VEVENT
BEGIN:VEVENT
DTSTART;TZID=America/New_York:20260430T100000
DTEND;TZID=America/New_York:20260430T130000
DTSTAMP:20260420T094315
CREATED:20260222T172917Z
LAST-MODIFIED:20260222T173029Z
UID:10081492-1777543200-1777554000@thepinestimes.com
SUMMARY:Hearing Loss and Accessibility Seminar 2026
DESCRIPTION:The Relay NC Hearing Loss and Accessibility Seminar 2026 is an empowering event designed to help individuals discover modern accessibility services and assistive listening devices. Hosted at The Fair Barn in Pinehurst\, on April 30th\, from 10:00am-1:00pm\, this seminar offers participants deep insights into resources that enhance independence across home\, work\, and recreational environments. Attendees can explore a variety of new vendor showcases and presentations focused on the latest technological advancements in the field. \nFocus: Assistive listening devices and accessibility resources \nIt is free to attend. Registration can be completed through the event website link provided below.
URL:https://thepinestimes.com/event/hearing-loss-and-accessibility-seminar-2026/
LOCATION:The Fair Barn\, 200 Beulah Hill Rd.\, Pinehurst\, NC North Carolina\, 28374
CATEGORIES:Adults,Health & Wellness,Pinehurst Events,Seminar,Senior,Social
ATTACH;FMTTYPE=image/jpeg:https://thepinestimes.com/wp-content/uploads/HearingLossSeminarPinehurstFeature.jpg
END:VEVENT
BEGIN:VEVENT
DTSTART;TZID=America/New_York:20260501T180000
DTEND;TZID=America/New_York:20260501T220000
DTSTAMP:20260420T094315
CREATED:20260309T161830Z
LAST-MODIFIED:20260309T161830Z
UID:10083000-1777658400-1777672800@thepinestimes.com
SUMMARY:Bourbon & Berets 2026
DESCRIPTION:Bourbon & Berets is more than a great night out — it’s a meaningful way for our community to stand shoulder to shoulder with the Green Berets who have sacrificed so much in service to our country. Hosted in support of the Special Forces Trust\, this event brings together family\, neighbors\, business leaders\, and supporters who believe that service doesn’t end when the uniform comes off. So come for the music\, stay for the bourbon\, and leave knowing you were part of something bigger. \nThe first annual Bourbon & Berets event is scheduled for Friday\, May 1st\, from 6:00PM-10:00PM at The Fair Barn in Pinehurst. This community gathering serves as a fundraiser for the Special Forces Trust and features a packed schedule of live entertainment\, including a performance of the National Anthem by Scarlet Tantrum and sets by Michael Ray\, BoneS Fork\, and American Idol contestant Elijah McCormick performing with Tony Barnes. Attendees can also witness a live parachute jump into the field and participate in various raffles and auctions. \nThe evening includes unlimited food\, wine\, and beer for all adult ticket holders\, with an optional $15 add-on for unlimited bourbon tastings. Family-friendly activities are available throughout the night\, such as face painting and a petting farm experience for children. Early bird tickets are currently available for $55 for military members and $65 for civilians\, with prices increasing by $5 two weeks before the event and another $5 at the door. Tickets for children ages 3 to 15 are $15\, while those 2 and under may enter for free. Full details can be found through the QR code or the event website link provided below.
URL:https://thepinestimes.com/event/bourbon-berets-2026/
LOCATION:The Fair Barn\, 200 Beulah Hill Rd.\, Pinehurst\, NC North Carolina\, 28374
CATEGORIES:Adults,Auction,Donation,Food,Fundraiser,Military,Music,Pinehurst Events,Raffle,Social,Tasting,Vendors,Veterans
ATTACH;FMTTYPE=image/jpeg:https://thepinestimes.com/wp-content/uploads/BourbonBeretsFeature.jpg
ORGANIZER;CN="Special Forces Charitable Trust":MAILTO:info@specialforcescharitabletrust.org
END:VEVENT
BEGIN:VEVENT
DTSTART;TZID=America/New_York:20260507T180000
DTEND;TZID=America/New_York:20260507T200000
DTSTAMP:20260420T094315
CREATED:20260227T160023Z
LAST-MODIFIED:20260227T160326Z
UID:10081799-1778176800-1778184000@thepinestimes.com
SUMMARY:Cancer Survivors Day 2026: Kentucky Derby
DESCRIPTION:FirstHealth invites the Sandhills community to “saddle up” and save the date for Cancer Survivors Day 2026\, which will feature a Kentucky Derby theme. This annual celebration honors local cancer survivors and their supporters while raising awareness for the challenges of survivorship. The event is scheduled for Thursday\, May 7th from 6:00PM-8:00PM at The Fair Barn in Pinehurst. Attendees are encouraged to dress in their best Derby attire for an evening of festivities dedicated to celebrating life. While the event is free to attend\, registration is required. Secure your spot through the event website link provided below or by calling 800-213-3284.
URL:https://thepinestimes.com/event/cancer-survivors-day-2026-kentucky-derby/
LOCATION:The Fair Barn\, 200 Beulah Hill Rd.\, Pinehurst\, NC North Carolina\, 28374
CATEGORIES:Adults,Family,Gala,Health & Wellness,Hobby/Enthusiast,Live Entertainment,Pinehurst Events,Senior,Social
ATTACH;FMTTYPE=image/jpeg:https://thepinestimes.com/wp-content/uploads/FirstHealthSurvivorDayFeature1.jpg
END:VEVENT
BEGIN:VEVENT
DTSTART;TZID=America/New_York:20260509T173000
DTEND;TZID=America/New_York:20260509T220000
DTSTAMP:20260420T094315
CREATED:20260220T143957Z
LAST-MODIFIED:20260220T143957Z
UID:10081382-1778347800-1778364000@thepinestimes.com
SUMMARY:Union Pines Athletics: Rise Up Gala 2026
DESCRIPTION:Union Pines Athletics invites you to the Rise Up Gala on Saturday\, May 9th\, from 5:30pm-10:00pm at The Fair Barn in Pinehurst! This special evening supports Union Pines student athletes and includes dinner\, drinks\, and both live and silent auctions. Individual tickets are priced at $100\, while a table for eight can be purchased for $700\, with all tickets becoming available soon. Sponsorship opportunities are also available at three distinct levels: Blue for $500\, White for $1000\, and Viking for $2000. More details and ticket information coming soon. \n \n 
URL:https://thepinestimes.com/event/union-pines-athletics-rise-up-gala-2026/
LOCATION:The Fair Barn\, 200 Beulah Hill Rd.\, Pinehurst\, NC North Carolina\, 28374
CATEGORIES:Adults,Auction,Donation,Food,Fundraiser,Gala,Pinehurst Events,School,Senior,Social,Young Adults
ATTACH;FMTTYPE=image/jpeg:https://thepinestimes.com/wp-content/uploads/RiseUpGalaFeature.jpg
END:VEVENT
BEGIN:VEVENT
DTSTART;TZID=America/New_York:20260523T170000
DTEND;TZID=America/New_York:20260523T190000
DTSTAMP:20260420T094315
CREATED:20250206T192012Z
LAST-MODIFIED:20260318T132636Z
UID:10053465-1779555600-1779562800@thepinestimes.com
SUMMARY:"Regency Ball" 2026 Fundraiser (Postponed)
DESCRIPTION:“Thank you to everyone who was excited to help make this event as special as last year. Unfortunately\, we have made the decision to postpone the event while we reassess our plans. All authors\, vendors\, and ticket holders received details via email prior to this post\, and full refunds have been processed (please message me if you haven’t received an email – they were sent last week). We also wanted to make this decision now so our authors and vendors have enough notice and do not purchase excess inventory specifically for the ball.”
URL:https://thepinestimes.com/event/regency-ball-2026-fundraiser-postponed/
LOCATION:The Fair Barn\, 200 Beulah Hill Rd.\, Pinehurst\, NC North Carolina\, 28374
CATEGORIES:Adults,Dance,Hobby/Enthusiast,Literary Event,Music,Pinehurst Events,Senior,Social,Teen Activities,Vendors,Young Adults
ATTACH;FMTTYPE=image/jpeg:https://thepinestimes.com/wp-content/uploads/OffThePageEventCoFeature-1.jpg
END:VEVENT
BEGIN:VEVENT
DTSTART;TZID=America/New_York:20260527T173000
DTEND;TZID=America/New_York:20260527T203000
DTSTAMP:20260420T094315
CREATED:20240417T143544Z
LAST-MODIFIED:20260410T172150Z
UID:10035457-1779903000-1779913800@thepinestimes.com
SUMMARY:Arc of Moore County Annual Prom 2026: USA 250 Spring Dance
DESCRIPTION:Join as The Arc of Moore County and Pinehurst Parks & Recreation Department present the annual Prom on Wednesday\, May 27th\, from 5:30PM-8:30PM at the Fair Barn. Be a part of the USA 250 Spring Dance\, a special event celebrating the 250th birthday of the United States of America. \nGuests are encouraged to step into an evening filled with food\, music\, dancing\, and patriotic spirit! Tickets for the dance are available for $15 and can be purchased online at www.thearcofmoore.org or in person at The Arc office located at 673 S Bennett Street in Southern Pines.
URL:https://thepinestimes.com/event/arc-of-moore-county-annual-prom-2026-usa-250-spring-dance/
LOCATION:The Fair Barn\, 200 Beulah Hill Rd.\, Pinehurst\, NC North Carolina\, 28374
CATEGORIES:Adults,America 250,Children,Dance,Family,Hobby/Enthusiast,Live Entertainment,Live Music,Pinehurst Events,Social
ATTACH;FMTTYPE=image/jpeg:https://thepinestimes.com/wp-content/uploads/ArcSpringDanceFeature.jpg
END:VEVENT
END:VCALENDAR