BEGIN:VCALENDAR
VERSION:2.0
PRODID:-//The Pines Times - ECPv6.15.20//NONSGML v1.0//EN
CALSCALE:GREGORIAN
METHOD:PUBLISH
X-WR-CALNAME:The Pines Times
X-ORIGINAL-URL:https://thepinestimes.com
X-WR-CALDESC:Events for The Pines Times
REFRESH-INTERVAL;VALUE=DURATION:PT1H
X-Robots-Tag:noindex
X-PUBLISHED-TTL:PT1H
BEGIN:VTIMEZONE
TZID:America/New_York
BEGIN:DAYLIGHT
TZOFFSETFROM:-0500
TZOFFSETTO:-0400
TZNAME:EDT
DTSTART:20240310T070000
END:DAYLIGHT
BEGIN:STANDARD
TZOFFSETFROM:-0400
TZOFFSETTO:-0500
TZNAME:EST
DTSTART:20241103T060000
END:STANDARD
BEGIN:DAYLIGHT
TZOFFSETFROM:-0500
TZOFFSETTO:-0400
TZNAME:EDT
DTSTART:20250309T070000
END:DAYLIGHT
BEGIN:STANDARD
TZOFFSETFROM:-0400
TZOFFSETTO:-0500
TZNAME:EST
DTSTART:20251102T060000
END:STANDARD
BEGIN:DAYLIGHT
TZOFFSETFROM:-0500
TZOFFSETTO:-0400
TZNAME:EDT
DTSTART:20260308T070000
END:DAYLIGHT
BEGIN:STANDARD
TZOFFSETFROM:-0400
TZOFFSETTO:-0500
TZNAME:EST
DTSTART:20261101T060000
END:STANDARD
BEGIN:DAYLIGHT
TZOFFSETFROM:-0500
TZOFFSETTO:-0400
TZNAME:EDT
DTSTART:20270314T070000
END:DAYLIGHT
BEGIN:STANDARD
TZOFFSETFROM:-0400
TZOFFSETTO:-0500
TZNAME:EST
DTSTART:20271107T060000
END:STANDARD
END:VTIMEZONE
BEGIN:VEVENT
DTSTART;TZID=America/New_York:20260321T110000
DTEND;TZID=America/New_York:20260321T160000
DTSTAMP:20260425T140025
CREATED:20260313T160146Z
LAST-MODIFIED:20260313T160246Z
UID:10083405-1774090800-1774108800@thepinestimes.com
SUMMARY:The Easter Bunny Visits the Toy Shop 2026
DESCRIPTION:The Easter Bunny will be making a stop at The Little Toy Shop in Southern Pines on Saturday\, March 21st\, from 11am-4pm. They will be planting sunflowers for you to take home. Bring your camera for photo opportunities. It is free to visit. \n  \n  \n 
URL:https://thepinestimes.com/event/the-easter-bunny-visits-the-toy-shop-2026/
LOCATION:The Little Toy Shop\, 230 SW Broad St\, Southern Pines\, NC\, 28387\, United States
CATEGORIES:Arts,Children,Easter,Family,Holiday Events,Piney's Kids,Piney's Tiny's,Social,Southern Pines Events
ATTACH;FMTTYPE=image/jpeg:https://thepinestimes.com/wp-content/uploads/The-Little-Toy-Shop-Feature.jpg
END:VEVENT
BEGIN:VEVENT
DTSTART;TZID=America/New_York:20251129T100000
DTEND;TZID=America/New_York:20251129T160000
DTSTAMP:20260425T140025
CREATED:20241126T184401Z
LAST-MODIFIED:20251113T152706Z
UID:10075288-1764410400-1764432000@thepinestimes.com
SUMMARY:Santa Visits the Toy Shop 2025
DESCRIPTION:Santa will be making his annual stop at The Little Toy Shop in Southern Pines on Friday\, November 28th and Saturday\, November 29th | 10am-4pm each day! The elves will be giving out goodies and there will be sweets and hot cocoa. Bring your camera for photo opportunities. It is free to visit. \n \n 
URL:https://thepinestimes.com/event/santa-visits-the-toy-shop-2025/2025-11-29/
LOCATION:The Little Toy Shop\, 230 SW Broad St\, Southern Pines\, NC\, 28387\, United States
CATEGORIES:Adults,Arts,Bowling,Children,Christmas,Family,Finding Santa,Holiday Events,Live Entertainment,Piney's Kids,Piney's Tiny's,Santa,Shopping,Social,Southern Pines Events
ATTACH;FMTTYPE=image/jpeg:https://thepinestimes.com/wp-content/uploads/The-Little-Toy-Shop-Feature.jpg
END:VEVENT
BEGIN:VEVENT
DTSTART;TZID=America/New_York:20251128T100000
DTEND;TZID=America/New_York:20251128T160000
DTSTAMP:20260425T140025
CREATED:20241126T184401Z
LAST-MODIFIED:20251113T152706Z
UID:10075287-1764324000-1764345600@thepinestimes.com
SUMMARY:Santa Visits the Toy Shop 2025
DESCRIPTION:Santa will be making his annual stop at The Little Toy Shop in Southern Pines on Friday\, November 28th and Saturday\, November 29th | 10am-4pm each day! The elves will be giving out goodies and there will be sweets and hot cocoa. Bring your camera for photo opportunities. It is free to visit. \n \n 
URL:https://thepinestimes.com/event/santa-visits-the-toy-shop-2025/2025-11-28/
LOCATION:The Little Toy Shop\, 230 SW Broad St\, Southern Pines\, NC\, 28387\, United States
CATEGORIES:Adults,Arts,Bowling,Children,Christmas,Family,Finding Santa,Holiday Events,Live Entertainment,Piney's Kids,Piney's Tiny's,Santa,Shopping,Social,Southern Pines Events
ATTACH;FMTTYPE=image/jpeg:https://thepinestimes.com/wp-content/uploads/The-Little-Toy-Shop-Feature.jpg
END:VEVENT
END:VCALENDAR